BEGIN:VCALENDAR
VERSION:2.0
PRODID:-//Diversity Insurance Agency - ECPv6.15.20//NONSGML v1.0//EN
CALSCALE:GREGORIAN
METHOD:PUBLISH
X-WR-CALNAME:Diversity Insurance Agency
X-ORIGINAL-URL:https://diversityins.com
X-WR-CALDESC:Events for Diversity Insurance Agency
REFRESH-INTERVAL;VALUE=DURATION:PT1H
X-Robots-Tag:noindex
X-PUBLISHED-TTL:PT1H
BEGIN:VTIMEZONE
TZID:America/Detroit
BEGIN:DAYLIGHT
TZOFFSETFROM:-0500
TZOFFSETTO:-0400
TZNAME:EDT
DTSTART:20240310T070000
END:DAYLIGHT
BEGIN:STANDARD
TZOFFSETFROM:-0400
TZOFFSETTO:-0500
TZNAME:EST
DTSTART:20241103T060000
END:STANDARD
BEGIN:DAYLIGHT
TZOFFSETFROM:-0500
TZOFFSETTO:-0400
TZNAME:EDT
DTSTART:20250309T070000
END:DAYLIGHT
BEGIN:STANDARD
TZOFFSETFROM:-0400
TZOFFSETTO:-0500
TZNAME:EST
DTSTART:20251102T060000
END:STANDARD
BEGIN:DAYLIGHT
TZOFFSETFROM:-0500
TZOFFSETTO:-0400
TZNAME:EDT
DTSTART:20260308T070000
END:DAYLIGHT
BEGIN:STANDARD
TZOFFSETFROM:-0400
TZOFFSETTO:-0500
TZNAME:EST
DTSTART:20261101T060000
END:STANDARD
END:VTIMEZONE
BEGIN:VEVENT
DTSTART;TZID=America/Detroit:20251117T090000
DTEND;TZID=America/Detroit:20251117T153000
DTSTAMP:20260425T172547
CREATED:20251022T195918Z
LAST-MODIFIED:20251022T195918Z
UID:2741-1763370000-1763393400@diversityins.com
SUMMARY:Jackson Walmart
DESCRIPTION:
URL:https://diversityins.com/event/jackson-walmart-58/
CATEGORIES:Member
END:VEVENT
BEGIN:VEVENT
DTSTART;TZID=America/Detroit:20251117T090000
DTEND;TZID=America/Detroit:20251117T160000
DTSTAMP:20260425T172547
CREATED:20251022T162609Z
LAST-MODIFIED:20251022T195319Z
UID:2684-1763370000-1763395200@diversityins.com
SUMMARY:Burton Walmart
DESCRIPTION:
URL:https://diversityins.com/event/burton-walmart-56/
CATEGORIES:Member
END:VEVENT
BEGIN:VEVENT
DTSTART;TZID=America/Detroit:20251117T090000
DTEND;TZID=America/Detroit:20251117T160000
DTSTAMP:20260425T172547
CREATED:20251022T163029Z
LAST-MODIFIED:20251022T195548Z
UID:2705-1763370000-1763395200@diversityins.com
SUMMARY:Southgate Walmart
DESCRIPTION:
URL:https://diversityins.com/event/southgate-walmart-58/
CATEGORIES:Member
END:VEVENT
BEGIN:VEVENT
DTSTART;TZID=America/Detroit:20251117T090000
DTEND;TZID=America/Detroit:20251117T160000
DTSTAMP:20260425T172547
CREATED:20251022T163502Z
LAST-MODIFIED:20251022T195719Z
UID:2722-1763370000-1763395200@diversityins.com
SUMMARY:Hastings Walmart
DESCRIPTION:
URL:https://diversityins.com/event/hastings-walmart-42/
CATEGORIES:Member
END:VEVENT
BEGIN:VEVENT
DTSTART;TZID=America/Detroit:20251117T090000
DTEND;TZID=America/Detroit:20251117T160000
DTSTAMP:20260425T172547
CREATED:20251022T200520Z
LAST-MODIFIED:20251022T200520Z
UID:2801-1763370000-1763395200@diversityins.com
SUMMARY:Livonia Walmart
DESCRIPTION:
URL:https://diversityins.com/event/livonia-walmart-71/
CATEGORIES:Member
END:VEVENT
BEGIN:VEVENT
DTSTART;TZID=America/Detroit:20251117T090000
DTEND;TZID=America/Detroit:20251117T160000
DTSTAMP:20260425T172547
CREATED:20251022T201119Z
LAST-MODIFIED:20251022T201119Z
UID:2858-1763370000-1763395200@diversityins.com
SUMMARY:Dearborn Walmart
DESCRIPTION:
URL:https://diversityins.com/event/dearborn-walmart-58/
CATEGORIES:Member
END:VEVENT
BEGIN:VEVENT
DTSTART;TZID=America/Detroit:20251117T090000
DTEND;TZID=America/Detroit:20251117T160000
DTSTAMP:20260425T172547
CREATED:20251022T201320Z
LAST-MODIFIED:20251022T201320Z
UID:2879-1763370000-1763395200@diversityins.com
SUMMARY:Jonesville Walmart
DESCRIPTION:
URL:https://diversityins.com/event/jonesville-walmart-55/
CATEGORIES:Member
END:VEVENT
BEGIN:VEVENT
DTSTART;TZID=America/Detroit:20251117T090000
DTEND;TZID=America/Detroit:20251117T160000
DTSTAMP:20260425T172547
CREATED:20251022T201550Z
LAST-MODIFIED:20251022T201550Z
UID:2902-1763370000-1763395200@diversityins.com
SUMMARY:Taylor Walmart
DESCRIPTION:
URL:https://diversityins.com/event/taylor-walmart-70/
CATEGORIES:Member
END:VEVENT
BEGIN:VEVENT
DTSTART;TZID=America/Detroit:20251117T090000
DTEND;TZID=America/Detroit:20251117T170000
DTSTAMP:20260425T172547
CREATED:20251022T200919Z
LAST-MODIFIED:20251022T200919Z
UID:2839-1763370000-1763398800@diversityins.com
SUMMARY:Lapeer Walmart
DESCRIPTION:
URL:https://diversityins.com/event/lapeer-walmart-42/
CATEGORIES:Member
END:VEVENT
BEGIN:VEVENT
DTSTART;TZID=America/Detroit:20251117T090000
DTEND;TZID=America/Detroit:20251117T173000
DTSTAMP:20260425T172547
CREATED:20251022T202511Z
LAST-MODIFIED:20251022T202511Z
UID:2943-1763370000-1763400600@diversityins.com
SUMMARY:Darien Walmart
DESCRIPTION:
URL:https://diversityins.com/event/darien-walmart-30/
CATEGORIES:Member
END:VEVENT
BEGIN:VEVENT
DTSTART;TZID=America/Detroit:20251117T093000
DTEND;TZID=America/Detroit:20251117T160000
DTSTAMP:20260425T172547
CREATED:20251022T200119Z
LAST-MODIFIED:20251022T200119Z
UID:2762-1763371800-1763395200@diversityins.com
SUMMARY:Monroe Walmart
DESCRIPTION:
URL:https://diversityins.com/event/monroe-walmart-63/
CATEGORIES:Member
END:VEVENT
BEGIN:VEVENT
DTSTART;TZID=America/Detroit:20251117T100000
DTEND;TZID=America/Detroit:20251117T160000
DTSTAMP:20260425T172547
CREATED:20251022T200319Z
LAST-MODIFIED:20251022T200319Z
UID:2781-1763373600-1763395200@diversityins.com
SUMMARY:West Branch Walmart
DESCRIPTION:
URL:https://diversityins.com/event/west-branch-walmart-57/
CATEGORIES:Member
END:VEVENT
BEGIN:VEVENT
DTSTART;TZID=America/Detroit:20251117T100000
DTEND;TZID=America/Detroit:20251117T180000
DTSTAMP:20260425T172547
CREATED:20251022T202200Z
LAST-MODIFIED:20251022T202200Z
UID:2924-1763373600-1763402400@diversityins.com
SUMMARY:Joliet Walmart
DESCRIPTION:
URL:https://diversityins.com/event/joliet-walmart-42/
CATEGORIES:Member
END:VEVENT
BEGIN:VEVENT
DTSTART;TZID=America/Detroit:20251117T133000
DTEND;TZID=America/Detroit:20251117T183000
DTSTAMP:20260425T172547
CREATED:20251022T200748Z
LAST-MODIFIED:20251022T200748Z
UID:2822-1763386200-1763404200@diversityins.com
SUMMARY:Flint Walmart
DESCRIPTION:
URL:https://diversityins.com/event/flint-walmart-54/
CATEGORIES:Member
END:VEVENT
END:VCALENDAR