BEGIN:VCALENDAR
VERSION:2.0
PRODID:-//Diversity Insurance Agency - ECPv6.15.20//NONSGML v1.0//EN
CALSCALE:GREGORIAN
METHOD:PUBLISH
X-WR-CALNAME:Diversity Insurance Agency
X-ORIGINAL-URL:https://diversityins.com
X-WR-CALDESC:Events for Diversity Insurance Agency
REFRESH-INTERVAL;VALUE=DURATION:PT1H
X-Robots-Tag:noindex
X-PUBLISHED-TTL:PT1H
BEGIN:VTIMEZONE
TZID:America/Detroit
BEGIN:DAYLIGHT
TZOFFSETFROM:-0500
TZOFFSETTO:-0400
TZNAME:EDT
DTSTART:20240310T070000
END:DAYLIGHT
BEGIN:STANDARD
TZOFFSETFROM:-0400
TZOFFSETTO:-0500
TZNAME:EST
DTSTART:20241103T060000
END:STANDARD
BEGIN:DAYLIGHT
TZOFFSETFROM:-0500
TZOFFSETTO:-0400
TZNAME:EDT
DTSTART:20250309T070000
END:DAYLIGHT
BEGIN:STANDARD
TZOFFSETFROM:-0400
TZOFFSETTO:-0500
TZNAME:EST
DTSTART:20251102T060000
END:STANDARD
BEGIN:DAYLIGHT
TZOFFSETFROM:-0500
TZOFFSETTO:-0400
TZNAME:EDT
DTSTART:20260308T070000
END:DAYLIGHT
BEGIN:STANDARD
TZOFFSETFROM:-0400
TZOFFSETTO:-0500
TZNAME:EST
DTSTART:20261101T060000
END:STANDARD
END:VTIMEZONE
BEGIN:VEVENT
DTSTART;TZID=America/Detroit:20251210T090000
DTEND;TZID=America/Detroit:20251210T130000
DTSTAMP:20260425T064819
CREATED:20251201T150328Z
LAST-MODIFIED:20251201T150328Z
UID:2981-1765357200-1765371600@diversityins.com
SUMMARY:Hastings Walmart
DESCRIPTION:
URL:https://diversityins.com/event/hastings-walmart-54/
CATEGORIES:Member
END:VEVENT
BEGIN:VEVENT
DTSTART;TZID=America/Detroit:20251210T090000
DTEND;TZID=America/Detroit:20251210T160000
DTSTAMP:20260425T064819
CREATED:20251201T150128Z
LAST-MODIFIED:20251201T150128Z
UID:2963-1765357200-1765382400@diversityins.com
SUMMARY:Burton Walmart
DESCRIPTION:
URL:https://diversityins.com/event/burton-walmart-74/
CATEGORIES:Member
END:VEVENT
BEGIN:VEVENT
DTSTART;TZID=America/Detroit:20251210T090000
DTEND;TZID=America/Detroit:20251210T160000
DTSTAMP:20260425T064819
CREATED:20251201T150228Z
LAST-MODIFIED:20251201T150228Z
UID:2972-1765357200-1765382400@diversityins.com
SUMMARY:Southgate Walmart
DESCRIPTION:
URL:https://diversityins.com/event/southgate-walmart-75/
CATEGORIES:Member
END:VEVENT
BEGIN:VEVENT
DTSTART;TZID=America/Detroit:20251210T090000
DTEND;TZID=America/Detroit:20251210T160000
DTSTAMP:20260425T064819
CREATED:20251201T150728Z
LAST-MODIFIED:20251201T150728Z
UID:3021-1765357200-1765382400@diversityins.com
SUMMARY:Livonia Walmart
DESCRIPTION:
URL:https://diversityins.com/event/livonia-walmart-90/
CATEGORIES:Member
END:VEVENT
BEGIN:VEVENT
DTSTART;TZID=America/Detroit:20251210T090000
DTEND;TZID=America/Detroit:20251210T160000
DTSTAMP:20260425T064819
CREATED:20251201T150856Z
LAST-MODIFIED:20251201T150856Z
UID:3033-1765357200-1765382400@diversityins.com
SUMMARY:Flint Walmart
DESCRIPTION:
URL:https://diversityins.com/event/flint-walmart-72/
CATEGORIES:Member
END:VEVENT
BEGIN:VEVENT
DTSTART;TZID=America/Detroit:20251210T090000
DTEND;TZID=America/Detroit:20251210T160000
DTSTAMP:20260425T064819
CREATED:20251201T150956Z
LAST-MODIFIED:20251201T150956Z
UID:3043-1765357200-1765382400@diversityins.com
SUMMARY:Dearborn Walmart
DESCRIPTION:
URL:https://diversityins.com/event/dearborn-walmart-76/
CATEGORIES:Member
END:VEVENT
BEGIN:VEVENT
DTSTART;TZID=America/Detroit:20251210T090000
DTEND;TZID=America/Detroit:20251210T160000
DTSTAMP:20260425T064819
CREATED:20251201T151057Z
LAST-MODIFIED:20251201T151057Z
UID:3054-1765357200-1765382400@diversityins.com
SUMMARY:Jonesville Walmart
DESCRIPTION:
URL:https://diversityins.com/event/jonesville-walmart-72/
CATEGORIES:Member
END:VEVENT
BEGIN:VEVENT
DTSTART;TZID=America/Detroit:20251210T090000
DTEND;TZID=America/Detroit:20251210T160000
DTSTAMP:20260425T064819
CREATED:20251201T151157Z
LAST-MODIFIED:20251201T151157Z
UID:3064-1765357200-1765382400@diversityins.com
SUMMARY:Taylor Walmart
DESCRIPTION:
URL:https://diversityins.com/event/taylor-walmart-90/
CATEGORIES:Member
END:VEVENT
BEGIN:VEVENT
DTSTART;TZID=America/Detroit:20251210T090000
DTEND;TZID=America/Detroit:20251210T173000
DTSTAMP:20260425T064819
CREATED:20251201T151359Z
LAST-MODIFIED:20251201T151359Z
UID:3087-1765357200-1765387800@diversityins.com
SUMMARY:Darien Walmart
DESCRIPTION:
URL:https://diversityins.com/event/darien-walmart-45/
CATEGORIES:Member
END:VEVENT
BEGIN:VEVENT
DTSTART;TZID=America/Detroit:20251210T093000
DTEND;TZID=America/Detroit:20251210T143000
DTSTAMP:20260425T064819
CREATED:20251201T150428Z
LAST-MODIFIED:20251201T150428Z
UID:2991-1765359000-1765377000@diversityins.com
SUMMARY:Jackson Walmart
DESCRIPTION:
URL:https://diversityins.com/event/jackson-walmart-76/
CATEGORIES:Member
END:VEVENT
BEGIN:VEVENT
DTSTART;TZID=America/Detroit:20251210T093000
DTEND;TZID=America/Detroit:20251210T143000
DTSTAMP:20260425T064819
CREATED:20251201T150528Z
LAST-MODIFIED:20251201T150528Z
UID:3001-1765359000-1765377000@diversityins.com
SUMMARY:Monroe Walmart
DESCRIPTION:
URL:https://diversityins.com/event/monroe-walmart-80/
CATEGORIES:Member
END:VEVENT
BEGIN:VEVENT
DTSTART;TZID=America/Detroit:20251210T100000
DTEND;TZID=America/Detroit:20251210T160000
DTSTAMP:20260425T064819
CREATED:20251201T150627Z
LAST-MODIFIED:20251201T150627Z
UID:3010-1765360800-1765382400@diversityins.com
SUMMARY:West Branch Walmart
DESCRIPTION:
URL:https://diversityins.com/event/west-branch-walmart-72/
CATEGORIES:Member
END:VEVENT
END:VCALENDAR