BEGIN:VCALENDAR
VERSION:2.0
PRODID:-//Diversity Insurance Agency - ECPv6.15.20//NONSGML v1.0//EN
CALSCALE:GREGORIAN
METHOD:PUBLISH
X-WR-CALNAME:Diversity Insurance Agency
X-ORIGINAL-URL:https://diversityins.com
X-WR-CALDESC:Events for Diversity Insurance Agency
REFRESH-INTERVAL;VALUE=DURATION:PT1H
X-Robots-Tag:noindex
X-PUBLISHED-TTL:PT1H
BEGIN:VTIMEZONE
TZID:America/Detroit
BEGIN:DAYLIGHT
TZOFFSETFROM:-0500
TZOFFSETTO:-0400
TZNAME:EDT
DTSTART:20250309T070000
END:DAYLIGHT
BEGIN:STANDARD
TZOFFSETFROM:-0400
TZOFFSETTO:-0500
TZNAME:EST
DTSTART:20251102T060000
END:STANDARD
BEGIN:DAYLIGHT
TZOFFSETFROM:-0500
TZOFFSETTO:-0400
TZNAME:EDT
DTSTART:20260308T070000
END:DAYLIGHT
BEGIN:STANDARD
TZOFFSETFROM:-0400
TZOFFSETTO:-0500
TZNAME:EST
DTSTART:20261101T060000
END:STANDARD
BEGIN:DAYLIGHT
TZOFFSETFROM:-0500
TZOFFSETTO:-0400
TZNAME:EDT
DTSTART:20270314T070000
END:DAYLIGHT
BEGIN:STANDARD
TZOFFSETFROM:-0400
TZOFFSETTO:-0500
TZNAME:EST
DTSTART:20271107T060000
END:STANDARD
END:VTIMEZONE
BEGIN:VEVENT
DTSTART;TZID=America/Detroit:20260117T090000
DTEND;TZID=America/Detroit:20260117T130000
DTSTAMP:20260424T140144
CREATED:20260107T165343Z
LAST-MODIFIED:20260107T165411Z
UID:3132-1768640400-1768654800@diversityins.com
SUMMARY:Country Club Hills Walmart
DESCRIPTION:
URL:https://diversityins.com/event/country-club-hills-walmart-34/
CATEGORIES:Member
END:VEVENT
BEGIN:VEVENT
DTSTART;TZID=America/Detroit:20260117T100000
DTEND;TZID=America/Detroit:20260117T140000
DTSTAMP:20260424T140144
CREATED:20260107T165141Z
LAST-MODIFIED:20260107T165141Z
UID:3114-1768644000-1768658400@diversityins.com
SUMMARY:Burton Walmart
DESCRIPTION:
URL:https://diversityins.com/event/burton-walmart-85/
CATEGORIES:Member
END:VEVENT
BEGIN:VEVENT
DTSTART;TZID=America/Detroit:20260117T100000
DTEND;TZID=America/Detroit:20260117T140000
DTSTAMP:20260424T140144
CREATED:20260107T165743Z
LAST-MODIFIED:20260107T165812Z
UID:3153-1768644000-1768658400@diversityins.com
SUMMARY:Dearborn Walmart
DESCRIPTION:
URL:https://diversityins.com/event/dearborn-walmart-90/
CATEGORIES:Member
END:VEVENT
BEGIN:VEVENT
DTSTART;TZID=America/Detroit:20260117T100000
DTEND;TZID=America/Detroit:20260117T140000
DTSTAMP:20260424T140144
CREATED:20260107T170241Z
LAST-MODIFIED:20260107T170310Z
UID:3174-1768644000-1768658400@diversityins.com
SUMMARY:Flint Walmart
DESCRIPTION:
URL:https://diversityins.com/event/flint-walmart-82/
CATEGORIES:Member
END:VEVENT
BEGIN:VEVENT
DTSTART;TZID=America/Detroit:20260117T100000
DTEND;TZID=America/Detroit:20260117T140000
DTSTAMP:20260424T140144
CREATED:20260107T170943Z
LAST-MODIFIED:20260107T170943Z
UID:3212-1768644000-1768658400@diversityins.com
SUMMARY:Livonia Walmart
DESCRIPTION:
URL:https://diversityins.com/event/livonia-walmart-104/
CATEGORIES:Member
END:VEVENT
END:VCALENDAR