BEGIN:VCALENDAR
VERSION:2.0
PRODID:-//Diversity Insurance Agency - ECPv6.15.20//NONSGML v1.0//EN
CALSCALE:GREGORIAN
METHOD:PUBLISH
X-ORIGINAL-URL:https://diversityins.com
X-WR-CALDESC:Events for Diversity Insurance Agency
REFRESH-INTERVAL;VALUE=DURATION:PT1H
X-Robots-Tag:noindex
X-PUBLISHED-TTL:PT1H
BEGIN:VTIMEZONE
TZID:America/Detroit
BEGIN:DAYLIGHT
TZOFFSETFROM:-0500
TZOFFSETTO:-0400
TZNAME:EDT
DTSTART:20250309T070000
END:DAYLIGHT
BEGIN:STANDARD
TZOFFSETFROM:-0400
TZOFFSETTO:-0500
TZNAME:EST
DTSTART:20251102T060000
END:STANDARD
BEGIN:DAYLIGHT
TZOFFSETFROM:-0500
TZOFFSETTO:-0400
TZNAME:EDT
DTSTART:20260308T070000
END:DAYLIGHT
BEGIN:STANDARD
TZOFFSETFROM:-0400
TZOFFSETTO:-0500
TZNAME:EST
DTSTART:20261101T060000
END:STANDARD
BEGIN:DAYLIGHT
TZOFFSETFROM:-0500
TZOFFSETTO:-0400
TZNAME:EDT
DTSTART:20270314T070000
END:DAYLIGHT
BEGIN:STANDARD
TZOFFSETFROM:-0400
TZOFFSETTO:-0500
TZNAME:EST
DTSTART:20271107T060000
END:STANDARD
END:VTIMEZONE
BEGIN:VEVENT
DTSTART;TZID=America/Detroit:20260303T090000
DTEND;TZID=America/Detroit:20260303T163000
DTSTAMP:20260424T035916
CREATED:20260224T144808Z
LAST-MODIFIED:20260224T144808Z
UID:3987-1772528400-1772555400@diversityins.com
SUMMARY:Darien Walmart
DESCRIPTION:Have questions about Medicare or ACA plans? Visit our kiosk near the front entrance of Walmart during our scheduled hours. We’re happy to help!
URL:https://diversityins.com/event/darien-walmart-101/
CATEGORIES:Member
END:VEVENT
BEGIN:VEVENT
DTSTART;TZID=America/Detroit:20260303T090000
DTEND;TZID=America/Detroit:20260303T170000
DTSTAMP:20260424T035916
CREATED:20260224T144338Z
LAST-MODIFIED:20260224T144338Z
UID:3961-1772528400-1772557200@diversityins.com
SUMMARY:Country Club Hills Walmart
DESCRIPTION:Have questions about Medicare or ACA plans? Visit our kiosk near the front entrance of Walmart during our scheduled hours. We’re happy to help!
URL:https://diversityins.com/event/country-club-hills-walmart-87/
CATEGORIES:Member
END:VEVENT
BEGIN:VEVENT
DTSTART;TZID=America/Detroit:20260303T093000
DTEND;TZID=America/Detroit:20260303T143000
DTSTAMP:20260424T035916
CREATED:20260224T142755Z
LAST-MODIFIED:20260224T142755Z
UID:3819-1772530200-1772548200@diversityins.com
SUMMARY:Jackson Walmart
DESCRIPTION:Have questions about Medicare or ACA plans? Visit our kiosk near the front entrance of Walmart during our scheduled hours. We’re happy to help!
URL:https://diversityins.com/event/jackson-walmart-127/
CATEGORIES:Member
END:VEVENT
BEGIN:VEVENT
DTSTART;TZID=America/Detroit:20260303T093000
DTEND;TZID=America/Detroit:20260303T143000
DTSTAMP:20260424T035916
CREATED:20260224T142848Z
LAST-MODIFIED:20260224T142848Z
UID:3837-1772530200-1772548200@diversityins.com
SUMMARY:Monroe Walmart
DESCRIPTION:Have questions about Medicare or ACA plans? Visit our kiosk near the front entrance of Walmart during our scheduled hours. We’re happy to help!
URL:https://diversityins.com/event/monroe-walmart-121/
CATEGORIES:Member
END:VEVENT
BEGIN:VEVENT
DTSTART;TZID=America/Detroit:20260303T100000
DTEND;TZID=America/Detroit:20260303T150000
DTSTAMP:20260424T035916
CREATED:20260224T141936Z
LAST-MODIFIED:20260224T141936Z
UID:3765-1772532000-1772550000@diversityins.com
SUMMARY:Burton Walmart
DESCRIPTION:Have questions about Medicare or ACA plans? Visit our kiosk near the front entrance of Walmart during our scheduled hours. We’re happy to help!
URL:https://diversityins.com/event/burton-walmart-147/
CATEGORIES:Member
END:VEVENT
BEGIN:VEVENT
DTSTART;TZID=America/Detroit:20260303T100000
DTEND;TZID=America/Detroit:20260303T150000
DTSTAMP:20260424T035916
CREATED:20260224T142535Z
LAST-MODIFIED:20260224T142535Z
UID:3792-1772532000-1772550000@diversityins.com
SUMMARY:Southgate Walmart
DESCRIPTION:Have questions about Medicare or ACA plans? Visit our kiosk near the front entrance of Walmart during our scheduled hours. We’re happy to help!
URL:https://diversityins.com/event/southgate-walmart-127/
CATEGORIES:Member
END:VEVENT
BEGIN:VEVENT
DTSTART;TZID=America/Detroit:20260303T100000
DTEND;TZID=America/Detroit:20260303T150000
DTSTAMP:20260424T035916
CREATED:20260224T143338Z
LAST-MODIFIED:20260224T143338Z
UID:3861-1772532000-1772550000@diversityins.com
SUMMARY:Livonia Walmart
DESCRIPTION:Have questions about Medicare or ACA plans? Visit our kiosk near the front entrance of Walmart during our scheduled hours. We’re happy to help!
URL:https://diversityins.com/event/livonia-walmart-154/
CATEGORIES:Member
END:VEVENT
BEGIN:VEVENT
DTSTART;TZID=America/Detroit:20260303T100000
DTEND;TZID=America/Detroit:20260303T150000
DTSTAMP:20260424T035916
CREATED:20260224T143608Z
LAST-MODIFIED:20260224T143608Z
UID:3886-1772532000-1772550000@diversityins.com
SUMMARY:Flint Walmart
DESCRIPTION:Have questions about Medicare or ACA plans? Visit our kiosk near the front entrance of Walmart during our scheduled hours. We’re happy to help!
URL:https://diversityins.com/event/flint-walmart-142/
CATEGORIES:Member
END:VEVENT
BEGIN:VEVENT
DTSTART;TZID=America/Detroit:20260303T100000
DTEND;TZID=America/Detroit:20260303T150000
DTSTAMP:20260424T035916
CREATED:20260224T143837Z
LAST-MODIFIED:20260224T143837Z
UID:3910-1772532000-1772550000@diversityins.com
SUMMARY:Dearborn Walmart
DESCRIPTION:Have questions about Medicare or ACA plans? Visit our kiosk near the front entrance of Walmart during our scheduled hours. We’re happy to help!
URL:https://diversityins.com/event/dearborn-walmart-151/
CATEGORIES:Member
END:VEVENT
END:VCALENDAR