BEGIN:VCALENDAR
VERSION:2.0
PRODID:-//Diversity Insurance Agency - ECPv6.15.20//NONSGML v1.0//EN
CALSCALE:GREGORIAN
METHOD:PUBLISH
X-WR-CALNAME:Diversity Insurance Agency
X-ORIGINAL-URL:https://diversityins.com
X-WR-CALDESC:Events for Diversity Insurance Agency
REFRESH-INTERVAL;VALUE=DURATION:PT1H
X-Robots-Tag:noindex
X-PUBLISHED-TTL:PT1H
BEGIN:VTIMEZONE
TZID:America/Detroit
BEGIN:DAYLIGHT
TZOFFSETFROM:-0500
TZOFFSETTO:-0400
TZNAME:EDT
DTSTART:20250309T070000
END:DAYLIGHT
BEGIN:STANDARD
TZOFFSETFROM:-0400
TZOFFSETTO:-0500
TZNAME:EST
DTSTART:20251102T060000
END:STANDARD
BEGIN:DAYLIGHT
TZOFFSETFROM:-0500
TZOFFSETTO:-0400
TZNAME:EDT
DTSTART:20260308T070000
END:DAYLIGHT
BEGIN:STANDARD
TZOFFSETFROM:-0400
TZOFFSETTO:-0500
TZNAME:EST
DTSTART:20261101T060000
END:STANDARD
BEGIN:DAYLIGHT
TZOFFSETFROM:-0500
TZOFFSETTO:-0400
TZNAME:EDT
DTSTART:20270314T070000
END:DAYLIGHT
BEGIN:STANDARD
TZOFFSETFROM:-0400
TZOFFSETTO:-0500
TZNAME:EST
DTSTART:20271107T060000
END:STANDARD
END:VTIMEZONE
BEGIN:VEVENT
DTSTART;TZID=America/Detroit:20260224T090000
DTEND;TZID=America/Detroit:20260224T160000
DTSTAMP:20260424T040629
CREATED:20260128T175815Z
LAST-MODIFIED:20260209T183851Z
UID:3583-1771923600-1771948800@diversityins.com
SUMMARY:West Branch Walmart
DESCRIPTION:Have questions about Medicare or ACA plans? Visit our kiosk near the front entrance of Walmart during our scheduled hours. We’re happy to help!
URL:https://diversityins.com/event/west-branch-walmart-108/
CATEGORIES:Member
END:VEVENT
BEGIN:VEVENT
DTSTART;TZID=America/Detroit:20260224T090000
DTEND;TZID=America/Detroit:20260224T160000
DTSTAMP:20260424T040629
CREATED:20260128T181806Z
LAST-MODIFIED:20260209T200701Z
UID:3708-1771923600-1771948800@diversityins.com
SUMMARY:Country Club Hills Walmart
DESCRIPTION:Have questions about Medicare or ACA plans? Visit our kiosk near the front entrance of Walmart during our scheduled hours. We’re happy to help!
URL:https://diversityins.com/event/country-club-hills-walmart-81/
CATEGORIES:Member
END:VEVENT
BEGIN:VEVENT
DTSTART;TZID=America/Detroit:20260224T093000
DTEND;TZID=America/Detroit:20260224T143000
DTSTAMP:20260424T040629
CREATED:20260128T175303Z
LAST-MODIFIED:20260209T180236Z
UID:3548-1771925400-1771943400@diversityins.com
SUMMARY:Jackson Walmart
DESCRIPTION:Have questions about Medicare or ACA plans? Visit our kiosk near the front entrance of Walmart during our scheduled hours. We’re happy to help!
URL:https://diversityins.com/event/jackson-walmart-123/
CATEGORIES:Member
END:VEVENT
BEGIN:VEVENT
DTSTART;TZID=America/Detroit:20260224T093000
DTEND;TZID=America/Detroit:20260224T143000
DTSTAMP:20260424T040629
CREATED:20260128T175434Z
LAST-MODIFIED:20260209T180837Z
UID:3564-1771925400-1771943400@diversityins.com
SUMMARY:Monroe Walmart
DESCRIPTION:Have questions about Medicare or ACA plans? Visit our kiosk near the front entrance of Walmart during our scheduled hours. We’re happy to help!
URL:https://diversityins.com/event/monroe-walmart-111/
CATEGORIES:Member
END:VEVENT
BEGIN:VEVENT
DTSTART;TZID=America/Detroit:20260224T100000
DTEND;TZID=America/Detroit:20260224T150000
DTSTAMP:20260424T040629
CREATED:20260128T174029Z
LAST-MODIFIED:20260209T174932Z
UID:3506-1771927200-1771945200@diversityins.com
SUMMARY:Burton Walmart
DESCRIPTION:Have questions about Medicare or ACA plans? Visit our kiosk near the front entrance of Walmart during our scheduled hours. We’re happy to help!
URL:https://diversityins.com/event/burton-walmart-141/
CATEGORIES:Member
END:VEVENT
BEGIN:VEVENT
DTSTART;TZID=America/Detroit:20260224T100000
DTEND;TZID=America/Detroit:20260224T150000
DTSTAMP:20260424T040629
CREATED:20260128T180223Z
LAST-MODIFIED:20260209T185114Z
UID:3606-1771927200-1771945200@diversityins.com
SUMMARY:Livonia Walmart
DESCRIPTION:Have questions about Medicare or ACA plans? Visit our kiosk near the front entrance of Walmart during our scheduled hours. We’re happy to help!
URL:https://diversityins.com/event/livonia-walmart-148/
CATEGORIES:Member
END:VEVENT
BEGIN:VEVENT
DTSTART;TZID=America/Detroit:20260224T100000
DTEND;TZID=America/Detroit:20260224T150000
DTSTAMP:20260424T040629
CREATED:20260128T180519Z
LAST-MODIFIED:20260209T185811Z
UID:3630-1771927200-1771945200@diversityins.com
SUMMARY:Flint Walmart
DESCRIPTION:Have questions about Medicare or ACA plans? Visit our kiosk near the front entrance of Walmart during our scheduled hours. We’re happy to help!
URL:https://diversityins.com/event/flint-walmart-136/
CATEGORIES:Member
END:VEVENT
BEGIN:VEVENT
DTSTART;TZID=America/Detroit:20260224T100000
DTEND;TZID=America/Detroit:20260224T150000
DTSTAMP:20260424T040629
CREATED:20260128T181005Z
LAST-MODIFIED:20260209T194511Z
UID:3654-1771927200-1771945200@diversityins.com
SUMMARY:Dearborn Walmart
DESCRIPTION:Have questions about Medicare or ACA plans? Visit our kiosk near the front entrance of Walmart during our scheduled hours. We’re happy to help!
URL:https://diversityins.com/event/dearborn-walmart-145/
CATEGORIES:Member
END:VEVENT
BEGIN:VEVENT
DTSTART;TZID=America/Detroit:20260224T100000
DTEND;TZID=America/Detroit:20260224T150000
DTSTAMP:20260424T040629
CREATED:20260128T181522Z
LAST-MODIFIED:20260209T195918Z
UID:3684-1771927200-1771945200@diversityins.com
SUMMARY:Taylor Walmart
DESCRIPTION:Have questions about Medicare or ACA plans? Visit our kiosk near the front entrance of Walmart during our scheduled hours. We’re happy to help!
URL:https://diversityins.com/event/taylor-walmart-148/
CATEGORIES:Member
END:VEVENT
BEGIN:VEVENT
DTSTART;TZID=America/Detroit:20260224T100000
DTEND;TZID=America/Detroit:20260224T183000
DTSTAMP:20260424T040629
CREATED:20260128T182040Z
LAST-MODIFIED:20260209T201533Z
UID:3733-1771927200-1771957800@diversityins.com
SUMMARY:Darien Walmart
DESCRIPTION:Have questions about Medicare or ACA plans? Visit our kiosk near the front entrance of Walmart during our scheduled hours. We’re happy to help!
URL:https://diversityins.com/event/darien-walmart-95/
CATEGORIES:Member
END:VEVENT
BEGIN:VEVENT
DTSTART;TZID=America/Detroit:20260224T140000
DTEND;TZID=America/Detroit:20260224T140000
DTSTAMP:20260424T040629
CREATED:20260128T174903Z
LAST-MODIFIED:20260209T175550Z
UID:3530-1771941600-1771941600@diversityins.com
SUMMARY:Southgate Walmart
DESCRIPTION:Have questions about Medicare or ACA plans? Visit our kiosk near the front entrance of Walmart during our scheduled hours. We’re happy to help!
URL:https://diversityins.com/event/southgate-walmart-121/
CATEGORIES:Member
END:VEVENT
END:VCALENDAR