BEGIN:VCALENDAR
VERSION:2.0
PRODID:-//Diversity Insurance Agency - ECPv6.15.20//NONSGML v1.0//EN
CALSCALE:GREGORIAN
METHOD:PUBLISH
X-ORIGINAL-URL:https://diversityins.com
X-WR-CALDESC:Events for Diversity Insurance Agency
REFRESH-INTERVAL;VALUE=DURATION:PT1H
X-Robots-Tag:noindex
X-PUBLISHED-TTL:PT1H
BEGIN:VTIMEZONE
TZID:America/Detroit
BEGIN:DAYLIGHT
TZOFFSETFROM:-0500
TZOFFSETTO:-0400
TZNAME:EDT
DTSTART:20250309T070000
END:DAYLIGHT
BEGIN:STANDARD
TZOFFSETFROM:-0400
TZOFFSETTO:-0500
TZNAME:EST
DTSTART:20251102T060000
END:STANDARD
BEGIN:DAYLIGHT
TZOFFSETFROM:-0500
TZOFFSETTO:-0400
TZNAME:EDT
DTSTART:20260308T070000
END:DAYLIGHT
BEGIN:STANDARD
TZOFFSETFROM:-0400
TZOFFSETTO:-0500
TZNAME:EST
DTSTART:20261101T060000
END:STANDARD
BEGIN:DAYLIGHT
TZOFFSETFROM:-0500
TZOFFSETTO:-0400
TZNAME:EDT
DTSTART:20270314T070000
END:DAYLIGHT
BEGIN:STANDARD
TZOFFSETFROM:-0400
TZOFFSETTO:-0500
TZNAME:EST
DTSTART:20271107T060000
END:STANDARD
END:VTIMEZONE
BEGIN:VEVENT
DTSTART;TZID=America/Detroit:20260313T080000
DTEND;TZID=America/Detroit:20260313T180000
DTSTAMP:20260424T164335
CREATED:20260224T144437Z
LAST-MODIFIED:20260224T144437Z
UID:3970-1773388800-1773424800@diversityins.com
SUMMARY:Country Club Hills Walmart
DESCRIPTION:Have questions about Medicare or ACA plans? Visit our kiosk near the front entrance of Walmart during our scheduled hours. We’re happy to help!
URL:https://diversityins.com/event/country-club-hills-walmart-96/
CATEGORIES:Member
END:VEVENT
BEGIN:VEVENT
DTSTART;TZID=America/Detroit:20260313T090000
DTEND;TZID=America/Detroit:20260313T163000
DTSTAMP:20260424T164335
CREATED:20260224T144838Z
LAST-MODIFIED:20260224T144838Z
UID:3996-1773392400-1773419400@diversityins.com
SUMMARY:Darien Walmart
DESCRIPTION:Have questions about Medicare or ACA plans? Visit our kiosk near the front entrance of Walmart during our scheduled hours. We’re happy to help!
URL:https://diversityins.com/event/darien-walmart-110/
CATEGORIES:Member
END:VEVENT
BEGIN:VEVENT
DTSTART;TZID=America/Detroit:20260313T100000
DTEND;TZID=America/Detroit:20260313T140000
DTSTAMP:20260424T164335
CREATED:20260224T144207Z
LAST-MODIFIED:20260224T144207Z
UID:3943-1773396000-1773410400@diversityins.com
SUMMARY:Taylor Walmart
DESCRIPTION:Have questions about Medicare or ACA plans? Visit our kiosk near the front entrance of Walmart during our scheduled hours. We’re happy to help!
URL:https://diversityins.com/event/taylor-walmart-163/
CATEGORIES:Member
END:VEVENT
BEGIN:VEVENT
DTSTART;TZID=America/Detroit:20260313T100000
DTEND;TZID=America/Detroit:20260313T150000
DTSTAMP:20260424T164335
CREATED:20260224T142012Z
LAST-MODIFIED:20260224T142012Z
UID:3774-1773396000-1773414000@diversityins.com
SUMMARY:Burton Walmart
DESCRIPTION:Have questions about Medicare or ACA plans? Visit our kiosk near the front entrance of Walmart during our scheduled hours. We’re happy to help!
URL:https://diversityins.com/event/burton-walmart-156/
CATEGORIES:Member
END:VEVENT
BEGIN:VEVENT
DTSTART;TZID=America/Detroit:20260313T100000
DTEND;TZID=America/Detroit:20260313T150000
DTSTAMP:20260424T164335
CREATED:20260224T142714Z
LAST-MODIFIED:20260224T142714Z
UID:3802-1773396000-1773414000@diversityins.com
SUMMARY:Southgate Walmart
DESCRIPTION:Have questions about Medicare or ACA plans? Visit our kiosk near the front entrance of Walmart during our scheduled hours. We’re happy to help!
URL:https://diversityins.com/event/southgate-walmart-136/
CATEGORIES:Member
END:VEVENT
BEGIN:VEVENT
DTSTART;TZID=America/Detroit:20260313T100000
DTEND;TZID=America/Detroit:20260313T150000
DTSTAMP:20260424T164335
CREATED:20260224T143437Z
LAST-MODIFIED:20260224T143437Z
UID:3870-1773396000-1773414000@diversityins.com
SUMMARY:Livonia Walmart
DESCRIPTION:Have questions about Medicare or ACA plans? Visit our kiosk near the front entrance of Walmart during our scheduled hours. We’re happy to help!
URL:https://diversityins.com/event/livonia-walmart-163/
CATEGORIES:Member
END:VEVENT
BEGIN:VEVENT
DTSTART;TZID=America/Detroit:20260313T100000
DTEND;TZID=America/Detroit:20260313T150000
DTSTAMP:20260424T164335
CREATED:20260224T143708Z
LAST-MODIFIED:20260224T143708Z
UID:3895-1773396000-1773414000@diversityins.com
SUMMARY:Flint Walmart
DESCRIPTION:Have questions about Medicare or ACA plans? Visit our kiosk near the front entrance of Walmart during our scheduled hours. We’re happy to help!
URL:https://diversityins.com/event/flint-walmart-151/
CATEGORIES:Member
END:VEVENT
BEGIN:VEVENT
DTSTART;TZID=America/Detroit:20260313T100000
DTEND;TZID=America/Detroit:20260313T150000
DTSTAMP:20260424T164335
CREATED:20260224T143936Z
LAST-MODIFIED:20260224T143936Z
UID:3917-1773396000-1773414000@diversityins.com
SUMMARY:Dearborn Walmart
DESCRIPTION:Have questions about Medicare or ACA plans? Visit our kiosk near the front entrance of Walmart during our scheduled hours. We’re happy to help!
URL:https://diversityins.com/event/dearborn-walmart-158/
CATEGORIES:Member
END:VEVENT
END:VCALENDAR