BEGIN:VCALENDAR
VERSION:2.0
PRODID:-//Diversity Insurance Agency - ECPv6.15.20//NONSGML v1.0//EN
CALSCALE:GREGORIAN
METHOD:PUBLISH
X-WR-CALNAME:Diversity Insurance Agency
X-ORIGINAL-URL:https://diversityins.com
X-WR-CALDESC:Events for Diversity Insurance Agency
REFRESH-INTERVAL;VALUE=DURATION:PT1H
X-Robots-Tag:noindex
X-PUBLISHED-TTL:PT1H
BEGIN:VTIMEZONE
TZID:America/Detroit
BEGIN:DAYLIGHT
TZOFFSETFROM:-0500
TZOFFSETTO:-0400
TZNAME:EDT
DTSTART:20250309T070000
END:DAYLIGHT
BEGIN:STANDARD
TZOFFSETFROM:-0400
TZOFFSETTO:-0500
TZNAME:EST
DTSTART:20251102T060000
END:STANDARD
BEGIN:DAYLIGHT
TZOFFSETFROM:-0500
TZOFFSETTO:-0400
TZNAME:EDT
DTSTART:20260308T070000
END:DAYLIGHT
BEGIN:STANDARD
TZOFFSETFROM:-0400
TZOFFSETTO:-0500
TZNAME:EST
DTSTART:20261101T060000
END:STANDARD
BEGIN:DAYLIGHT
TZOFFSETFROM:-0500
TZOFFSETTO:-0400
TZNAME:EDT
DTSTART:20270314T070000
END:DAYLIGHT
BEGIN:STANDARD
TZOFFSETFROM:-0400
TZOFFSETTO:-0500
TZNAME:EST
DTSTART:20271107T060000
END:STANDARD
END:VTIMEZONE
BEGIN:VEVENT
DTSTART;TZID=America/Detroit:20260423T100000
DTEND;TZID=America/Detroit:20260423T150000
DTSTAMP:20260423T184919
CREATED:20260325T183202Z
LAST-MODIFIED:20260325T183202Z
UID:4064-1776938400-1776956400@diversityins.com
SUMMARY:Southgate Walmart
DESCRIPTION:Have questions about Medicare or ACA plans? Visit our kiosk near the front entrance of Walmart during our scheduled hours. We’re happy to help!
URL:https://diversityins.com/event/southgate-walmart-171/
CATEGORIES:Member
END:VEVENT
BEGIN:VEVENT
DTSTART;TZID=America/Detroit:20260423T100000
DTEND;TZID=America/Detroit:20260423T150000
DTSTAMP:20260423T184919
CREATED:20260325T184352Z
LAST-MODIFIED:20260325T184352Z
UID:4090-1776938400-1776956400@diversityins.com
SUMMARY:Livonia Walmart
DESCRIPTION:Have questions about Medicare or ACA plans? Visit our kiosk near the front entrance of Walmart during our scheduled hours. We’re happy to help!
URL:https://diversityins.com/event/livonia-walmart-197/
CATEGORIES:Member
END:VEVENT
BEGIN:VEVENT
DTSTART;TZID=America/Detroit:20260423T100000
DTEND;TZID=America/Detroit:20260423T150000
DTSTAMP:20260423T184919
CREATED:20260325T185359Z
LAST-MODIFIED:20260325T185359Z
UID:4118-1776938400-1776956400@diversityins.com
SUMMARY:Taylor Walmart
DESCRIPTION:Have questions about Medicare or ACA plans? Visit our kiosk near the front entrance of Walmart during our scheduled hours. We’re happy to help!
URL:https://diversityins.com/event/taylor-walmart-201/
CATEGORIES:Member
END:VEVENT
BEGIN:VEVENT
DTSTART;TZID=America/Detroit:20260424T100000
DTEND;TZID=America/Detroit:20260424T140000
DTSTAMP:20260423T184919
CREATED:20260325T185400Z
LAST-MODIFIED:20260325T185400Z
UID:4119-1777024800-1777039200@diversityins.com
SUMMARY:Taylor Walmart
DESCRIPTION:Have questions about Medicare or ACA plans? Visit our kiosk near the front entrance of Walmart during our scheduled hours. We’re happy to help!
URL:https://diversityins.com/event/taylor-walmart-202/
CATEGORIES:Member
END:VEVENT
BEGIN:VEVENT
DTSTART;TZID=America/Detroit:20260424T100000
DTEND;TZID=America/Detroit:20260424T150000
DTSTAMP:20260423T184919
CREATED:20260325T183347Z
LAST-MODIFIED:20260325T183347Z
UID:4065-1777024800-1777042800@diversityins.com
SUMMARY:Southgate Walmart
DESCRIPTION:Have questions about Medicare or ACA plans? Visit our kiosk near the front entrance of Walmart during our scheduled hours. We’re happy to help!
URL:https://diversityins.com/event/southgate-walmart-172/
CATEGORIES:Member
END:VEVENT
BEGIN:VEVENT
DTSTART;TZID=America/Detroit:20260424T100000
DTEND;TZID=America/Detroit:20260424T150000
DTSTAMP:20260423T184919
CREATED:20260325T184353Z
LAST-MODIFIED:20260325T184353Z
UID:4091-1777024800-1777042800@diversityins.com
SUMMARY:Livonia Walmart
DESCRIPTION:Have questions about Medicare or ACA plans? Visit our kiosk near the front entrance of Walmart during our scheduled hours. We’re happy to help!
URL:https://diversityins.com/event/livonia-walmart-198/
CATEGORIES:Member
END:VEVENT
BEGIN:VEVENT
DTSTART;TZID=America/Detroit:20260425T100000
DTEND;TZID=America/Detroit:20260425T140000
DTSTAMP:20260423T184919
CREATED:20260325T183349Z
LAST-MODIFIED:20260325T183349Z
UID:4066-1777111200-1777125600@diversityins.com
SUMMARY:Southgate Walmart
DESCRIPTION:Have questions about Medicare or ACA plans? Visit our kiosk near the front entrance of Walmart during our scheduled hours. We’re happy to help!
URL:https://diversityins.com/event/southgate-walmart-173/
CATEGORIES:Member
END:VEVENT
BEGIN:VEVENT
DTSTART;TZID=America/Detroit:20260425T100000
DTEND;TZID=America/Detroit:20260425T140000
DTSTAMP:20260423T184919
CREATED:20260325T184353Z
LAST-MODIFIED:20260325T184353Z
UID:4092-1777111200-1777125600@diversityins.com
SUMMARY:Livonia Walmart
DESCRIPTION:Have questions about Medicare or ACA plans? Visit our kiosk near the front entrance of Walmart during our scheduled hours. We’re happy to help!
URL:https://diversityins.com/event/livonia-walmart-199/
CATEGORIES:Member
END:VEVENT
BEGIN:VEVENT
DTSTART;TZID=America/Detroit:20260425T100000
DTEND;TZID=America/Detroit:20260425T150000
DTSTAMP:20260423T184919
CREATED:20260325T185558Z
LAST-MODIFIED:20260325T185558Z
UID:4120-1777111200-1777129200@diversityins.com
SUMMARY:Taylor Walmart
DESCRIPTION:Have questions about Medicare or ACA plans? Visit our kiosk near the front entrance of Walmart during our scheduled hours. We’re happy to help!
URL:https://diversityins.com/event/taylor-walmart-203/
CATEGORIES:Member
END:VEVENT
BEGIN:VEVENT
DTSTART;TZID=America/Detroit:20260426T110000
DTEND;TZID=America/Detroit:20260426T150000
DTSTAMP:20260423T184919
CREATED:20260325T185559Z
LAST-MODIFIED:20260325T185559Z
UID:4121-1777201200-1777215600@diversityins.com
SUMMARY:Taylor Walmart
DESCRIPTION:Have questions about Medicare or ACA plans? Visit our kiosk near the front entrance of Walmart during our scheduled hours. We’re happy to help!
URL:https://diversityins.com/event/taylor-walmart-204/
CATEGORIES:Member
END:VEVENT
BEGIN:VEVENT
DTSTART;TZID=America/Detroit:20260427T100000
DTEND;TZID=America/Detroit:20260427T150000
DTSTAMP:20260423T184919
CREATED:20260325T183350Z
LAST-MODIFIED:20260325T183350Z
UID:4067-1777284000-1777302000@diversityins.com
SUMMARY:Southgate Walmart
DESCRIPTION:Have questions about Medicare or ACA plans? Visit our kiosk near the front entrance of Walmart during our scheduled hours. We’re happy to help!
URL:https://diversityins.com/event/southgate-walmart-174/
CATEGORIES:Member
END:VEVENT
BEGIN:VEVENT
DTSTART;TZID=America/Detroit:20260427T100000
DTEND;TZID=America/Detroit:20260427T150000
DTSTAMP:20260423T184919
CREATED:20260325T184354Z
LAST-MODIFIED:20260325T184354Z
UID:4093-1777284000-1777302000@diversityins.com
SUMMARY:Livonia Walmart
DESCRIPTION:Have questions about Medicare or ACA plans? Visit our kiosk near the front entrance of Walmart during our scheduled hours. We’re happy to help!
URL:https://diversityins.com/event/livonia-walmart-200/
CATEGORIES:Member
END:VEVENT
BEGIN:VEVENT
DTSTART;TZID=America/Detroit:20260427T100000
DTEND;TZID=America/Detroit:20260427T150000
DTSTAMP:20260423T184919
CREATED:20260325T185600Z
LAST-MODIFIED:20260325T185600Z
UID:4122-1777284000-1777302000@diversityins.com
SUMMARY:Taylor Walmart
DESCRIPTION:Have questions about Medicare or ACA plans? Visit our kiosk near the front entrance of Walmart during our scheduled hours. We’re happy to help!
URL:https://diversityins.com/event/taylor-walmart-205/
CATEGORIES:Member
END:VEVENT
BEGIN:VEVENT
DTSTART;TZID=America/Detroit:20260428T100000
DTEND;TZID=America/Detroit:20260428T150000
DTSTAMP:20260423T184919
CREATED:20260325T183351Z
LAST-MODIFIED:20260325T183351Z
UID:4068-1777370400-1777388400@diversityins.com
SUMMARY:Southgate Walmart
DESCRIPTION:Have questions about Medicare or ACA plans? Visit our kiosk near the front entrance of Walmart during our scheduled hours. We’re happy to help!
URL:https://diversityins.com/event/southgate-walmart-175/
CATEGORIES:Member
END:VEVENT
BEGIN:VEVENT
DTSTART;TZID=America/Detroit:20260428T100000
DTEND;TZID=America/Detroit:20260428T150000
DTSTAMP:20260423T184919
CREATED:20260325T184355Z
LAST-MODIFIED:20260325T184355Z
UID:4094-1777370400-1777388400@diversityins.com
SUMMARY:Livonia Walmart
DESCRIPTION:Have questions about Medicare or ACA plans? Visit our kiosk near the front entrance of Walmart during our scheduled hours. We’re happy to help!
URL:https://diversityins.com/event/livonia-walmart-201/
CATEGORIES:Member
END:VEVENT
BEGIN:VEVENT
DTSTART;TZID=America/Detroit:20260428T100000
DTEND;TZID=America/Detroit:20260428T150000
DTSTAMP:20260423T184919
CREATED:20260325T185602Z
LAST-MODIFIED:20260325T185602Z
UID:4123-1777370400-1777388400@diversityins.com
SUMMARY:Taylor Walmart
DESCRIPTION:Have questions about Medicare or ACA plans? Visit our kiosk near the front entrance of Walmart during our scheduled hours. We’re happy to help!
URL:https://diversityins.com/event/taylor-walmart-206/
CATEGORIES:Member
END:VEVENT
BEGIN:VEVENT
DTSTART;TZID=America/Detroit:20260429T100000
DTEND;TZID=America/Detroit:20260429T150000
DTSTAMP:20260423T184919
CREATED:20260325T183352Z
LAST-MODIFIED:20260325T183352Z
UID:4069-1777456800-1777474800@diversityins.com
SUMMARY:Southgate Walmart
DESCRIPTION:Have questions about Medicare or ACA plans? Visit our kiosk near the front entrance of Walmart during our scheduled hours. We’re happy to help!
URL:https://diversityins.com/event/southgate-walmart-176/
CATEGORIES:Member
END:VEVENT
BEGIN:VEVENT
DTSTART;TZID=America/Detroit:20260429T100000
DTEND;TZID=America/Detroit:20260429T150000
DTSTAMP:20260423T184919
CREATED:20260325T184553Z
LAST-MODIFIED:20260325T184553Z
UID:4095-1777456800-1777474800@diversityins.com
SUMMARY:Livonia Walmart
DESCRIPTION:Have questions about Medicare or ACA plans? Visit our kiosk near the front entrance of Walmart during our scheduled hours. We’re happy to help!
URL:https://diversityins.com/event/livonia-walmart-202/
CATEGORIES:Member
END:VEVENT
BEGIN:VEVENT
DTSTART;TZID=America/Detroit:20260429T100000
DTEND;TZID=America/Detroit:20260429T150000
DTSTAMP:20260423T184919
CREATED:20260325T185603Z
LAST-MODIFIED:20260325T185603Z
UID:4124-1777456800-1777474800@diversityins.com
SUMMARY:Taylor Walmart
DESCRIPTION:Have questions about Medicare or ACA plans? Visit our kiosk near the front entrance of Walmart during our scheduled hours. We’re happy to help!
URL:https://diversityins.com/event/taylor-walmart-207/
CATEGORIES:Member
END:VEVENT
BEGIN:VEVENT
DTSTART;TZID=America/Detroit:20260430T100000
DTEND;TZID=America/Detroit:20260430T150000
DTSTAMP:20260423T184919
CREATED:20260325T183548Z
LAST-MODIFIED:20260325T183548Z
UID:4070-1777543200-1777561200@diversityins.com
SUMMARY:Southgate Walmart
DESCRIPTION:Have questions about Medicare or ACA plans? Visit our kiosk near the front entrance of Walmart during our scheduled hours. We’re happy to help!
URL:https://diversityins.com/event/southgate-walmart-177/
CATEGORIES:Member
END:VEVENT
BEGIN:VEVENT
DTSTART;TZID=America/Detroit:20260430T100000
DTEND;TZID=America/Detroit:20260430T150000
DTSTAMP:20260423T184919
CREATED:20260325T184554Z
LAST-MODIFIED:20260325T184554Z
UID:4096-1777543200-1777561200@diversityins.com
SUMMARY:Livonia Walmart
DESCRIPTION:Have questions about Medicare or ACA plans? Visit our kiosk near the front entrance of Walmart during our scheduled hours. We’re happy to help!
URL:https://diversityins.com/event/livonia-walmart-203/
CATEGORIES:Member
END:VEVENT
BEGIN:VEVENT
DTSTART;TZID=America/Detroit:20260430T100000
DTEND;TZID=America/Detroit:20260430T150000
DTSTAMP:20260423T184919
CREATED:20260325T185740Z
LAST-MODIFIED:20260325T185740Z
UID:4125-1777543200-1777561200@diversityins.com
SUMMARY:Taylor Walmart
DESCRIPTION:Have questions about Medicare or ACA plans? Visit our kiosk near the front entrance of Walmart during our scheduled hours. We’re happy to help!
URL:https://diversityins.com/event/taylor-walmart-208/
CATEGORIES:Member
END:VEVENT
END:VCALENDAR