BEGIN:VCALENDAR
VERSION:2.0
PRODID:-//Diversity Insurance Agency - ECPv6.15.20//NONSGML v1.0//EN
CALSCALE:GREGORIAN
METHOD:PUBLISH
X-ORIGINAL-URL:https://diversityins.com
X-WR-CALDESC:Events for Diversity Insurance Agency
REFRESH-INTERVAL;VALUE=DURATION:PT1H
X-Robots-Tag:noindex
X-PUBLISHED-TTL:PT1H
BEGIN:VTIMEZONE
TZID:America/Detroit
BEGIN:DAYLIGHT
TZOFFSETFROM:-0500
TZOFFSETTO:-0400
TZNAME:EDT
DTSTART:20250309T070000
END:DAYLIGHT
BEGIN:STANDARD
TZOFFSETFROM:-0400
TZOFFSETTO:-0500
TZNAME:EST
DTSTART:20251102T060000
END:STANDARD
BEGIN:DAYLIGHT
TZOFFSETFROM:-0500
TZOFFSETTO:-0400
TZNAME:EDT
DTSTART:20260308T070000
END:DAYLIGHT
BEGIN:STANDARD
TZOFFSETFROM:-0400
TZOFFSETTO:-0500
TZNAME:EST
DTSTART:20261101T060000
END:STANDARD
BEGIN:DAYLIGHT
TZOFFSETFROM:-0500
TZOFFSETTO:-0400
TZNAME:EDT
DTSTART:20270314T070000
END:DAYLIGHT
BEGIN:STANDARD
TZOFFSETFROM:-0400
TZOFFSETTO:-0500
TZNAME:EST
DTSTART:20271107T060000
END:STANDARD
END:VTIMEZONE
BEGIN:VEVENT
DTSTART;TZID=America/Detroit:20260321T100000
DTEND;TZID=America/Detroit:20260321T140000
DTSTAMP:20260424T114116
CREATED:20260224T143807Z
LAST-MODIFIED:20260224T143807Z
UID:3902-1774087200-1774101600@diversityins.com
SUMMARY:Flint Walmart
DESCRIPTION:Have questions about Medicare or ACA plans? Visit our kiosk near the front entrance of Walmart during our scheduled hours. We’re happy to help!
URL:https://diversityins.com/event/flint-walmart-158/
CATEGORIES:Member
END:VEVENT
BEGIN:VEVENT
DTSTART;TZID=America/Detroit:20260321T100000
DTEND;TZID=America/Detroit:20260321T140000
DTSTAMP:20260424T114116
CREATED:20260224T144007Z
LAST-MODIFIED:20260224T144007Z
UID:3924-1774087200-1774101600@diversityins.com
SUMMARY:Dearborn Walmart
DESCRIPTION:Have questions about Medicare or ACA plans? Visit our kiosk near the front entrance of Walmart during our scheduled hours. We’re happy to help!
URL:https://diversityins.com/event/dearborn-walmart-165/
CATEGORIES:Member
END:VEVENT
BEGIN:VEVENT
DTSTART;TZID=America/Detroit:20260322T100000
DTEND;TZID=America/Detroit:20260322T150000
DTSTAMP:20260424T114116
CREATED:20260224T144937Z
LAST-MODIFIED:20260224T144938Z
UID:4004-1774173600-1774191600@diversityins.com
SUMMARY:Darien Walmart
DESCRIPTION:Have questions about Medicare or ACA plans? Visit our kiosk near the front entrance of Walmart during our scheduled hours. We’re happy to help!
URL:https://diversityins.com/event/darien-walmart-118/
CATEGORIES:Member
END:VEVENT
BEGIN:VEVENT
DTSTART;TZID=America/Detroit:20260322T160000
DTEND;TZID=America/Detroit:20260322T210000
DTSTAMP:20260424T114116
CREATED:20260224T144238Z
LAST-MODIFIED:20260224T144238Z
UID:3951-1774195200-1774213200@diversityins.com
SUMMARY:Taylor Walmart
DESCRIPTION:Have questions about Medicare or ACA plans? Visit our kiosk near the front entrance of Walmart during our scheduled hours. We’re happy to help!
URL:https://diversityins.com/event/taylor-walmart-171/
CATEGORIES:Member
END:VEVENT
BEGIN:VEVENT
DTSTART;TZID=America/Detroit:20260323T090000
DTEND;TZID=America/Detroit:20260323T160000
DTSTAMP:20260424T114116
CREATED:20260224T143337Z
LAST-MODIFIED:20260224T143337Z
UID:3857-1774256400-1774281600@diversityins.com
SUMMARY:West Branch Walmart
DESCRIPTION:Have questions about Medicare or ACA plans? Visit our kiosk near the front entrance of Walmart during our scheduled hours. We’re happy to help!
URL:https://diversityins.com/event/west-branch-walmart-121/
CATEGORIES:Member
END:VEVENT
BEGIN:VEVENT
DTSTART;TZID=America/Detroit:20260323T090000
DTEND;TZID=America/Detroit:20260323T160000
DTSTAMP:20260424T114116
CREATED:20260224T144537Z
LAST-MODIFIED:20260224T144537Z
UID:3978-1774256400-1774281600@diversityins.com
SUMMARY:Country Club Hills Walmart
DESCRIPTION:Have questions about Medicare or ACA plans? Visit our kiosk near the front entrance of Walmart during our scheduled hours. We’re happy to help!
URL:https://diversityins.com/event/country-club-hills-walmart-104/
CATEGORIES:Member
END:VEVENT
BEGIN:VEVENT
DTSTART;TZID=America/Detroit:20260323T090000
DTEND;TZID=America/Detroit:20260323T173000
DTSTAMP:20260424T114116
CREATED:20260224T144938Z
LAST-MODIFIED:20260224T144938Z
UID:4005-1774256400-1774287000@diversityins.com
SUMMARY:Darien Walmart
DESCRIPTION:Have questions about Medicare or ACA plans? Visit our kiosk near the front entrance of Walmart during our scheduled hours. We’re happy to help!
URL:https://diversityins.com/event/darien-walmart-119/
CATEGORIES:Member
END:VEVENT
BEGIN:VEVENT
DTSTART;TZID=America/Detroit:20260323T093000
DTEND;TZID=America/Detroit:20260323T143000
DTSTAMP:20260424T114116
CREATED:20260224T142826Z
LAST-MODIFIED:20260224T143208Z
UID:3830-1774258200-1774276200@diversityins.com
SUMMARY:Monroe Walmart
DESCRIPTION:Have questions about Medicare or ACA plans? Visit our kiosk near the front entrance of Walmart during our scheduled hours. We’re happy to help!
URL:https://diversityins.com/event/monroe-walmart-114/
CATEGORIES:Member
END:VEVENT
BEGIN:VEVENT
DTSTART;TZID=America/Detroit:20260323T100000
DTEND;TZID=America/Detroit:20260323T150000
DTSTAMP:20260424T114116
CREATED:20260224T142153Z
LAST-MODIFIED:20260224T142153Z
UID:3782-1774260000-1774278000@diversityins.com
SUMMARY:Burton Walmart
DESCRIPTION:Have questions about Medicare or ACA plans? Visit our kiosk near the front entrance of Walmart during our scheduled hours. We’re happy to help!
URL:https://diversityins.com/event/burton-walmart-164/
CATEGORIES:Member
END:VEVENT
BEGIN:VEVENT
DTSTART;TZID=America/Detroit:20260323T100000
DTEND;TZID=America/Detroit:20260323T150000
DTSTAMP:20260424T114116
CREATED:20260224T142737Z
LAST-MODIFIED:20260224T142737Z
UID:3810-1774260000-1774278000@diversityins.com
SUMMARY:Southgate Walmart
DESCRIPTION:Have questions about Medicare or ACA plans? Visit our kiosk near the front entrance of Walmart during our scheduled hours. We’re happy to help!
URL:https://diversityins.com/event/southgate-walmart-144/
CATEGORIES:Member
END:VEVENT
BEGIN:VEVENT
DTSTART;TZID=America/Detroit:20260323T100000
DTEND;TZID=America/Detroit:20260323T150000
DTSTAMP:20260424T114116
CREATED:20260224T143536Z
LAST-MODIFIED:20260224T143536Z
UID:3877-1774260000-1774278000@diversityins.com
SUMMARY:Livonia Walmart
DESCRIPTION:Have questions about Medicare or ACA plans? Visit our kiosk near the front entrance of Walmart during our scheduled hours. We’re happy to help!
URL:https://diversityins.com/event/livonia-walmart-170/
CATEGORIES:Member
END:VEVENT
BEGIN:VEVENT
DTSTART;TZID=America/Detroit:20260323T100000
DTEND;TZID=America/Detroit:20260323T150000
DTSTAMP:20260424T114116
CREATED:20260224T143807Z
LAST-MODIFIED:20260224T143807Z
UID:3903-1774260000-1774278000@diversityins.com
SUMMARY:Flint Walmart
DESCRIPTION:Have questions about Medicare or ACA plans? Visit our kiosk near the front entrance of Walmart during our scheduled hours. We’re happy to help!
URL:https://diversityins.com/event/flint-walmart-159/
CATEGORIES:Member
END:VEVENT
BEGIN:VEVENT
DTSTART;TZID=America/Detroit:20260323T100000
DTEND;TZID=America/Detroit:20260323T150000
DTSTAMP:20260424T114116
CREATED:20260224T144008Z
LAST-MODIFIED:20260224T144008Z
UID:3925-1774260000-1774278000@diversityins.com
SUMMARY:Dearborn Walmart
DESCRIPTION:Have questions about Medicare or ACA plans? Visit our kiosk near the front entrance of Walmart during our scheduled hours. We’re happy to help!
URL:https://diversityins.com/event/dearborn-walmart-166/
CATEGORIES:Member
END:VEVENT
BEGIN:VEVENT
DTSTART;TZID=America/Detroit:20260323T100000
DTEND;TZID=America/Detroit:20260323T150000
DTSTAMP:20260424T114116
CREATED:20260224T144307Z
LAST-MODIFIED:20260224T144307Z
UID:3952-1774260000-1774278000@diversityins.com
SUMMARY:Taylor Walmart
DESCRIPTION:Have questions about Medicare or ACA plans? Visit our kiosk near the front entrance of Walmart during our scheduled hours. We’re happy to help!
URL:https://diversityins.com/event/taylor-walmart-172/
CATEGORIES:Member
END:VEVENT
BEGIN:VEVENT
DTSTART;TZID=America/Detroit:20260324T090000
DTEND;TZID=America/Detroit:20260324T160000
DTSTAMP:20260424T114116
CREATED:20260224T143337Z
LAST-MODIFIED:20260224T143337Z
UID:3858-1774342800-1774368000@diversityins.com
SUMMARY:West Branch Walmart
DESCRIPTION:Have questions about Medicare or ACA plans? Visit our kiosk near the front entrance of Walmart during our scheduled hours. We’re happy to help!
URL:https://diversityins.com/event/west-branch-walmart-122/
CATEGORIES:Member
END:VEVENT
BEGIN:VEVENT
DTSTART;TZID=America/Detroit:20260324T090000
DTEND;TZID=America/Detroit:20260324T160000
DTSTAMP:20260424T114116
CREATED:20260224T144537Z
LAST-MODIFIED:20260224T144537Z
UID:3979-1774342800-1774368000@diversityins.com
SUMMARY:Country Club Hills Walmart
DESCRIPTION:Have questions about Medicare or ACA plans? Visit our kiosk near the front entrance of Walmart during our scheduled hours. We’re happy to help!
URL:https://diversityins.com/event/country-club-hills-walmart-105/
CATEGORIES:Member
END:VEVENT
BEGIN:VEVENT
DTSTART;TZID=America/Detroit:20260324T093000
DTEND;TZID=America/Detroit:20260324T143000
DTSTAMP:20260424T114116
CREATED:20260224T142840Z
LAST-MODIFIED:20260224T143208Z
UID:3831-1774344600-1774362600@diversityins.com
SUMMARY:Monroe Walmart
DESCRIPTION:Have questions about Medicare or ACA plans? Visit our kiosk near the front entrance of Walmart during our scheduled hours. We’re happy to help!
URL:https://diversityins.com/event/monroe-walmart-115/
CATEGORIES:Member
END:VEVENT
BEGIN:VEVENT
DTSTART;TZID=America/Detroit:20260324T100000
DTEND;TZID=America/Detroit:20260324T140000
DTSTAMP:20260424T114116
CREATED:20260224T142745Z
LAST-MODIFIED:20260224T142745Z
UID:3811-1774346400-1774360800@diversityins.com
SUMMARY:Southgate Walmart
DESCRIPTION:Have questions about Medicare or ACA plans? Visit our kiosk near the front entrance of Walmart during our scheduled hours. We’re happy to help!
URL:https://diversityins.com/event/southgate-walmart-145/
CATEGORIES:Member
END:VEVENT
BEGIN:VEVENT
DTSTART;TZID=America/Detroit:20260324T100000
DTEND;TZID=America/Detroit:20260324T150000
DTSTAMP:20260424T114116
CREATED:20260224T142153Z
LAST-MODIFIED:20260224T142153Z
UID:3783-1774346400-1774364400@diversityins.com
SUMMARY:Burton Walmart
DESCRIPTION:Have questions about Medicare or ACA plans? Visit our kiosk near the front entrance of Walmart during our scheduled hours. We’re happy to help!
URL:https://diversityins.com/event/burton-walmart-165/
CATEGORIES:Member
END:VEVENT
BEGIN:VEVENT
DTSTART;TZID=America/Detroit:20260324T100000
DTEND;TZID=America/Detroit:20260324T150000
DTSTAMP:20260424T114116
CREATED:20260224T143536Z
LAST-MODIFIED:20260224T143536Z
UID:3878-1774346400-1774364400@diversityins.com
SUMMARY:Livonia Walmart
DESCRIPTION:Have questions about Medicare or ACA plans? Visit our kiosk near the front entrance of Walmart during our scheduled hours. We’re happy to help!
URL:https://diversityins.com/event/livonia-walmart-171/
CATEGORIES:Member
END:VEVENT
BEGIN:VEVENT
DTSTART;TZID=America/Detroit:20260324T100000
DTEND;TZID=America/Detroit:20260324T150000
DTSTAMP:20260424T114116
CREATED:20260224T143808Z
LAST-MODIFIED:20260224T143808Z
UID:3904-1774346400-1774364400@diversityins.com
SUMMARY:Flint Walmart
DESCRIPTION:Have questions about Medicare or ACA plans? Visit our kiosk near the front entrance of Walmart during our scheduled hours. We’re happy to help!
URL:https://diversityins.com/event/flint-walmart-160/
CATEGORIES:Member
END:VEVENT
BEGIN:VEVENT
DTSTART;TZID=America/Detroit:20260324T100000
DTEND;TZID=America/Detroit:20260324T150000
DTSTAMP:20260424T114116
CREATED:20260224T144008Z
LAST-MODIFIED:20260224T144008Z
UID:3926-1774346400-1774364400@diversityins.com
SUMMARY:Dearborn Walmart
DESCRIPTION:Have questions about Medicare or ACA plans? Visit our kiosk near the front entrance of Walmart during our scheduled hours. We’re happy to help!
URL:https://diversityins.com/event/dearborn-walmart-167/
CATEGORIES:Member
END:VEVENT
BEGIN:VEVENT
DTSTART;TZID=America/Detroit:20260324T100000
DTEND;TZID=America/Detroit:20260324T183000
DTSTAMP:20260424T114116
CREATED:20260224T145007Z
LAST-MODIFIED:20260224T145007Z
UID:4006-1774346400-1774377000@diversityins.com
SUMMARY:Darien Walmart
DESCRIPTION:Have questions about Medicare or ACA plans? Visit our kiosk near the front entrance of Walmart during our scheduled hours. We’re happy to help!
URL:https://diversityins.com/event/darien-walmart-120/
CATEGORIES:Member
END:VEVENT
BEGIN:VEVENT
DTSTART;TZID=America/Detroit:20260325T090000
DTEND;TZID=America/Detroit:20260325T150000
DTSTAMP:20260424T114116
CREATED:20260224T143337Z
LAST-MODIFIED:20260224T143337Z
UID:3859-1774429200-1774450800@diversityins.com
SUMMARY:West Branch Walmart
DESCRIPTION:Have questions about Medicare or ACA plans? Visit our kiosk near the front entrance of Walmart during our scheduled hours. We’re happy to help!
URL:https://diversityins.com/event/west-branch-walmart-123/
CATEGORIES:Member
END:VEVENT
BEGIN:VEVENT
DTSTART;TZID=America/Detroit:20260325T090000
DTEND;TZID=America/Detroit:20260325T160000
DTSTAMP:20260424T114116
CREATED:20260224T144537Z
LAST-MODIFIED:20260224T144537Z
UID:3980-1774429200-1774454400@diversityins.com
SUMMARY:Country Club Hills Walmart
DESCRIPTION:Have questions about Medicare or ACA plans? Visit our kiosk near the front entrance of Walmart during our scheduled hours. We’re happy to help!
URL:https://diversityins.com/event/country-club-hills-walmart-106/
CATEGORIES:Member
END:VEVENT
BEGIN:VEVENT
DTSTART;TZID=America/Detroit:20260325T090000
DTEND;TZID=America/Detroit:20260325T160000
DTSTAMP:20260424T114116
CREATED:20260224T145008Z
LAST-MODIFIED:20260224T145008Z
UID:4007-1774429200-1774454400@diversityins.com
SUMMARY:Darien Walmart
DESCRIPTION:Have questions about Medicare or ACA plans? Visit our kiosk near the front entrance of Walmart during our scheduled hours. We’re happy to help!
URL:https://diversityins.com/event/darien-walmart-121/
CATEGORIES:Member
END:VEVENT
BEGIN:VEVENT
DTSTART;TZID=America/Detroit:20260325T093000
DTEND;TZID=America/Detroit:20260325T143000
DTSTAMP:20260424T114116
CREATED:20260224T142841Z
LAST-MODIFIED:20260224T143208Z
UID:3832-1774431000-1774449000@diversityins.com
SUMMARY:Monroe Walmart
DESCRIPTION:Have questions about Medicare or ACA plans? Visit our kiosk near the front entrance of Walmart during our scheduled hours. We’re happy to help!
URL:https://diversityins.com/event/monroe-walmart-116/
CATEGORIES:Member
END:VEVENT
BEGIN:VEVENT
DTSTART;TZID=America/Detroit:20260325T100000
DTEND;TZID=America/Detroit:20260325T140000
DTSTAMP:20260424T114116
CREATED:20260224T144308Z
LAST-MODIFIED:20260224T144308Z
UID:3953-1774432800-1774447200@diversityins.com
SUMMARY:Taylor Walmart
DESCRIPTION:Have questions about Medicare or ACA plans? Visit our kiosk near the front entrance of Walmart during our scheduled hours. We’re happy to help!
URL:https://diversityins.com/event/taylor-walmart-173/
CATEGORIES:Member
END:VEVENT
BEGIN:VEVENT
DTSTART;TZID=America/Detroit:20260325T100000
DTEND;TZID=America/Detroit:20260325T150000
DTSTAMP:20260424T114116
CREATED:20260224T142351Z
LAST-MODIFIED:20260224T142351Z
UID:3784-1774432800-1774450800@diversityins.com
SUMMARY:Burton Walmart
DESCRIPTION:Have questions about Medicare or ACA plans? Visit our kiosk near the front entrance of Walmart during our scheduled hours. We’re happy to help!
URL:https://diversityins.com/event/burton-walmart-166/
CATEGORIES:Member
END:VEVENT
BEGIN:VEVENT
DTSTART;TZID=America/Detroit:20260325T100000
DTEND;TZID=America/Detroit:20260325T150000
DTSTAMP:20260424T114116
CREATED:20260224T142746Z
LAST-MODIFIED:20260224T142746Z
UID:3812-1774432800-1774450800@diversityins.com
SUMMARY:Southgate Walmart
DESCRIPTION:Have questions about Medicare or ACA plans? Visit our kiosk near the front entrance of Walmart during our scheduled hours. We’re happy to help!
URL:https://diversityins.com/event/southgate-walmart-146/
CATEGORIES:Member
END:VEVENT
END:VCALENDAR