BEGIN:VCALENDAR
VERSION:2.0
PRODID:-//Diversity Insurance Agency - ECPv6.15.20//NONSGML v1.0//EN
CALSCALE:GREGORIAN
METHOD:PUBLISH
X-ORIGINAL-URL:https://diversityins.com
X-WR-CALDESC:Events for Diversity Insurance Agency
REFRESH-INTERVAL;VALUE=DURATION:PT1H
X-Robots-Tag:noindex
X-PUBLISHED-TTL:PT1H
BEGIN:VTIMEZONE
TZID:America/Detroit
BEGIN:DAYLIGHT
TZOFFSETFROM:-0500
TZOFFSETTO:-0400
TZNAME:EDT
DTSTART:20250309T070000
END:DAYLIGHT
BEGIN:STANDARD
TZOFFSETFROM:-0400
TZOFFSETTO:-0500
TZNAME:EST
DTSTART:20251102T060000
END:STANDARD
BEGIN:DAYLIGHT
TZOFFSETFROM:-0500
TZOFFSETTO:-0400
TZNAME:EDT
DTSTART:20260308T070000
END:DAYLIGHT
BEGIN:STANDARD
TZOFFSETFROM:-0400
TZOFFSETTO:-0500
TZNAME:EST
DTSTART:20261101T060000
END:STANDARD
BEGIN:DAYLIGHT
TZOFFSETFROM:-0500
TZOFFSETTO:-0400
TZNAME:EDT
DTSTART:20270314T070000
END:DAYLIGHT
BEGIN:STANDARD
TZOFFSETFROM:-0400
TZOFFSETTO:-0500
TZNAME:EST
DTSTART:20271107T060000
END:STANDARD
END:VTIMEZONE
BEGIN:VEVENT
DTSTART;TZID=America/Detroit:20260325T100000
DTEND;TZID=America/Detroit:20260325T150000
DTSTAMP:20260424T101402
CREATED:20260224T142351Z
LAST-MODIFIED:20260224T142351Z
UID:3784-1774432800-1774450800@diversityins.com
SUMMARY:Burton Walmart
DESCRIPTION:Have questions about Medicare or ACA plans? Visit our kiosk near the front entrance of Walmart during our scheduled hours. We’re happy to help!
URL:https://diversityins.com/event/burton-walmart-166/
CATEGORIES:Member
END:VEVENT
BEGIN:VEVENT
DTSTART;TZID=America/Detroit:20260325T100000
DTEND;TZID=America/Detroit:20260325T150000
DTSTAMP:20260424T101402
CREATED:20260224T142746Z
LAST-MODIFIED:20260224T142746Z
UID:3812-1774432800-1774450800@diversityins.com
SUMMARY:Southgate Walmart
DESCRIPTION:Have questions about Medicare or ACA plans? Visit our kiosk near the front entrance of Walmart during our scheduled hours. We’re happy to help!
URL:https://diversityins.com/event/southgate-walmart-146/
CATEGORIES:Member
END:VEVENT
BEGIN:VEVENT
DTSTART;TZID=America/Detroit:20260325T100000
DTEND;TZID=America/Detroit:20260325T150000
DTSTAMP:20260424T101402
CREATED:20260224T143537Z
LAST-MODIFIED:20260224T143537Z
UID:3879-1774432800-1774450800@diversityins.com
SUMMARY:Livonia Walmart
DESCRIPTION:Have questions about Medicare or ACA plans? Visit our kiosk near the front entrance of Walmart during our scheduled hours. We’re happy to help!
URL:https://diversityins.com/event/livonia-walmart-172/
CATEGORIES:Member
END:VEVENT
BEGIN:VEVENT
DTSTART;TZID=America/Detroit:20260325T100000
DTEND;TZID=America/Detroit:20260325T150000
DTSTAMP:20260424T101402
CREATED:20260224T143808Z
LAST-MODIFIED:20260224T143808Z
UID:3905-1774432800-1774450800@diversityins.com
SUMMARY:Flint Walmart
DESCRIPTION:Have questions about Medicare or ACA plans? Visit our kiosk near the front entrance of Walmart during our scheduled hours. We’re happy to help!
URL:https://diversityins.com/event/flint-walmart-161/
CATEGORIES:Member
END:VEVENT
BEGIN:VEVENT
DTSTART;TZID=America/Detroit:20260325T100000
DTEND;TZID=America/Detroit:20260325T150000
DTSTAMP:20260424T101402
CREATED:20260224T144036Z
LAST-MODIFIED:20260224T144036Z
UID:3927-1774432800-1774450800@diversityins.com
SUMMARY:Dearborn Walmart
DESCRIPTION:Have questions about Medicare or ACA plans? Visit our kiosk near the front entrance of Walmart during our scheduled hours. We’re happy to help!
URL:https://diversityins.com/event/dearborn-walmart-168/
CATEGORIES:Member
END:VEVENT
BEGIN:VEVENT
DTSTART;TZID=America/Detroit:20260326T090000
DTEND;TZID=America/Detroit:20260326T160000
DTSTAMP:20260424T101402
CREATED:20260224T144538Z
LAST-MODIFIED:20260224T144538Z
UID:3981-1774515600-1774540800@diversityins.com
SUMMARY:Country Club Hills Walmart
DESCRIPTION:Have questions about Medicare or ACA plans? Visit our kiosk near the front entrance of Walmart during our scheduled hours. We’re happy to help!
URL:https://diversityins.com/event/country-club-hills-walmart-107/
CATEGORIES:Member
END:VEVENT
BEGIN:VEVENT
DTSTART;TZID=America/Detroit:20260326T090000
DTEND;TZID=America/Detroit:20260326T160000
DTSTAMP:20260424T101402
CREATED:20260224T145008Z
LAST-MODIFIED:20260224T145008Z
UID:4008-1774515600-1774540800@diversityins.com
SUMMARY:Darien Walmart
DESCRIPTION:Have questions about Medicare or ACA plans? Visit our kiosk near the front entrance of Walmart during our scheduled hours. We’re happy to help!
URL:https://diversityins.com/event/darien-walmart-122/
CATEGORIES:Member
END:VEVENT
BEGIN:VEVENT
DTSTART;TZID=America/Detroit:20260326T093000
DTEND;TZID=America/Detroit:20260326T143000
DTSTAMP:20260424T101402
CREATED:20260224T142841Z
LAST-MODIFIED:20260224T143236Z
UID:3833-1774517400-1774535400@diversityins.com
SUMMARY:Monroe Walmart
DESCRIPTION:Have questions about Medicare or ACA plans? Visit our kiosk near the front entrance of Walmart during our scheduled hours. We’re happy to help!
URL:https://diversityins.com/event/monroe-walmart-117/
CATEGORIES:Member
END:VEVENT
BEGIN:VEVENT
DTSTART;TZID=America/Detroit:20260326T100000
DTEND;TZID=America/Detroit:20260326T150000
DTSTAMP:20260424T101402
CREATED:20260224T142352Z
LAST-MODIFIED:20260224T142352Z
UID:3785-1774519200-1774537200@diversityins.com
SUMMARY:Burton Walmart
DESCRIPTION:Have questions about Medicare or ACA plans? Visit our kiosk near the front entrance of Walmart during our scheduled hours. We’re happy to help!
URL:https://diversityins.com/event/burton-walmart-167/
CATEGORIES:Member
END:VEVENT
BEGIN:VEVENT
DTSTART;TZID=America/Detroit:20260326T100000
DTEND;TZID=America/Detroit:20260326T150000
DTSTAMP:20260424T101402
CREATED:20260224T142746Z
LAST-MODIFIED:20260224T142746Z
UID:3813-1774519200-1774537200@diversityins.com
SUMMARY:Southgate Walmart
DESCRIPTION:Have questions about Medicare or ACA plans? Visit our kiosk near the front entrance of Walmart during our scheduled hours. We’re happy to help!
URL:https://diversityins.com/event/southgate-walmart-147/
CATEGORIES:Member
END:VEVENT
BEGIN:VEVENT
DTSTART;TZID=America/Detroit:20260326T100000
DTEND;TZID=America/Detroit:20260326T150000
DTSTAMP:20260424T101402
CREATED:20260224T143537Z
LAST-MODIFIED:20260224T143537Z
UID:3880-1774519200-1774537200@diversityins.com
SUMMARY:Livonia Walmart
DESCRIPTION:Have questions about Medicare or ACA plans? Visit our kiosk near the front entrance of Walmart during our scheduled hours. We’re happy to help!
URL:https://diversityins.com/event/livonia-walmart-173/
CATEGORIES:Member
END:VEVENT
BEGIN:VEVENT
DTSTART;TZID=America/Detroit:20260326T100000
DTEND;TZID=America/Detroit:20260326T150000
DTSTAMP:20260424T101402
CREATED:20260224T143808Z
LAST-MODIFIED:20260224T143808Z
UID:3906-1774519200-1774537200@diversityins.com
SUMMARY:Flint Walmart
DESCRIPTION:Have questions about Medicare or ACA plans? Visit our kiosk near the front entrance of Walmart during our scheduled hours. We’re happy to help!
URL:https://diversityins.com/event/flint-walmart-162/
CATEGORIES:Member
END:VEVENT
BEGIN:VEVENT
DTSTART;TZID=America/Detroit:20260326T100000
DTEND;TZID=America/Detroit:20260326T150000
DTSTAMP:20260424T101402
CREATED:20260224T144037Z
LAST-MODIFIED:20260224T144037Z
UID:3928-1774519200-1774537200@diversityins.com
SUMMARY:Dearborn Walmart
DESCRIPTION:Have questions about Medicare or ACA plans? Visit our kiosk near the front entrance of Walmart during our scheduled hours. We’re happy to help!
URL:https://diversityins.com/event/dearborn-walmart-169/
CATEGORIES:Member
END:VEVENT
BEGIN:VEVENT
DTSTART;TZID=America/Detroit:20260326T100000
DTEND;TZID=America/Detroit:20260326T150000
DTSTAMP:20260424T101402
CREATED:20260224T144308Z
LAST-MODIFIED:20260224T144308Z
UID:3954-1774519200-1774537200@diversityins.com
SUMMARY:Taylor Walmart
DESCRIPTION:Have questions about Medicare or ACA plans? Visit our kiosk near the front entrance of Walmart during our scheduled hours. We’re happy to help!
URL:https://diversityins.com/event/taylor-walmart-174/
CATEGORIES:Member
END:VEVENT
BEGIN:VEVENT
DTSTART;TZID=America/Detroit:20260327T090000
DTEND;TZID=America/Detroit:20260327T160000
DTSTAMP:20260424T101402
CREATED:20260224T144606Z
LAST-MODIFIED:20260224T144606Z
UID:3982-1774602000-1774627200@diversityins.com
SUMMARY:Country Club Hills Walmart
DESCRIPTION:Have questions about Medicare or ACA plans? Visit our kiosk near the front entrance of Walmart during our scheduled hours. We’re happy to help!
URL:https://diversityins.com/event/country-club-hills-walmart-108/
CATEGORIES:Member
END:VEVENT
BEGIN:VEVENT
DTSTART;TZID=America/Detroit:20260327T090000
DTEND;TZID=America/Detroit:20260327T160000
DTSTAMP:20260424T101402
CREATED:20260224T145008Z
LAST-MODIFIED:20260224T145008Z
UID:4009-1774602000-1774627200@diversityins.com
SUMMARY:Darien Walmart
DESCRIPTION:Have questions about Medicare or ACA plans? Visit our kiosk near the front entrance of Walmart during our scheduled hours. We’re happy to help!
URL:https://diversityins.com/event/darien-walmart-123/
CATEGORIES:Member
END:VEVENT
BEGIN:VEVENT
DTSTART;TZID=America/Detroit:20260327T100000
DTEND;TZID=America/Detroit:20260327T140000
DTSTAMP:20260424T101402
CREATED:20260224T144309Z
LAST-MODIFIED:20260224T144309Z
UID:3955-1774605600-1774620000@diversityins.com
SUMMARY:Taylor Walmart
DESCRIPTION:Have questions about Medicare or ACA plans? Visit our kiosk near the front entrance of Walmart during our scheduled hours. We’re happy to help!
URL:https://diversityins.com/event/taylor-walmart-175/
CATEGORIES:Member
END:VEVENT
BEGIN:VEVENT
DTSTART;TZID=America/Detroit:20260327T100000
DTEND;TZID=America/Detroit:20260327T150000
DTSTAMP:20260424T101402
CREATED:20260224T142352Z
LAST-MODIFIED:20260224T142352Z
UID:3786-1774605600-1774623600@diversityins.com
SUMMARY:Burton Walmart
DESCRIPTION:Have questions about Medicare or ACA plans? Visit our kiosk near the front entrance of Walmart during our scheduled hours. We’re happy to help!
URL:https://diversityins.com/event/burton-walmart-168/
CATEGORIES:Member
END:VEVENT
BEGIN:VEVENT
DTSTART;TZID=America/Detroit:20260327T100000
DTEND;TZID=America/Detroit:20260327T150000
DTSTAMP:20260424T101402
CREATED:20260224T142747Z
LAST-MODIFIED:20260224T142747Z
UID:3814-1774605600-1774623600@diversityins.com
SUMMARY:Southgate Walmart
DESCRIPTION:Have questions about Medicare or ACA plans? Visit our kiosk near the front entrance of Walmart during our scheduled hours. We’re happy to help!
URL:https://diversityins.com/event/southgate-walmart-148/
CATEGORIES:Member
END:VEVENT
BEGIN:VEVENT
DTSTART;TZID=America/Detroit:20260327T100000
DTEND;TZID=America/Detroit:20260327T150000
DTSTAMP:20260424T101402
CREATED:20260224T143538Z
LAST-MODIFIED:20260224T143538Z
UID:3881-1774605600-1774623600@diversityins.com
SUMMARY:Livonia Walmart
DESCRIPTION:Have questions about Medicare or ACA plans? Visit our kiosk near the front entrance of Walmart during our scheduled hours. We’re happy to help!
URL:https://diversityins.com/event/livonia-walmart-174/
CATEGORIES:Member
END:VEVENT
BEGIN:VEVENT
DTSTART;TZID=America/Detroit:20260327T100000
DTEND;TZID=America/Detroit:20260327T150000
DTSTAMP:20260424T101402
CREATED:20260224T143836Z
LAST-MODIFIED:20260224T143836Z
UID:3907-1774605600-1774623600@diversityins.com
SUMMARY:Flint Walmart
DESCRIPTION:Have questions about Medicare or ACA plans? Visit our kiosk near the front entrance of Walmart during our scheduled hours. We’re happy to help!
URL:https://diversityins.com/event/flint-walmart-163/
CATEGORIES:Member
END:VEVENT
BEGIN:VEVENT
DTSTART;TZID=America/Detroit:20260327T100000
DTEND;TZID=America/Detroit:20260327T150000
DTSTAMP:20260424T101402
CREATED:20260224T144037Z
LAST-MODIFIED:20260224T144037Z
UID:3929-1774605600-1774623600@diversityins.com
SUMMARY:Dearborn Walmart
DESCRIPTION:Have questions about Medicare or ACA plans? Visit our kiosk near the front entrance of Walmart during our scheduled hours. We’re happy to help!
URL:https://diversityins.com/event/dearborn-walmart-170/
CATEGORIES:Member
END:VEVENT
BEGIN:VEVENT
DTSTART;TZID=America/Detroit:20260328T090000
DTEND;TZID=America/Detroit:20260328T160000
DTSTAMP:20260424T101402
CREATED:20260224T144607Z
LAST-MODIFIED:20260224T144607Z
UID:3983-1774688400-1774713600@diversityins.com
SUMMARY:Country Club Hills Walmart
DESCRIPTION:Have questions about Medicare or ACA plans? Visit our kiosk near the front entrance of Walmart during our scheduled hours. We’re happy to help!
URL:https://diversityins.com/event/country-club-hills-walmart-109/
CATEGORIES:Member
END:VEVENT
BEGIN:VEVENT
DTSTART;TZID=America/Detroit:20260328T100000
DTEND;TZID=America/Detroit:20260328T140000
DTSTAMP:20260424T101402
CREATED:20260224T142353Z
LAST-MODIFIED:20260224T142353Z
UID:3787-1774692000-1774706400@diversityins.com
SUMMARY:Burton Walmart
DESCRIPTION:Have questions about Medicare or ACA plans? Visit our kiosk near the front entrance of Walmart during our scheduled hours. We’re happy to help!
URL:https://diversityins.com/event/burton-walmart-169/
CATEGORIES:Member
END:VEVENT
BEGIN:VEVENT
DTSTART;TZID=America/Detroit:20260328T100000
DTEND;TZID=America/Detroit:20260328T140000
DTSTAMP:20260424T101402
CREATED:20260224T142748Z
LAST-MODIFIED:20260224T142748Z
UID:3815-1774692000-1774706400@diversityins.com
SUMMARY:Southgate Walmart
DESCRIPTION:Have questions about Medicare or ACA plans? Visit our kiosk near the front entrance of Walmart during our scheduled hours. We’re happy to help!
URL:https://diversityins.com/event/southgate-walmart-149/
CATEGORIES:Member
END:VEVENT
BEGIN:VEVENT
DTSTART;TZID=America/Detroit:20260328T100000
DTEND;TZID=America/Detroit:20260328T140000
DTSTAMP:20260424T101402
CREATED:20260224T143607Z
LAST-MODIFIED:20260224T143607Z
UID:3882-1774692000-1774706400@diversityins.com
SUMMARY:Livonia Walmart
DESCRIPTION:Have questions about Medicare or ACA plans? Visit our kiosk near the front entrance of Walmart during our scheduled hours. We’re happy to help!
URL:https://diversityins.com/event/livonia-walmart-175/
CATEGORIES:Member
END:VEVENT
BEGIN:VEVENT
DTSTART;TZID=America/Detroit:20260328T100000
DTEND;TZID=America/Detroit:20260328T140000
DTSTAMP:20260424T101402
CREATED:20260224T144038Z
LAST-MODIFIED:20260224T144038Z
UID:3930-1774692000-1774706400@diversityins.com
SUMMARY:Dearborn Walmart
DESCRIPTION:Have questions about Medicare or ACA plans? Visit our kiosk near the front entrance of Walmart during our scheduled hours. We’re happy to help!
URL:https://diversityins.com/event/dearborn-walmart-171/
CATEGORIES:Member
END:VEVENT
BEGIN:VEVENT
DTSTART;TZID=America/Detroit:20260328T100000
DTEND;TZID=America/Detroit:20260328T183000
DTSTAMP:20260424T101402
CREATED:20260224T145009Z
LAST-MODIFIED:20260224T145009Z
UID:4010-1774692000-1774722600@diversityins.com
SUMMARY:Darien Walmart
DESCRIPTION:Have questions about Medicare or ACA plans? Visit our kiosk near the front entrance of Walmart during our scheduled hours. We’re happy to help!
URL:https://diversityins.com/event/darien-walmart-124/
CATEGORIES:Member
END:VEVENT
BEGIN:VEVENT
DTSTART;TZID=America/Detroit:20260328T110000
DTEND;TZID=America/Detroit:20260328T150000
DTSTAMP:20260424T101402
CREATED:20260224T144309Z
LAST-MODIFIED:20260224T144309Z
UID:3956-1774695600-1774710000@diversityins.com
SUMMARY:Taylor Walmart
DESCRIPTION:Have questions about Medicare or ACA plans? Visit our kiosk near the front entrance of Walmart during our scheduled hours. We’re happy to help!
URL:https://diversityins.com/event/taylor-walmart-176/
CATEGORIES:Member
END:VEVENT
BEGIN:VEVENT
DTSTART;TZID=America/Detroit:20260329T110000
DTEND;TZID=America/Detroit:20260329T150000
DTSTAMP:20260424T101402
CREATED:20260224T144337Z
LAST-MODIFIED:20260224T144337Z
UID:3958-1774782000-1774796400@diversityins.com
SUMMARY:Taylor Walmart
DESCRIPTION:Have questions about Medicare or ACA plans? Visit our kiosk near the front entrance of Walmart during our scheduled hours. We’re happy to help!
URL:https://diversityins.com/event/taylor-walmart-178/
CATEGORIES:Member
END:VEVENT
END:VCALENDAR