BEGIN:VCALENDAR
VERSION:2.0
PRODID:-//Diversity Insurance Agency - ECPv6.15.20//NONSGML v1.0//EN
CALSCALE:GREGORIAN
METHOD:PUBLISH
X-ORIGINAL-URL:https://diversityins.com
X-WR-CALDESC:Events for Diversity Insurance Agency
REFRESH-INTERVAL;VALUE=DURATION:PT1H
X-Robots-Tag:noindex
X-PUBLISHED-TTL:PT1H
BEGIN:VTIMEZONE
TZID:America/Detroit
BEGIN:DAYLIGHT
TZOFFSETFROM:-0500
TZOFFSETTO:-0400
TZNAME:EDT
DTSTART:20250309T070000
END:DAYLIGHT
BEGIN:STANDARD
TZOFFSETFROM:-0400
TZOFFSETTO:-0500
TZNAME:EST
DTSTART:20251102T060000
END:STANDARD
BEGIN:DAYLIGHT
TZOFFSETFROM:-0500
TZOFFSETTO:-0400
TZNAME:EDT
DTSTART:20260308T070000
END:DAYLIGHT
BEGIN:STANDARD
TZOFFSETFROM:-0400
TZOFFSETTO:-0500
TZNAME:EST
DTSTART:20261101T060000
END:STANDARD
BEGIN:DAYLIGHT
TZOFFSETFROM:-0500
TZOFFSETTO:-0400
TZNAME:EDT
DTSTART:20270314T070000
END:DAYLIGHT
BEGIN:STANDARD
TZOFFSETFROM:-0400
TZOFFSETTO:-0500
TZNAME:EST
DTSTART:20271107T060000
END:STANDARD
END:VTIMEZONE
BEGIN:VEVENT
DTSTART;TZID=America/Detroit:20260402T100000
DTEND;TZID=America/Detroit:20260402T150000
DTSTAMP:20260424T101353
CREATED:20260325T182739Z
LAST-MODIFIED:20260325T182739Z
UID:4046-1775124000-1775142000@diversityins.com
SUMMARY:Southgate Walmart
DESCRIPTION:Have questions about Medicare or ACA plans? Visit our kiosk near the front entrance of Walmart during our scheduled hours. We’re happy to help!
URL:https://diversityins.com/event/southgate-walmart-153/
CATEGORIES:Member
END:VEVENT
BEGIN:VEVENT
DTSTART;TZID=America/Detroit:20260402T100000
DTEND;TZID=America/Detroit:20260402T150000
DTSTAMP:20260424T101353
CREATED:20260325T183550Z
LAST-MODIFIED:20260325T183550Z
UID:4072-1775124000-1775142000@diversityins.com
SUMMARY:Livonia Walmart
DESCRIPTION:Have questions about Medicare or ACA plans? Visit our kiosk near the front entrance of Walmart during our scheduled hours. We’re happy to help!
URL:https://diversityins.com/event/livonia-walmart-179/
CATEGORIES:Member
END:VEVENT
BEGIN:VEVENT
DTSTART;TZID=America/Detroit:20260402T100000
DTEND;TZID=America/Detroit:20260402T150000
DTSTAMP:20260424T101353
CREATED:20260325T184556Z
LAST-MODIFIED:20260325T184556Z
UID:4098-1775124000-1775142000@diversityins.com
SUMMARY:Taylor Walmart
DESCRIPTION:Have questions about Medicare or ACA plans? Visit our kiosk near the front entrance of Walmart during our scheduled hours. We’re happy to help!
URL:https://diversityins.com/event/taylor-walmart-181/
CATEGORIES:Member
END:VEVENT
BEGIN:VEVENT
DTSTART;TZID=America/Detroit:20260403T100000
DTEND;TZID=America/Detroit:20260403T140000
DTSTAMP:20260424T101353
CREATED:20260325T182740Z
LAST-MODIFIED:20260325T182740Z
UID:4047-1775210400-1775224800@diversityins.com
SUMMARY:Southgate Walmart
DESCRIPTION:Have questions about Medicare or ACA plans? Visit our kiosk near the front entrance of Walmart during our scheduled hours. We’re happy to help!
URL:https://diversityins.com/event/southgate-walmart-154/
CATEGORIES:Member
END:VEVENT
BEGIN:VEVENT
DTSTART;TZID=America/Detroit:20260403T100000
DTEND;TZID=America/Detroit:20260403T150000
DTSTAMP:20260424T101353
CREATED:20260325T183550Z
LAST-MODIFIED:20260325T183550Z
UID:4073-1775210400-1775228400@diversityins.com
SUMMARY:Livonia Walmart
DESCRIPTION:Have questions about Medicare or ACA plans? Visit our kiosk near the front entrance of Walmart during our scheduled hours. We’re happy to help!
URL:https://diversityins.com/event/livonia-walmart-180/
CATEGORIES:Member
END:VEVENT
BEGIN:VEVENT
DTSTART;TZID=America/Detroit:20260403T100000
DTEND;TZID=America/Detroit:20260403T150000
DTSTAMP:20260424T101353
CREATED:20260325T184556Z
LAST-MODIFIED:20260325T184556Z
UID:4099-1775210400-1775228400@diversityins.com
SUMMARY:Taylor Walmart
DESCRIPTION:Have questions about Medicare or ACA plans? Visit our kiosk near the front entrance of Walmart during our scheduled hours. We’re happy to help!
URL:https://diversityins.com/event/taylor-walmart-182/
CATEGORIES:Member
END:VEVENT
BEGIN:VEVENT
DTSTART;TZID=America/Detroit:20260404T100000
DTEND;TZID=America/Detroit:20260404T140000
DTSTAMP:20260424T101353
CREATED:20260325T182741Z
LAST-MODIFIED:20260325T182741Z
UID:4048-1775296800-1775311200@diversityins.com
SUMMARY:Southgate Walmart
DESCRIPTION:Have questions about Medicare or ACA plans? Visit our kiosk near the front entrance of Walmart during our scheduled hours. We’re happy to help!
URL:https://diversityins.com/event/southgate-walmart-155/
CATEGORIES:Member
END:VEVENT
BEGIN:VEVENT
DTSTART;TZID=America/Detroit:20260404T100000
DTEND;TZID=America/Detroit:20260404T140000
DTSTAMP:20260424T101353
CREATED:20260325T183551Z
LAST-MODIFIED:20260325T183551Z
UID:4074-1775296800-1775311200@diversityins.com
SUMMARY:Livonia Walmart
DESCRIPTION:Have questions about Medicare or ACA plans? Visit our kiosk near the front entrance of Walmart during our scheduled hours. We’re happy to help!
URL:https://diversityins.com/event/livonia-walmart-181/
CATEGORIES:Member
END:VEVENT
BEGIN:VEVENT
DTSTART;TZID=America/Detroit:20260404T100000
DTEND;TZID=America/Detroit:20260404T150000
DTSTAMP:20260424T101353
CREATED:20260325T184754Z
LAST-MODIFIED:20260325T184754Z
UID:4100-1775296800-1775314800@diversityins.com
SUMMARY:Taylor Walmart
DESCRIPTION:Have questions about Medicare or ACA plans? Visit our kiosk near the front entrance of Walmart during our scheduled hours. We’re happy to help!
URL:https://diversityins.com/event/taylor-walmart-183/
CATEGORIES:Member
END:VEVENT
BEGIN:VEVENT
DTSTART;TZID=America/Detroit:20260405T110000
DTEND;TZID=America/Detroit:20260405T150000
DTSTAMP:20260424T101353
CREATED:20260325T184755Z
LAST-MODIFIED:20260325T184755Z
UID:4101-1775386800-1775401200@diversityins.com
SUMMARY:Taylor Walmart
DESCRIPTION:Have questions about Medicare or ACA plans? Visit our kiosk near the front entrance of Walmart during our scheduled hours. We’re happy to help!
URL:https://diversityins.com/event/taylor-walmart-184/
CATEGORIES:Member
END:VEVENT
BEGIN:VEVENT
DTSTART;TZID=America/Detroit:20260406T100000
DTEND;TZID=America/Detroit:20260406T150000
DTSTAMP:20260424T101353
CREATED:20260325T182741Z
LAST-MODIFIED:20260325T182741Z
UID:4049-1775469600-1775487600@diversityins.com
SUMMARY:Southgate Walmart
DESCRIPTION:Have questions about Medicare or ACA plans? Visit our kiosk near the front entrance of Walmart during our scheduled hours. We’re happy to help!
URL:https://diversityins.com/event/southgate-walmart-156/
CATEGORIES:Member
END:VEVENT
BEGIN:VEVENT
DTSTART;TZID=America/Detroit:20260406T100000
DTEND;TZID=America/Detroit:20260406T150000
DTSTAMP:20260424T101353
CREATED:20260325T183749Z
LAST-MODIFIED:20260325T183749Z
UID:4075-1775469600-1775487600@diversityins.com
SUMMARY:Livonia Walmart
DESCRIPTION:Have questions about Medicare or ACA plans? Visit our kiosk near the front entrance of Walmart during our scheduled hours. We’re happy to help!
URL:https://diversityins.com/event/livonia-walmart-182/
CATEGORIES:Member
END:VEVENT
BEGIN:VEVENT
DTSTART;TZID=America/Detroit:20260406T100000
DTEND;TZID=America/Detroit:20260406T150000
DTSTAMP:20260424T101353
CREATED:20260325T184756Z
LAST-MODIFIED:20260325T184756Z
UID:4102-1775469600-1775487600@diversityins.com
SUMMARY:Taylor Walmart
DESCRIPTION:Have questions about Medicare or ACA plans? Visit our kiosk near the front entrance of Walmart during our scheduled hours. We’re happy to help!
URL:https://diversityins.com/event/taylor-walmart-185/
CATEGORIES:Member
END:VEVENT
BEGIN:VEVENT
DTSTART;TZID=America/Detroit:20260407T100000
DTEND;TZID=America/Detroit:20260407T150000
DTSTAMP:20260424T101353
CREATED:20260325T182744Z
LAST-MODIFIED:20260325T182744Z
UID:4050-1775556000-1775574000@diversityins.com
SUMMARY:Southgate Walmart
DESCRIPTION:Have questions about Medicare or ACA plans? Visit our kiosk near the front entrance of Walmart during our scheduled hours. We’re happy to help!
URL:https://diversityins.com/event/southgate-walmart-157/
CATEGORIES:Member
END:VEVENT
BEGIN:VEVENT
DTSTART;TZID=America/Detroit:20260407T100000
DTEND;TZID=America/Detroit:20260407T150000
DTSTAMP:20260424T101353
CREATED:20260325T183750Z
LAST-MODIFIED:20260325T183750Z
UID:4076-1775556000-1775574000@diversityins.com
SUMMARY:Livonia Walmart
DESCRIPTION:Have questions about Medicare or ACA plans? Visit our kiosk near the front entrance of Walmart during our scheduled hours. We’re happy to help!
URL:https://diversityins.com/event/livonia-walmart-183/
CATEGORIES:Member
END:VEVENT
BEGIN:VEVENT
DTSTART;TZID=America/Detroit:20260407T100000
DTEND;TZID=America/Detroit:20260407T150000
DTSTAMP:20260424T101353
CREATED:20260325T184756Z
LAST-MODIFIED:20260325T184756Z
UID:4103-1775556000-1775574000@diversityins.com
SUMMARY:Taylor Walmart
DESCRIPTION:Have questions about Medicare or ACA plans? Visit our kiosk near the front entrance of Walmart during our scheduled hours. We’re happy to help!
URL:https://diversityins.com/event/taylor-walmart-186/
CATEGORIES:Member
END:VEVENT
BEGIN:VEVENT
DTSTART;TZID=America/Detroit:20260408T100000
DTEND;TZID=America/Detroit:20260408T150000
DTSTAMP:20260424T101353
CREATED:20260325T182745Z
LAST-MODIFIED:20260325T182745Z
UID:4051-1775642400-1775660400@diversityins.com
SUMMARY:Southgate Walmart
DESCRIPTION:Have questions about Medicare or ACA plans? Visit our kiosk near the front entrance of Walmart during our scheduled hours. We’re happy to help!
URL:https://diversityins.com/event/southgate-walmart-158/
CATEGORIES:Member
END:VEVENT
BEGIN:VEVENT
DTSTART;TZID=America/Detroit:20260408T100000
DTEND;TZID=America/Detroit:20260408T150000
DTSTAMP:20260424T101353
CREATED:20260325T183751Z
LAST-MODIFIED:20260325T183751Z
UID:4077-1775642400-1775660400@diversityins.com
SUMMARY:Livonia Walmart
DESCRIPTION:Have questions about Medicare or ACA plans? Visit our kiosk near the front entrance of Walmart during our scheduled hours. We’re happy to help!
URL:https://diversityins.com/event/livonia-walmart-184/
CATEGORIES:Member
END:VEVENT
BEGIN:VEVENT
DTSTART;TZID=America/Detroit:20260408T100000
DTEND;TZID=America/Detroit:20260408T150000
DTSTAMP:20260424T101353
CREATED:20260325T184757Z
LAST-MODIFIED:20260325T184757Z
UID:4104-1775642400-1775660400@diversityins.com
SUMMARY:Taylor Walmart
DESCRIPTION:Have questions about Medicare or ACA plans? Visit our kiosk near the front entrance of Walmart during our scheduled hours. We’re happy to help!
URL:https://diversityins.com/event/taylor-walmart-187/
CATEGORIES:Member
END:VEVENT
BEGIN:VEVENT
DTSTART;TZID=America/Detroit:20260409T100000
DTEND;TZID=America/Detroit:20260409T150000
DTSTAMP:20260424T101353
CREATED:20260325T182745Z
LAST-MODIFIED:20260325T182745Z
UID:4052-1775728800-1775746800@diversityins.com
SUMMARY:Southgate Walmart
DESCRIPTION:Have questions about Medicare or ACA plans? Visit our kiosk near the front entrance of Walmart during our scheduled hours. We’re happy to help!
URL:https://diversityins.com/event/southgate-walmart-159/
CATEGORIES:Member
END:VEVENT
BEGIN:VEVENT
DTSTART;TZID=America/Detroit:20260409T100000
DTEND;TZID=America/Detroit:20260409T150000
DTSTAMP:20260424T101353
CREATED:20260325T183751Z
LAST-MODIFIED:20260325T183751Z
UID:4078-1775728800-1775746800@diversityins.com
SUMMARY:Livonia Walmart
DESCRIPTION:Have questions about Medicare or ACA plans? Visit our kiosk near the front entrance of Walmart during our scheduled hours. We’re happy to help!
URL:https://diversityins.com/event/livonia-walmart-185/
CATEGORIES:Member
END:VEVENT
BEGIN:VEVENT
DTSTART;TZID=America/Detroit:20260409T100000
DTEND;TZID=America/Detroit:20260409T150000
DTSTAMP:20260424T101353
CREATED:20260325T184955Z
LAST-MODIFIED:20260325T184955Z
UID:4105-1775728800-1775746800@diversityins.com
SUMMARY:Taylor Walmart
DESCRIPTION:Have questions about Medicare or ACA plans? Visit our kiosk near the front entrance of Walmart during our scheduled hours. We’re happy to help!
URL:https://diversityins.com/event/taylor-walmart-188/
CATEGORIES:Member
END:VEVENT
BEGIN:VEVENT
DTSTART;TZID=America/Detroit:20260410T100000
DTEND;TZID=America/Detroit:20260410T140000
DTSTAMP:20260424T101353
CREATED:20260325T184956Z
LAST-MODIFIED:20260325T184956Z
UID:4106-1775815200-1775829600@diversityins.com
SUMMARY:Taylor Walmart
DESCRIPTION:Have questions about Medicare or ACA plans? Visit our kiosk near the front entrance of Walmart during our scheduled hours. We’re happy to help!
URL:https://diversityins.com/event/taylor-walmart-189/
CATEGORIES:Member
END:VEVENT
BEGIN:VEVENT
DTSTART;TZID=America/Detroit:20260410T100000
DTEND;TZID=America/Detroit:20260410T150000
DTSTAMP:20260424T101353
CREATED:20260325T182746Z
LAST-MODIFIED:20260325T182746Z
UID:4053-1775815200-1775833200@diversityins.com
SUMMARY:Southgate Walmart
DESCRIPTION:Have questions about Medicare or ACA plans? Visit our kiosk near the front entrance of Walmart during our scheduled hours. We’re happy to help!
URL:https://diversityins.com/event/southgate-walmart-160/
CATEGORIES:Member
END:VEVENT
BEGIN:VEVENT
DTSTART;TZID=America/Detroit:20260410T100000
DTEND;TZID=America/Detroit:20260410T150000
DTSTAMP:20260424T101353
CREATED:20260325T183752Z
LAST-MODIFIED:20260325T183752Z
UID:4079-1775815200-1775833200@diversityins.com
SUMMARY:Livonia Walmart
DESCRIPTION:Have questions about Medicare or ACA plans? Visit our kiosk near the front entrance of Walmart during our scheduled hours. We’re happy to help!
URL:https://diversityins.com/event/livonia-walmart-186/
CATEGORIES:Member
END:VEVENT
BEGIN:VEVENT
DTSTART;TZID=America/Detroit:20260411T100000
DTEND;TZID=America/Detroit:20260411T140000
DTSTAMP:20260424T101353
CREATED:20260325T182747Z
LAST-MODIFIED:20260325T182747Z
UID:4054-1775901600-1775916000@diversityins.com
SUMMARY:Southgate Walmart
DESCRIPTION:Have questions about Medicare or ACA plans? Visit our kiosk near the front entrance of Walmart during our scheduled hours. We’re happy to help!
URL:https://diversityins.com/event/southgate-walmart-161/
CATEGORIES:Member
END:VEVENT
BEGIN:VEVENT
DTSTART;TZID=America/Detroit:20260411T100000
DTEND;TZID=America/Detroit:20260411T140000
DTSTAMP:20260424T101353
CREATED:20260325T183950Z
LAST-MODIFIED:20260325T183950Z
UID:4080-1775901600-1775916000@diversityins.com
SUMMARY:Livonia Walmart
DESCRIPTION:Have questions about Medicare or ACA plans? Visit our kiosk near the front entrance of Walmart during our scheduled hours. We’re happy to help!
URL:https://diversityins.com/event/livonia-walmart-187/
CATEGORIES:Member
END:VEVENT
BEGIN:VEVENT
DTSTART;TZID=America/Detroit:20260411T100000
DTEND;TZID=America/Detroit:20260411T150000
DTSTAMP:20260424T101353
CREATED:20260325T184957Z
LAST-MODIFIED:20260325T184957Z
UID:4107-1775901600-1775919600@diversityins.com
SUMMARY:Taylor Walmart
DESCRIPTION:Have questions about Medicare or ACA plans? Visit our kiosk near the front entrance of Walmart during our scheduled hours. We’re happy to help!
URL:https://diversityins.com/event/taylor-walmart-190/
CATEGORIES:Member
END:VEVENT
BEGIN:VEVENT
DTSTART;TZID=America/Detroit:20260412T110000
DTEND;TZID=America/Detroit:20260412T150000
DTSTAMP:20260424T101353
CREATED:20260325T184958Z
LAST-MODIFIED:20260325T184958Z
UID:4108-1775991600-1776006000@diversityins.com
SUMMARY:Taylor Walmart
DESCRIPTION:Have questions about Medicare or ACA plans? Visit our kiosk near the front entrance of Walmart during our scheduled hours. We’re happy to help!
URL:https://diversityins.com/event/taylor-walmart-191/
CATEGORIES:Member
END:VEVENT
BEGIN:VEVENT
DTSTART;TZID=America/Detroit:20260413T100000
DTEND;TZID=America/Detroit:20260413T150000
DTSTAMP:20260424T101353
CREATED:20260325T182945Z
LAST-MODIFIED:20260325T182945Z
UID:4055-1776074400-1776092400@diversityins.com
SUMMARY:Southgate Walmart
DESCRIPTION:Have questions about Medicare or ACA plans? Visit our kiosk near the front entrance of Walmart during our scheduled hours. We’re happy to help!
URL:https://diversityins.com/event/southgate-walmart-162/
CATEGORIES:Member
END:VEVENT
END:VCALENDAR