BEGIN:VCALENDAR
VERSION:2.0
PRODID:-//Diversity Insurance Agency - ECPv6.15.20//NONSGML v1.0//EN
CALSCALE:GREGORIAN
METHOD:PUBLISH
X-ORIGINAL-URL:https://diversityins.com
X-WR-CALDESC:Events for Diversity Insurance Agency
REFRESH-INTERVAL;VALUE=DURATION:PT1H
X-Robots-Tag:noindex
X-PUBLISHED-TTL:PT1H
BEGIN:VTIMEZONE
TZID:America/Detroit
BEGIN:DAYLIGHT
TZOFFSETFROM:-0500
TZOFFSETTO:-0400
TZNAME:EDT
DTSTART:20250309T070000
END:DAYLIGHT
BEGIN:STANDARD
TZOFFSETFROM:-0400
TZOFFSETTO:-0500
TZNAME:EST
DTSTART:20251102T060000
END:STANDARD
BEGIN:DAYLIGHT
TZOFFSETFROM:-0500
TZOFFSETTO:-0400
TZNAME:EDT
DTSTART:20260308T070000
END:DAYLIGHT
BEGIN:STANDARD
TZOFFSETFROM:-0400
TZOFFSETTO:-0500
TZNAME:EST
DTSTART:20261101T060000
END:STANDARD
BEGIN:DAYLIGHT
TZOFFSETFROM:-0500
TZOFFSETTO:-0400
TZNAME:EDT
DTSTART:20270314T070000
END:DAYLIGHT
BEGIN:STANDARD
TZOFFSETFROM:-0400
TZOFFSETTO:-0500
TZNAME:EST
DTSTART:20271107T060000
END:STANDARD
END:VTIMEZONE
BEGIN:VEVENT
DTSTART;TZID=America/Detroit:20260522T100000
DTEND;TZID=America/Detroit:20260522T150000
DTSTAMP:20260424T101433
CREATED:20260423T180221Z
LAST-MODIFIED:20260423T182744Z
UID:4193-1779444000-1779462000@diversityins.com
SUMMARY:Livonia Walmart
DESCRIPTION:Have questions about Medicare or ACA plans? Visit our kiosk near the front entrance of Walmart during our scheduled hours. We’re happy to help!
URL:https://diversityins.com/event/livonia-walmart-223/
CATEGORIES:Member
END:VEVENT
BEGIN:VEVENT
DTSTART;TZID=America/Detroit:20260523T100000
DTEND;TZID=America/Detroit:20260523T140000
DTSTAMP:20260424T101433
CREATED:20260423T175901Z
LAST-MODIFIED:20260423T182452Z
UID:4167-1779530400-1779544800@diversityins.com
SUMMARY:Southgate Walmart
DESCRIPTION:Have questions about Medicare or ACA plans? Visit our kiosk near the front entrance of Walmart during our scheduled hours. We’re happy to help!
URL:https://diversityins.com/event/southgate-walmart-197/
CATEGORIES:Member
END:VEVENT
BEGIN:VEVENT
DTSTART;TZID=America/Detroit:20260523T100000
DTEND;TZID=America/Detroit:20260523T140000
DTSTAMP:20260424T101433
CREATED:20260423T180221Z
LAST-MODIFIED:20260423T182745Z
UID:4194-1779530400-1779544800@diversityins.com
SUMMARY:Livonia Walmart
DESCRIPTION:Have questions about Medicare or ACA plans? Visit our kiosk near the front entrance of Walmart during our scheduled hours. We’re happy to help!
URL:https://diversityins.com/event/livonia-walmart-224/
CATEGORIES:Member
END:VEVENT
BEGIN:VEVENT
DTSTART;TZID=America/Detroit:20260523T100000
DTEND;TZID=America/Detroit:20260523T140000
DTSTAMP:20260424T101433
CREATED:20260423T182821Z
LAST-MODIFIED:20260423T182821Z
UID:4239-1779530400-1779544800@diversityins.com
SUMMARY:Taylor Walmart
DESCRIPTION:Have questions about Medicare or ACA plans? Visit our kiosk near the front entrance of Walmart during our scheduled hours. We’re happy to help!
URL:https://diversityins.com/event/taylor-walmart-229/
CATEGORIES:Member
END:VEVENT
BEGIN:VEVENT
DTSTART;TZID=America/Detroit:20260524T110000
DTEND;TZID=America/Detroit:20260524T150000
DTSTAMP:20260424T101433
CREATED:20260423T182821Z
LAST-MODIFIED:20260423T182821Z
UID:4240-1779620400-1779634800@diversityins.com
SUMMARY:Taylor Walmart
DESCRIPTION:Have questions about Medicare or ACA plans? Visit our kiosk near the front entrance of Walmart during our scheduled hours. We’re happy to help!
URL:https://diversityins.com/event/taylor-walmart-230/
CATEGORIES:Member
END:VEVENT
BEGIN:VEVENT
DTSTART;TZID=America/Detroit:20260525T100000
DTEND;TZID=America/Detroit:20260525T150000
DTSTAMP:20260424T101433
CREATED:20260423T175929Z
LAST-MODIFIED:20260423T182521Z
UID:4168-1779703200-1779721200@diversityins.com
SUMMARY:Southgate Walmart
DESCRIPTION:Have questions about Medicare or ACA plans? Visit our kiosk near the front entrance of Walmart during our scheduled hours. We’re happy to help!
URL:https://diversityins.com/event/southgate-walmart-198/
CATEGORIES:Member
END:VEVENT
BEGIN:VEVENT
DTSTART;TZID=America/Detroit:20260525T100000
DTEND;TZID=America/Detroit:20260525T150000
DTSTAMP:20260424T101433
CREATED:20260423T180222Z
LAST-MODIFIED:20260423T182745Z
UID:4195-1779703200-1779721200@diversityins.com
SUMMARY:Livonia Walmart
DESCRIPTION:Have questions about Medicare or ACA plans? Visit our kiosk near the front entrance of Walmart during our scheduled hours. We’re happy to help!
URL:https://diversityins.com/event/livonia-walmart-225/
CATEGORIES:Member
END:VEVENT
BEGIN:VEVENT
DTSTART;TZID=America/Detroit:20260525T100000
DTEND;TZID=America/Detroit:20260525T150000
DTSTAMP:20260424T101433
CREATED:20260423T182822Z
LAST-MODIFIED:20260423T182822Z
UID:4241-1779703200-1779721200@diversityins.com
SUMMARY:Taylor Walmart
DESCRIPTION:Have questions about Medicare or ACA plans? Visit our kiosk near the front entrance of Walmart during our scheduled hours. We’re happy to help!
URL:https://diversityins.com/event/taylor-walmart-231/
CATEGORIES:Member
END:VEVENT
BEGIN:VEVENT
DTSTART;TZID=America/Detroit:20260526T100000
DTEND;TZID=America/Detroit:20260526T150000
DTSTAMP:20260424T101433
CREATED:20260423T175930Z
LAST-MODIFIED:20260423T182521Z
UID:4169-1779789600-1779807600@diversityins.com
SUMMARY:Southgate Walmart
DESCRIPTION:Have questions about Medicare or ACA plans? Visit our kiosk near the front entrance of Walmart during our scheduled hours. We’re happy to help!
URL:https://diversityins.com/event/southgate-walmart-199/
CATEGORIES:Member
END:VEVENT
BEGIN:VEVENT
DTSTART;TZID=America/Detroit:20260526T100000
DTEND;TZID=America/Detroit:20260526T150000
DTSTAMP:20260424T101433
CREATED:20260423T180222Z
LAST-MODIFIED:20260423T182745Z
UID:4196-1779789600-1779807600@diversityins.com
SUMMARY:Livonia Walmart
DESCRIPTION:Have questions about Medicare or ACA plans? Visit our kiosk near the front entrance of Walmart during our scheduled hours. We’re happy to help!
URL:https://diversityins.com/event/livonia-walmart-226/
CATEGORIES:Member
END:VEVENT
BEGIN:VEVENT
DTSTART;TZID=America/Detroit:20260526T100000
DTEND;TZID=America/Detroit:20260526T150000
DTSTAMP:20260424T101433
CREATED:20260423T182825Z
LAST-MODIFIED:20260423T182825Z
UID:4242-1779789600-1779807600@diversityins.com
SUMMARY:Taylor Walmart
DESCRIPTION:Have questions about Medicare or ACA plans? Visit our kiosk near the front entrance of Walmart during our scheduled hours. We’re happy to help!
URL:https://diversityins.com/event/taylor-walmart-232/
CATEGORIES:Member
END:VEVENT
BEGIN:VEVENT
DTSTART;TZID=America/Detroit:20260527T100000
DTEND;TZID=America/Detroit:20260527T150000
DTSTAMP:20260424T101433
CREATED:20260423T175930Z
LAST-MODIFIED:20260423T182521Z
UID:4170-1779876000-1779894000@diversityins.com
SUMMARY:Southgate Walmart
DESCRIPTION:Have questions about Medicare or ACA plans? Visit our kiosk near the front entrance of Walmart during our scheduled hours. We’re happy to help!
URL:https://diversityins.com/event/southgate-walmart-200/
CATEGORIES:Member
END:VEVENT
BEGIN:VEVENT
DTSTART;TZID=America/Detroit:20260527T100000
DTEND;TZID=America/Detroit:20260527T150000
DTSTAMP:20260424T101433
CREATED:20260423T180031Z
LAST-MODIFIED:20260423T182633Z
UID:4179-1779876000-1779894000@diversityins.com
SUMMARY:Livonia Walmart
DESCRIPTION:Have questions about Medicare or ACA plans? Visit our kiosk near the front entrance of Walmart during our scheduled hours. We’re happy to help!
URL:https://diversityins.com/event/livonia-walmart-209/
CATEGORIES:Member
END:VEVENT
BEGIN:VEVENT
DTSTART;TZID=America/Detroit:20260527T100000
DTEND;TZID=America/Detroit:20260527T150000
DTSTAMP:20260424T101433
CREATED:20260423T182826Z
LAST-MODIFIED:20260423T182826Z
UID:4244-1779876000-1779894000@diversityins.com
SUMMARY:Taylor Walmart
DESCRIPTION:Have questions about Medicare or ACA plans? Visit our kiosk near the front entrance of Walmart during our scheduled hours. We’re happy to help!
URL:https://diversityins.com/event/taylor-walmart-234/
CATEGORIES:Member
END:VEVENT
BEGIN:VEVENT
DTSTART;TZID=America/Detroit:20260528T100000
DTEND;TZID=America/Detroit:20260528T150000
DTSTAMP:20260424T101433
CREATED:20260423T175829Z
LAST-MODIFIED:20260423T182421Z
UID:4160-1779962400-1779980400@diversityins.com
SUMMARY:Southgate Walmart
DESCRIPTION:Have questions about Medicare or ACA plans? Visit our kiosk near the front entrance of Walmart during our scheduled hours. We’re happy to help!
URL:https://diversityins.com/event/southgate-walmart-190/
CATEGORIES:Member
END:VEVENT
BEGIN:VEVENT
DTSTART;TZID=America/Detroit:20260528T100000
DTEND;TZID=America/Detroit:20260528T150000
DTSTAMP:20260424T101433
CREATED:20260423T180133Z
LAST-MODIFIED:20260423T182738Z
UID:4192-1779962400-1779980400@diversityins.com
SUMMARY:Livonia Walmart
DESCRIPTION:Have questions about Medicare or ACA plans? Visit our kiosk near the front entrance of Walmart during our scheduled hours. We’re happy to help!
URL:https://diversityins.com/event/livonia-walmart-222/
CATEGORIES:Member
END:VEVENT
BEGIN:VEVENT
DTSTART;TZID=America/Detroit:20260528T100000
DTEND;TZID=America/Detroit:20260528T150000
DTSTAMP:20260424T101433
CREATED:20260423T182827Z
LAST-MODIFIED:20260423T182827Z
UID:4246-1779962400-1779980400@diversityins.com
SUMMARY:Taylor Walmart
DESCRIPTION:Have questions about Medicare or ACA plans? Visit our kiosk near the front entrance of Walmart during our scheduled hours. We’re happy to help!
URL:https://diversityins.com/event/taylor-walmart-236/
CATEGORIES:Member
END:VEVENT
BEGIN:VEVENT
DTSTART;TZID=America/Detroit:20260529T100000
DTEND;TZID=America/Detroit:20260529T140000
DTSTAMP:20260424T101433
CREATED:20260423T182826Z
LAST-MODIFIED:20260423T182826Z
UID:4243-1780048800-1780063200@diversityins.com
SUMMARY:Taylor Walmart
DESCRIPTION:Have questions about Medicare or ACA plans? Visit our kiosk near the front entrance of Walmart during our scheduled hours. We’re happy to help!
URL:https://diversityins.com/event/taylor-walmart-233/
CATEGORIES:Member
END:VEVENT
BEGIN:VEVENT
DTSTART;TZID=America/Detroit:20260529T100000
DTEND;TZID=America/Detroit:20260529T150000
DTSTAMP:20260424T101433
CREATED:20260423T175932Z
LAST-MODIFIED:20260423T182522Z
UID:4172-1780048800-1780066800@diversityins.com
SUMMARY:Southgate Walmart
DESCRIPTION:Have questions about Medicare or ACA plans? Visit our kiosk near the front entrance of Walmart during our scheduled hours. We’re happy to help!
URL:https://diversityins.com/event/southgate-walmart-202/
CATEGORIES:Member
END:VEVENT
BEGIN:VEVENT
DTSTART;TZID=America/Detroit:20260529T100000
DTEND;TZID=America/Detroit:20260529T150000
DTSTAMP:20260424T101433
CREATED:20260423T180251Z
LAST-MODIFIED:20260423T182752Z
UID:4198-1780048800-1780066800@diversityins.com
SUMMARY:Livonia Walmart
DESCRIPTION:Have questions about Medicare or ACA plans? Visit our kiosk near the front entrance of Walmart during our scheduled hours. We’re happy to help!
URL:https://diversityins.com/event/livonia-walmart-228/
CATEGORIES:Member
END:VEVENT
BEGIN:VEVENT
DTSTART;TZID=America/Detroit:20260530T100000
DTEND;TZID=America/Detroit:20260530T140000
DTSTAMP:20260424T101433
CREATED:20260423T175959Z
LAST-MODIFIED:20260423T182603Z
UID:4173-1780135200-1780149600@diversityins.com
SUMMARY:Southgate Walmart
DESCRIPTION:Have questions about Medicare or ACA plans? Visit our kiosk near the front entrance of Walmart during our scheduled hours. We’re happy to help!
URL:https://diversityins.com/event/southgate-walmart-203/
CATEGORIES:Member
END:VEVENT
BEGIN:VEVENT
DTSTART;TZID=America/Detroit:20260530T100000
DTEND;TZID=America/Detroit:20260530T140000
DTSTAMP:20260424T101433
CREATED:20260423T180252Z
LAST-MODIFIED:20260423T182753Z
UID:4199-1780135200-1780149600@diversityins.com
SUMMARY:Livonia Walmart
DESCRIPTION:Have questions about Medicare or ACA plans? Visit our kiosk near the front entrance of Walmart during our scheduled hours. We’re happy to help!
URL:https://diversityins.com/event/livonia-walmart-229/
CATEGORIES:Member
END:VEVENT
BEGIN:VEVENT
DTSTART;TZID=America/Detroit:20260530T100000
DTEND;TZID=America/Detroit:20260530T140000
DTSTAMP:20260424T101433
CREATED:20260423T182835Z
LAST-MODIFIED:20260423T182835Z
UID:4247-1780135200-1780149600@diversityins.com
SUMMARY:Taylor Walmart
DESCRIPTION:Have questions about Medicare or ACA plans? Visit our kiosk near the front entrance of Walmart during our scheduled hours. We’re happy to help!
URL:https://diversityins.com/event/taylor-walmart-237/
CATEGORIES:Member
END:VEVENT
END:VCALENDAR