BEGIN:VCALENDAR
VERSION:2.0
PRODID:-//Diversity Insurance Agency - ECPv6.15.20//NONSGML v1.0//EN
CALSCALE:GREGORIAN
METHOD:PUBLISH
X-WR-CALNAME:Diversity Insurance Agency
X-ORIGINAL-URL:https://diversityins.com
X-WR-CALDESC:Events for Diversity Insurance Agency
REFRESH-INTERVAL;VALUE=DURATION:PT1H
X-Robots-Tag:noindex
X-PUBLISHED-TTL:PT1H
BEGIN:VTIMEZONE
TZID:America/Detroit
BEGIN:DAYLIGHT
TZOFFSETFROM:-0500
TZOFFSETTO:-0400
TZNAME:EDT
DTSTART:20240310T070000
END:DAYLIGHT
BEGIN:STANDARD
TZOFFSETFROM:-0400
TZOFFSETTO:-0500
TZNAME:EST
DTSTART:20241103T060000
END:STANDARD
BEGIN:DAYLIGHT
TZOFFSETFROM:-0500
TZOFFSETTO:-0400
TZNAME:EDT
DTSTART:20250309T070000
END:DAYLIGHT
BEGIN:STANDARD
TZOFFSETFROM:-0400
TZOFFSETTO:-0500
TZNAME:EST
DTSTART:20251102T060000
END:STANDARD
BEGIN:DAYLIGHT
TZOFFSETFROM:-0500
TZOFFSETTO:-0400
TZNAME:EDT
DTSTART:20260308T070000
END:DAYLIGHT
BEGIN:STANDARD
TZOFFSETFROM:-0400
TZOFFSETTO:-0500
TZNAME:EST
DTSTART:20261101T060000
END:STANDARD
END:VTIMEZONE
BEGIN:VEVENT
DTSTART;TZID=America/Detroit:20251115T110000
DTEND;TZID=America/Detroit:20251115T150000
DTSTAMP:20260425T214849
CREATED:20251022T200519Z
LAST-MODIFIED:20251022T200519Z
UID:2800-1763204400-1763218800@diversityins.com
SUMMARY:Livonia Walmart
DESCRIPTION:
URL:https://diversityins.com/event/livonia-walmart-70/
CATEGORIES:Member
END:VEVENT
BEGIN:VEVENT
DTSTART;TZID=America/Detroit:20251115T110000
DTEND;TZID=America/Detroit:20251115T150000
DTSTAMP:20260425T214849
CREATED:20251022T162609Z
LAST-MODIFIED:20251022T195318Z
UID:2683-1763204400-1763218800@diversityins.com
SUMMARY:Burton Walmart
DESCRIPTION:
URL:https://diversityins.com/event/burton-walmart-55/
CATEGORIES:Member
END:VEVENT
BEGIN:VEVENT
DTSTART;TZID=America/Detroit:20251115T100000
DTEND;TZID=America/Detroit:20251115T180000
DTSTAMP:20260425T214849
CREATED:20251022T202051Z
LAST-MODIFIED:20251022T202051Z
UID:2923-1763200800-1763229600@diversityins.com
SUMMARY:Joliet Walmart
DESCRIPTION:
URL:https://diversityins.com/event/joliet-walmart-41/
CATEGORIES:Member
END:VEVENT
BEGIN:VEVENT
DTSTART;TZID=America/Detroit:20251115T100000
DTEND;TZID=America/Detroit:20251115T150000
DTSTAMP:20260425T214849
CREATED:20251022T202511Z
LAST-MODIFIED:20251022T202511Z
UID:2942-1763200800-1763218800@diversityins.com
SUMMARY:Darien Walmart
DESCRIPTION:
URL:https://diversityins.com/event/darien-walmart-29/
CATEGORIES:Member
END:VEVENT
BEGIN:VEVENT
DTSTART;TZID=America/Detroit:20251115T100000
DTEND;TZID=America/Detroit:20251115T150000
DTSTAMP:20260425T214849
CREATED:20251022T195917Z
LAST-MODIFIED:20251022T195917Z
UID:2740-1763200800-1763218800@diversityins.com
SUMMARY:Jackson Walmart
DESCRIPTION:
URL:https://diversityins.com/event/jackson-walmart-57/
CATEGORIES:Member
END:VEVENT
BEGIN:VEVENT
DTSTART;TZID=America/Detroit:20251115T100000
DTEND;TZID=America/Detroit:20251115T140000
DTSTAMP:20260425T214849
CREATED:20251022T201319Z
LAST-MODIFIED:20251022T201319Z
UID:2878-1763200800-1763215200@diversityins.com
SUMMARY:Jonesville Walmart
DESCRIPTION:
URL:https://diversityins.com/event/jonesville-walmart-54/
CATEGORIES:Member
END:VEVENT
BEGIN:VEVENT
DTSTART;TZID=America/Detroit:20251115T100000
DTEND;TZID=America/Detroit:20251115T140000
DTSTAMP:20260425T214849
CREATED:20251022T201119Z
LAST-MODIFIED:20251022T201119Z
UID:2857-1763200800-1763215200@diversityins.com
SUMMARY:Dearborn Walmart
DESCRIPTION:
URL:https://diversityins.com/event/dearborn-walmart-57/
CATEGORIES:Member
END:VEVENT
BEGIN:VEVENT
DTSTART;TZID=America/Detroit:20251115T100000
DTEND;TZID=America/Detroit:20251115T140000
DTSTAMP:20260425T214849
CREATED:20251022T200748Z
LAST-MODIFIED:20251022T200748Z
UID:2821-1763200800-1763215200@diversityins.com
SUMMARY:Flint Walmart
DESCRIPTION:
URL:https://diversityins.com/event/flint-walmart-53/
CATEGORIES:Member
END:VEVENT
BEGIN:VEVENT
DTSTART;TZID=America/Detroit:20251115T100000
DTEND;TZID=America/Detroit:20251115T140000
DTSTAMP:20260425T214849
CREATED:20251022T162949Z
LAST-MODIFIED:20251022T195519Z
UID:2704-1763200800-1763215200@diversityins.com
SUMMARY:Southgate Walmart
DESCRIPTION:
URL:https://diversityins.com/event/southgate-walmart-57/
CATEGORIES:Member
END:VEVENT
BEGIN:VEVENT
DTSTART;TZID=America/Detroit:20251115T093000
DTEND;TZID=America/Detroit:20251115T160000
DTSTAMP:20260425T214849
CREATED:20251022T200119Z
LAST-MODIFIED:20251022T200119Z
UID:2761-1763199000-1763222400@diversityins.com
SUMMARY:Monroe Walmart
DESCRIPTION:
URL:https://diversityins.com/event/monroe-walmart-62/
CATEGORIES:Member
END:VEVENT
BEGIN:VEVENT
DTSTART;TZID=America/Detroit:20251115T090000
DTEND;TZID=America/Detroit:20251115T130000
DTSTAMP:20260425T214849
CREATED:20251022T201549Z
LAST-MODIFIED:20251022T201549Z
UID:2900-1763197200-1763211600@diversityins.com
SUMMARY:Taylor Walmart
DESCRIPTION:
URL:https://diversityins.com/event/taylor-walmart-68/
CATEGORIES:Member
END:VEVENT
BEGIN:VEVENT
DTSTART;TZID=America/Detroit:20251115T080000
DTEND;TZID=America/Detroit:20251115T170000
DTSTAMP:20260425T214849
CREATED:20251022T163501Z
LAST-MODIFIED:20251022T195718Z
UID:2721-1763193600-1763226000@diversityins.com
SUMMARY:Hastings Walmart
DESCRIPTION:
URL:https://diversityins.com/event/hastings-walmart-41/
CATEGORIES:Member
END:VEVENT
BEGIN:VEVENT
DTSTART;TZID=America/Detroit:20251114T100000
DTEND;TZID=America/Detroit:20251114T180000
DTSTAMP:20260425T214849
CREATED:20251022T202050Z
LAST-MODIFIED:20251022T202050Z
UID:2922-1763114400-1763143200@diversityins.com
SUMMARY:Joliet Walmart
DESCRIPTION:
URL:https://diversityins.com/event/joliet-walmart-40/
CATEGORIES:Member
END:VEVENT
BEGIN:VEVENT
DTSTART;TZID=America/Detroit:20251114T100000
DTEND;TZID=America/Detroit:20251114T160000
DTSTAMP:20260425T214849
CREATED:20251022T200318Z
LAST-MODIFIED:20251022T200318Z
UID:2780-1763114400-1763136000@diversityins.com
SUMMARY:West Branch Walmart
DESCRIPTION:
URL:https://diversityins.com/event/west-branch-walmart-56/
CATEGORIES:Member
END:VEVENT
BEGIN:VEVENT
DTSTART;TZID=America/Detroit:20251114T100000
DTEND;TZID=America/Detroit:20251114T150000
DTSTAMP:20260425T214849
CREATED:20251022T202510Z
LAST-MODIFIED:20251022T202510Z
UID:2941-1763114400-1763132400@diversityins.com
SUMMARY:Darien Walmart
DESCRIPTION:
URL:https://diversityins.com/event/darien-walmart-28/
CATEGORIES:Member
END:VEVENT
BEGIN:VEVENT
DTSTART;TZID=America/Detroit:20251114T093000
DTEND;TZID=America/Detroit:20251114T160000
DTSTAMP:20260425T214849
CREATED:20251022T200118Z
LAST-MODIFIED:20251022T200118Z
UID:2760-1763112600-1763136000@diversityins.com
SUMMARY:Monroe Walmart
DESCRIPTION:
URL:https://diversityins.com/event/monroe-walmart-61/
CATEGORIES:Member
END:VEVENT
BEGIN:VEVENT
DTSTART;TZID=America/Detroit:20251114T090000
DTEND;TZID=America/Detroit:20251114T160000
DTSTAMP:20260425T214849
CREATED:20251022T201548Z
LAST-MODIFIED:20251022T201548Z
UID:2899-1763110800-1763136000@diversityins.com
SUMMARY:Taylor Walmart
DESCRIPTION:
URL:https://diversityins.com/event/taylor-walmart-67/
CATEGORIES:Member
END:VEVENT
BEGIN:VEVENT
DTSTART;TZID=America/Detroit:20251114T090000
DTEND;TZID=America/Detroit:20251114T160000
DTSTAMP:20260425T214849
CREATED:20251022T201319Z
LAST-MODIFIED:20251022T201319Z
UID:2877-1763110800-1763136000@diversityins.com
SUMMARY:Jonesville Walmart
DESCRIPTION:
URL:https://diversityins.com/event/jonesville-walmart-53/
CATEGORIES:Member
END:VEVENT
BEGIN:VEVENT
DTSTART;TZID=America/Detroit:20251114T090000
DTEND;TZID=America/Detroit:20251114T160000
DTSTAMP:20260425T214849
CREATED:20251022T201118Z
LAST-MODIFIED:20251022T201118Z
UID:2856-1763110800-1763136000@diversityins.com
SUMMARY:Dearborn Walmart
DESCRIPTION:
URL:https://diversityins.com/event/dearborn-walmart-56/
CATEGORIES:Member
END:VEVENT
BEGIN:VEVENT
DTSTART;TZID=America/Detroit:20251114T090000
DTEND;TZID=America/Detroit:20251114T160000
DTSTAMP:20260425T214849
CREATED:20251022T200720Z
LAST-MODIFIED:20251022T200720Z
UID:2820-1763110800-1763136000@diversityins.com
SUMMARY:Flint Walmart
DESCRIPTION:
URL:https://diversityins.com/event/flint-walmart-52/
CATEGORIES:Member
END:VEVENT
BEGIN:VEVENT
DTSTART;TZID=America/Detroit:20251114T090000
DTEND;TZID=America/Detroit:20251114T160000
DTSTAMP:20260425T214849
CREATED:20251022T200519Z
LAST-MODIFIED:20251022T200519Z
UID:2799-1763110800-1763136000@diversityins.com
SUMMARY:Livonia Walmart
DESCRIPTION:
URL:https://diversityins.com/event/livonia-walmart-69/
CATEGORIES:Member
END:VEVENT
BEGIN:VEVENT
DTSTART;TZID=America/Detroit:20251114T090000
DTEND;TZID=America/Detroit:20251114T160000
DTSTAMP:20260425T214849
CREATED:20251022T162948Z
LAST-MODIFIED:20251022T195519Z
UID:2703-1763110800-1763136000@diversityins.com
SUMMARY:Southgate Walmart
DESCRIPTION:
URL:https://diversityins.com/event/southgate-walmart-56/
CATEGORIES:Member
END:VEVENT
BEGIN:VEVENT
DTSTART;TZID=America/Detroit:20251114T090000
DTEND;TZID=America/Detroit:20251114T160000
DTSTAMP:20260425T214849
CREATED:20251022T162608Z
LAST-MODIFIED:20251022T195318Z
UID:2682-1763110800-1763136000@diversityins.com
SUMMARY:Burton Walmart
DESCRIPTION:
URL:https://diversityins.com/event/burton-walmart-54/
CATEGORIES:Member
END:VEVENT
BEGIN:VEVENT
DTSTART;TZID=America/Detroit:20251114T090000
DTEND;TZID=America/Detroit:20251114T153000
DTSTAMP:20260425T214849
CREATED:20251022T195850Z
LAST-MODIFIED:20251022T195850Z
UID:2739-1763110800-1763134200@diversityins.com
SUMMARY:Jackson Walmart
DESCRIPTION:
URL:https://diversityins.com/event/jackson-walmart-56/
CATEGORIES:Member
END:VEVENT
BEGIN:VEVENT
DTSTART;TZID=America/Detroit:20251114T080000
DTEND;TZID=America/Detroit:20251114T130000
DTSTAMP:20260425T214849
CREATED:20251022T163500Z
LAST-MODIFIED:20251022T195718Z
UID:2720-1763107200-1763125200@diversityins.com
SUMMARY:Hastings Walmart
DESCRIPTION:
URL:https://diversityins.com/event/hastings-walmart-40/
CATEGORIES:Member
END:VEVENT
BEGIN:VEVENT
DTSTART;TZID=America/Detroit:20251113T100000
DTEND;TZID=America/Detroit:20251113T160000
DTSTAMP:20260425T214849
CREATED:20251022T201118Z
LAST-MODIFIED:20251022T201118Z
UID:2855-1763028000-1763049600@diversityins.com
SUMMARY:Dearborn Walmart
DESCRIPTION:
URL:https://diversityins.com/event/dearborn-walmart-55/
CATEGORIES:Member
END:VEVENT
BEGIN:VEVENT
DTSTART;TZID=America/Detroit:20251113T100000
DTEND;TZID=America/Detroit:20251113T160000
DTSTAMP:20260425T214849
CREATED:20251022T200318Z
LAST-MODIFIED:20251022T200318Z
UID:2779-1763028000-1763049600@diversityins.com
SUMMARY:West Branch Walmart
DESCRIPTION:
URL:https://diversityins.com/event/west-branch-walmart-55/
CATEGORIES:Member
END:VEVENT
BEGIN:VEVENT
DTSTART;TZID=America/Detroit:20251113T093000
DTEND;TZID=America/Detroit:20251113T160000
DTSTAMP:20260425T214849
CREATED:20251022T200117Z
LAST-MODIFIED:20251022T200117Z
UID:2759-1763026200-1763049600@diversityins.com
SUMMARY:Monroe Walmart
DESCRIPTION:
URL:https://diversityins.com/event/monroe-walmart-60/
CATEGORIES:Member
END:VEVENT
BEGIN:VEVENT
DTSTART;TZID=America/Detroit:20251113T090000
DTEND;TZID=America/Detroit:20251113T170000
DTSTAMP:20260425T214849
CREATED:20251022T200919Z
LAST-MODIFIED:20251022T200919Z
UID:2838-1763024400-1763053200@diversityins.com
SUMMARY:Lapeer Walmart
DESCRIPTION:
URL:https://diversityins.com/event/lapeer-walmart-41/
CATEGORIES:Member
END:VEVENT
BEGIN:VEVENT
DTSTART;TZID=America/Detroit:20251113T090000
DTEND;TZID=America/Detroit:20251113T160000
DTSTAMP:20260425T214849
CREATED:20251022T201520Z
LAST-MODIFIED:20251022T201520Z
UID:2898-1763024400-1763049600@diversityins.com
SUMMARY:Taylor Walmart
DESCRIPTION:
URL:https://diversityins.com/event/taylor-walmart-66/
CATEGORIES:Member
END:VEVENT
END:VCALENDAR