BEGIN:VCALENDAR
VERSION:2.0
PRODID:-//Diversity Insurance Agency - ECPv6.15.20//NONSGML v1.0//EN
CALSCALE:GREGORIAN
METHOD:PUBLISH
X-WR-CALNAME:Diversity Insurance Agency
X-ORIGINAL-URL:https://diversityins.com
X-WR-CALDESC:Events for Diversity Insurance Agency
REFRESH-INTERVAL;VALUE=DURATION:PT1H
X-Robots-Tag:noindex
X-PUBLISHED-TTL:PT1H
BEGIN:VTIMEZONE
TZID:America/Detroit
BEGIN:DAYLIGHT
TZOFFSETFROM:-0500
TZOFFSETTO:-0400
TZNAME:EDT
DTSTART:20240310T070000
END:DAYLIGHT
BEGIN:STANDARD
TZOFFSETFROM:-0400
TZOFFSETTO:-0500
TZNAME:EST
DTSTART:20241103T060000
END:STANDARD
BEGIN:DAYLIGHT
TZOFFSETFROM:-0500
TZOFFSETTO:-0400
TZNAME:EDT
DTSTART:20250309T070000
END:DAYLIGHT
BEGIN:STANDARD
TZOFFSETFROM:-0400
TZOFFSETTO:-0500
TZNAME:EST
DTSTART:20251102T060000
END:STANDARD
BEGIN:DAYLIGHT
TZOFFSETFROM:-0500
TZOFFSETTO:-0400
TZNAME:EDT
DTSTART:20260308T070000
END:DAYLIGHT
BEGIN:STANDARD
TZOFFSETFROM:-0400
TZOFFSETTO:-0500
TZNAME:EST
DTSTART:20261101T060000
END:STANDARD
END:VTIMEZONE
BEGIN:VEVENT
DTSTART;TZID=America/Detroit:20251130T120000
DTEND;TZID=America/Detroit:20251130T200000
DTSTAMP:20260425T115736
CREATED:20251022T201650Z
LAST-MODIFIED:20251022T201650Z
UID:2912-1764504000-1764532800@diversityins.com
SUMMARY:Taylor Walmart
DESCRIPTION:
URL:https://diversityins.com/event/taylor-walmart-80/
CATEGORIES:Member
END:VEVENT
BEGIN:VEVENT
DTSTART;TZID=America/Detroit:20251130T110000
DTEND;TZID=America/Detroit:20251130T150000
DTSTAMP:20260425T115736
CREATED:20251022T200619Z
LAST-MODIFIED:20251022T200619Z
UID:2810-1764500400-1764514800@diversityins.com
SUMMARY:Flint Walmart
DESCRIPTION:
URL:https://diversityins.com/event/flint-walmart-42/
CATEGORIES:Member
END:VEVENT
BEGIN:VEVENT
DTSTART;TZID=America/Detroit:20251126T100000
DTEND;TZID=America/Detroit:20251126T180000
DTSTAMP:20260425T115736
CREATED:20251022T202231Z
LAST-MODIFIED:20251022T202231Z
UID:2930-1764151200-1764180000@diversityins.com
SUMMARY:Joliet Walmart
DESCRIPTION:
URL:https://diversityins.com/event/joliet-walmart-48/
CATEGORIES:Member
END:VEVENT
BEGIN:VEVENT
DTSTART;TZID=America/Detroit:20251126T100000
DTEND;TZID=America/Detroit:20251126T160000
DTSTAMP:20260425T115736
CREATED:20251022T200350Z
LAST-MODIFIED:20251022T200350Z
UID:2788-1764151200-1764172800@diversityins.com
SUMMARY:West Branch Walmart
DESCRIPTION:
URL:https://diversityins.com/event/west-branch-walmart-64/
CATEGORIES:Member
END:VEVENT
BEGIN:VEVENT
DTSTART;TZID=America/Detroit:20251126T093000
DTEND;TZID=America/Detroit:20251126T160000
DTSTAMP:20260425T115736
CREATED:20251022T200218Z
LAST-MODIFIED:20251022T200218Z
UID:2770-1764149400-1764172800@diversityins.com
SUMMARY:Monroe Walmart
DESCRIPTION:
URL:https://diversityins.com/event/monroe-walmart-71/
CATEGORIES:Member
END:VEVENT
BEGIN:VEVENT
DTSTART;TZID=America/Detroit:20251126T090000
DTEND;TZID=America/Detroit:20251126T170000
DTSTAMP:20260425T115736
CREATED:20251022T200950Z
LAST-MODIFIED:20251022T200950Z
UID:2845-1764147600-1764176400@diversityins.com
SUMMARY:Lapeer Walmart
DESCRIPTION:
URL:https://diversityins.com/event/lapeer-walmart-48/
CATEGORIES:Member
END:VEVENT
BEGIN:VEVENT
DTSTART;TZID=America/Detroit:20251126T090000
DTEND;TZID=America/Detroit:20251126T160000
DTSTAMP:20260425T115736
CREATED:20251022T201649Z
LAST-MODIFIED:20251022T201649Z
UID:2911-1764147600-1764172800@diversityins.com
SUMMARY:Taylor Walmart
DESCRIPTION:
URL:https://diversityins.com/event/taylor-walmart-79/
CATEGORIES:Member
END:VEVENT
BEGIN:VEVENT
DTSTART;TZID=America/Detroit:20251126T090000
DTEND;TZID=America/Detroit:20251126T160000
DTSTAMP:20260425T115736
CREATED:20251022T201419Z
LAST-MODIFIED:20251022T201419Z
UID:2887-1764147600-1764172800@diversityins.com
SUMMARY:Jonesville Walmart
DESCRIPTION:
URL:https://diversityins.com/event/jonesville-walmart-63/
CATEGORIES:Member
END:VEVENT
BEGIN:VEVENT
DTSTART;TZID=America/Detroit:20251126T090000
DTEND;TZID=America/Detroit:20251126T160000
DTSTAMP:20260425T115736
CREATED:20251022T201218Z
LAST-MODIFIED:20251022T201218Z
UID:2866-1764147600-1764172800@diversityins.com
SUMMARY:Dearborn Walmart
DESCRIPTION:
URL:https://diversityins.com/event/dearborn-walmart-66/
CATEGORIES:Member
END:VEVENT
BEGIN:VEVENT
DTSTART;TZID=America/Detroit:20251126T090000
DTEND;TZID=America/Detroit:20251126T160000
DTSTAMP:20260425T115736
CREATED:20251022T200820Z
LAST-MODIFIED:20251022T200820Z
UID:2830-1764147600-1764172800@diversityins.com
SUMMARY:Flint Walmart
DESCRIPTION:
URL:https://diversityins.com/event/flint-walmart-62/
CATEGORIES:Member
END:VEVENT
BEGIN:VEVENT
DTSTART;TZID=America/Detroit:20251126T090000
DTEND;TZID=America/Detroit:20251126T160000
DTSTAMP:20260425T115736
CREATED:20251022T200619Z
LAST-MODIFIED:20251022T200619Z
UID:2809-1764147600-1764172800@diversityins.com
SUMMARY:Livonia Walmart
DESCRIPTION:
URL:https://diversityins.com/event/livonia-walmart-79/
CATEGORIES:Member
END:VEVENT
BEGIN:VEVENT
DTSTART;TZID=America/Detroit:20251126T090000
DTEND;TZID=America/Detroit:20251126T160000
DTSTAMP:20260425T115736
CREATED:20251022T163701Z
LAST-MODIFIED:20251022T195749Z
UID:2727-1764147600-1764172800@diversityins.com
SUMMARY:Hastings Walmart
DESCRIPTION:
URL:https://diversityins.com/event/hastings-walmart-47/
CATEGORIES:Member
END:VEVENT
BEGIN:VEVENT
DTSTART;TZID=America/Detroit:20251126T090000
DTEND;TZID=America/Detroit:20251126T160000
DTSTAMP:20260425T115736
CREATED:20251022T163101Z
LAST-MODIFIED:20251022T195619Z
UID:2713-1764147600-1764172800@diversityins.com
SUMMARY:Southgate Walmart
DESCRIPTION:
URL:https://diversityins.com/event/southgate-walmart-66/
CATEGORIES:Member
END:VEVENT
BEGIN:VEVENT
DTSTART;TZID=America/Detroit:20251126T090000
DTEND;TZID=America/Detroit:20251126T160000
DTSTAMP:20260425T115736
CREATED:20251022T162716Z
LAST-MODIFIED:20251022T195418Z
UID:2692-1764147600-1764172800@diversityins.com
SUMMARY:Burton Walmart
DESCRIPTION:
URL:https://diversityins.com/event/burton-walmart-64/
CATEGORIES:Member
END:VEVENT
BEGIN:VEVENT
DTSTART;TZID=America/Detroit:20251126T090000
DTEND;TZID=America/Detroit:20251126T153000
DTSTAMP:20260425T115736
CREATED:20251022T195950Z
LAST-MODIFIED:20251022T195950Z
UID:2749-1764147600-1764171000@diversityins.com
SUMMARY:Jackson Walmart
DESCRIPTION:
URL:https://diversityins.com/event/jackson-walmart-66/
CATEGORIES:Member
END:VEVENT
BEGIN:VEVENT
DTSTART;TZID=America/Detroit:20251125T100000
DTEND;TZID=America/Detroit:20251125T180000
DTSTAMP:20260425T115736
CREATED:20251022T202230Z
LAST-MODIFIED:20251022T202230Z
UID:2929-1764064800-1764093600@diversityins.com
SUMMARY:Joliet Walmart
DESCRIPTION:
URL:https://diversityins.com/event/joliet-walmart-47/
CATEGORIES:Member
END:VEVENT
BEGIN:VEVENT
DTSTART;TZID=America/Detroit:20251125T100000
DTEND;TZID=America/Detroit:20251125T160000
DTSTAMP:20260425T115736
CREATED:20251022T200350Z
LAST-MODIFIED:20251022T200350Z
UID:2787-1764064800-1764086400@diversityins.com
SUMMARY:West Branch Walmart
DESCRIPTION:
URL:https://diversityins.com/event/west-branch-walmart-63/
CATEGORIES:Member
END:VEVENT
BEGIN:VEVENT
DTSTART;TZID=America/Detroit:20251125T100000
DTEND;TZID=America/Detroit:20251125T150000
DTSTAMP:20260425T115736
CREATED:20251022T202909Z
LAST-MODIFIED:20251022T202909Z
UID:2949-1764064800-1764082800@diversityins.com
SUMMARY:Darien Walmart
DESCRIPTION:
URL:https://diversityins.com/event/darien-walmart-36/
CATEGORIES:Member
END:VEVENT
BEGIN:VEVENT
DTSTART;TZID=America/Detroit:20251125T093000
DTEND;TZID=America/Detroit:20251125T160000
DTSTAMP:20260425T115736
CREATED:20251022T200217Z
LAST-MODIFIED:20251022T200217Z
UID:2769-1764063000-1764086400@diversityins.com
SUMMARY:Monroe Walmart
DESCRIPTION:
URL:https://diversityins.com/event/monroe-walmart-70/
CATEGORIES:Member
END:VEVENT
BEGIN:VEVENT
DTSTART;TZID=America/Detroit:20251125T090000
DTEND;TZID=America/Detroit:20251125T170000
DTSTAMP:20260425T115736
CREATED:20251022T200950Z
LAST-MODIFIED:20251022T200950Z
UID:2844-1764061200-1764090000@diversityins.com
SUMMARY:Lapeer Walmart
DESCRIPTION:
URL:https://diversityins.com/event/lapeer-walmart-47/
CATEGORIES:Member
END:VEVENT
BEGIN:VEVENT
DTSTART;TZID=America/Detroit:20251125T090000
DTEND;TZID=America/Detroit:20251125T160000
DTSTAMP:20260425T115736
CREATED:20251022T201649Z
LAST-MODIFIED:20251022T201649Z
UID:2910-1764061200-1764086400@diversityins.com
SUMMARY:Taylor Walmart
DESCRIPTION:
URL:https://diversityins.com/event/taylor-walmart-78/
CATEGORIES:Member
END:VEVENT
BEGIN:VEVENT
DTSTART;TZID=America/Detroit:20251125T090000
DTEND;TZID=America/Detroit:20251125T160000
DTSTAMP:20260425T115736
CREATED:20251022T201418Z
LAST-MODIFIED:20251022T201418Z
UID:2886-1764061200-1764086400@diversityins.com
SUMMARY:Jonesville Walmart
DESCRIPTION:
URL:https://diversityins.com/event/jonesville-walmart-62/
CATEGORIES:Member
END:VEVENT
BEGIN:VEVENT
DTSTART;TZID=America/Detroit:20251125T090000
DTEND;TZID=America/Detroit:20251125T160000
DTSTAMP:20260425T115736
CREATED:20251022T201218Z
LAST-MODIFIED:20251022T201218Z
UID:2865-1764061200-1764086400@diversityins.com
SUMMARY:Dearborn Walmart
DESCRIPTION:
URL:https://diversityins.com/event/dearborn-walmart-65/
CATEGORIES:Member
END:VEVENT
BEGIN:VEVENT
DTSTART;TZID=America/Detroit:20251125T090000
DTEND;TZID=America/Detroit:20251125T160000
DTSTAMP:20260425T115736
CREATED:20251022T200819Z
LAST-MODIFIED:20251022T200819Z
UID:2829-1764061200-1764086400@diversityins.com
SUMMARY:Flint Walmart
DESCRIPTION:
URL:https://diversityins.com/event/flint-walmart-61/
CATEGORIES:Member
END:VEVENT
BEGIN:VEVENT
DTSTART;TZID=America/Detroit:20251125T090000
DTEND;TZID=America/Detroit:20251125T160000
DTSTAMP:20260425T115736
CREATED:20251022T200618Z
LAST-MODIFIED:20251022T200618Z
UID:2808-1764061200-1764086400@diversityins.com
SUMMARY:Livonia Walmart
DESCRIPTION:
URL:https://diversityins.com/event/livonia-walmart-78/
CATEGORIES:Member
END:VEVENT
BEGIN:VEVENT
DTSTART;TZID=America/Detroit:20251125T090000
DTEND;TZID=America/Detroit:20251125T160000
DTSTAMP:20260425T115736
CREATED:20251022T163100Z
LAST-MODIFIED:20251022T195618Z
UID:2712-1764061200-1764086400@diversityins.com
SUMMARY:Southgate Walmart
DESCRIPTION:
URL:https://diversityins.com/event/southgate-walmart-65/
CATEGORIES:Member
END:VEVENT
BEGIN:VEVENT
DTSTART;TZID=America/Detroit:20251125T090000
DTEND;TZID=America/Detroit:20251125T160000
DTSTAMP:20260425T115736
CREATED:20251022T162716Z
LAST-MODIFIED:20251022T195417Z
UID:2691-1764061200-1764086400@diversityins.com
SUMMARY:Burton Walmart
DESCRIPTION:
URL:https://diversityins.com/event/burton-walmart-63/
CATEGORIES:Member
END:VEVENT
BEGIN:VEVENT
DTSTART;TZID=America/Detroit:20251125T090000
DTEND;TZID=America/Detroit:20251125T153000
DTSTAMP:20260425T115736
CREATED:20251022T195949Z
LAST-MODIFIED:20251022T195949Z
UID:2748-1764061200-1764084600@diversityins.com
SUMMARY:Jackson Walmart
DESCRIPTION:
URL:https://diversityins.com/event/jackson-walmart-65/
CATEGORIES:Member
END:VEVENT
BEGIN:VEVENT
DTSTART;TZID=America/Detroit:20251124T100000
DTEND;TZID=America/Detroit:20251124T180000
DTSTAMP:20260425T115736
CREATED:20251022T202203Z
LAST-MODIFIED:20251022T202203Z
UID:2928-1763978400-1764007200@diversityins.com
SUMMARY:Joliet Walmart
DESCRIPTION:
URL:https://diversityins.com/event/joliet-walmart-46/
CATEGORIES:Member
END:VEVENT
BEGIN:VEVENT
DTSTART;TZID=America/Detroit:20251124T100000
DTEND;TZID=America/Detroit:20251124T160000
DTSTAMP:20260425T115736
CREATED:20251022T200349Z
LAST-MODIFIED:20251022T200349Z
UID:2786-1763978400-1764000000@diversityins.com
SUMMARY:West Branch Walmart
DESCRIPTION:
URL:https://diversityins.com/event/west-branch-walmart-62/
CATEGORIES:Member
END:VEVENT
END:VCALENDAR