BEGIN:VCALENDAR
VERSION:2.0
PRODID:-//Diversity Insurance Agency - ECPv6.15.20//NONSGML v1.0//EN
CALSCALE:GREGORIAN
METHOD:PUBLISH
X-WR-CALNAME:Diversity Insurance Agency
X-ORIGINAL-URL:https://diversityins.com
X-WR-CALDESC:Events for Diversity Insurance Agency
REFRESH-INTERVAL;VALUE=DURATION:PT1H
X-Robots-Tag:noindex
X-PUBLISHED-TTL:PT1H
BEGIN:VTIMEZONE
TZID:America/Detroit
BEGIN:DAYLIGHT
TZOFFSETFROM:-0500
TZOFFSETTO:-0400
TZNAME:EDT
DTSTART:20240310T070000
END:DAYLIGHT
BEGIN:STANDARD
TZOFFSETFROM:-0400
TZOFFSETTO:-0500
TZNAME:EST
DTSTART:20241103T060000
END:STANDARD
BEGIN:DAYLIGHT
TZOFFSETFROM:-0500
TZOFFSETTO:-0400
TZNAME:EDT
DTSTART:20250309T070000
END:DAYLIGHT
BEGIN:STANDARD
TZOFFSETFROM:-0400
TZOFFSETTO:-0500
TZNAME:EST
DTSTART:20251102T060000
END:STANDARD
BEGIN:DAYLIGHT
TZOFFSETFROM:-0500
TZOFFSETTO:-0400
TZNAME:EDT
DTSTART:20260308T070000
END:DAYLIGHT
BEGIN:STANDARD
TZOFFSETFROM:-0400
TZOFFSETTO:-0500
TZNAME:EST
DTSTART:20261101T060000
END:STANDARD
END:VTIMEZONE
BEGIN:VEVENT
DTSTART;TZID=America/Detroit:20251106T090000
DTEND;TZID=America/Detroit:20251106T140000
DTSTAMP:20260425T070240
CREATED:20251022T201248Z
LAST-MODIFIED:20251022T201248Z
UID:2870-1762419600-1762437600@diversityins.com
SUMMARY:Jonesville Walmart
DESCRIPTION:
URL:https://diversityins.com/event/jonesville-walmart-46/
CATEGORIES:Member
END:VEVENT
BEGIN:VEVENT
DTSTART;TZID=America/Detroit:20251106T090000
DTEND;TZID=America/Detroit:20251106T153000
DTSTAMP:20260425T070240
CREATED:20251022T163901Z
LAST-MODIFIED:20251022T195818Z
UID:2731-1762419600-1762443000@diversityins.com
SUMMARY:Jackson Walmart
DESCRIPTION:
URL:https://diversityins.com/event/jackson-walmart-49/
CATEGORIES:Member
END:VEVENT
BEGIN:VEVENT
DTSTART;TZID=America/Detroit:20251106T090000
DTEND;TZID=America/Detroit:20251106T160000
DTSTAMP:20260425T070240
CREATED:20251022T162533Z
LAST-MODIFIED:20251022T195245Z
UID:2675-1762419600-1762444800@diversityins.com
SUMMARY:Burton Walmart
DESCRIPTION:
URL:https://diversityins.com/event/burton-walmart-47/
CATEGORIES:Member
END:VEVENT
BEGIN:VEVENT
DTSTART;TZID=America/Detroit:20251106T090000
DTEND;TZID=America/Detroit:20251106T160000
DTSTAMP:20260425T070240
CREATED:20251022T162917Z
LAST-MODIFIED:20251022T195448Z
UID:2696-1762419600-1762444800@diversityins.com
SUMMARY:Southgate Walmart
DESCRIPTION:
URL:https://diversityins.com/event/southgate-walmart-49/
CATEGORIES:Member
END:VEVENT
BEGIN:VEVENT
DTSTART;TZID=America/Detroit:20251106T090000
DTEND;TZID=America/Detroit:20251106T160000
DTSTAMP:20260425T070240
CREATED:20251022T200448Z
LAST-MODIFIED:20251022T200448Z
UID:2792-1762419600-1762444800@diversityins.com
SUMMARY:Livonia Walmart
DESCRIPTION:
URL:https://diversityins.com/event/livonia-walmart-62/
CATEGORIES:Member
END:VEVENT
BEGIN:VEVENT
DTSTART;TZID=America/Detroit:20251106T090000
DTEND;TZID=America/Detroit:20251106T160000
DTSTAMP:20260425T070240
CREATED:20251022T200650Z
LAST-MODIFIED:20251022T200650Z
UID:2814-1762419600-1762444800@diversityins.com
SUMMARY:Flint Walmart
DESCRIPTION:
URL:https://diversityins.com/event/flint-walmart-46/
CATEGORIES:Member
END:VEVENT
BEGIN:VEVENT
DTSTART;TZID=America/Detroit:20251106T090000
DTEND;TZID=America/Detroit:20251106T160000
DTSTAMP:20260425T070240
CREATED:20251022T201449Z
LAST-MODIFIED:20251022T201449Z
UID:2891-1762419600-1762444800@diversityins.com
SUMMARY:Taylor Walmart
DESCRIPTION:
URL:https://diversityins.com/event/taylor-walmart-59/
CATEGORIES:Member
END:VEVENT
BEGIN:VEVENT
DTSTART;TZID=America/Detroit:20251106T090000
DTEND;TZID=America/Detroit:20251106T170000
DTSTAMP:20260425T070240
CREATED:20251022T200850Z
LAST-MODIFIED:20251022T200850Z
UID:2834-1762419600-1762448400@diversityins.com
SUMMARY:Lapeer Walmart
DESCRIPTION:
URL:https://diversityins.com/event/lapeer-walmart-37/
CATEGORIES:Member
END:VEVENT
BEGIN:VEVENT
DTSTART;TZID=America/Detroit:20251106T093000
DTEND;TZID=America/Detroit:20251106T160000
DTSTAMP:20260425T070240
CREATED:20251022T200019Z
LAST-MODIFIED:20251022T200019Z
UID:2753-1762421400-1762444800@diversityins.com
SUMMARY:Monroe Walmart
DESCRIPTION:
URL:https://diversityins.com/event/monroe-walmart-54/
CATEGORIES:Member
END:VEVENT
BEGIN:VEVENT
DTSTART;TZID=America/Detroit:20251106T100000
DTEND;TZID=America/Detroit:20251106T160000
DTSTAMP:20260425T070240
CREATED:20251022T200248Z
LAST-MODIFIED:20251022T200248Z
UID:2774-1762423200-1762444800@diversityins.com
SUMMARY:West Branch Walmart
DESCRIPTION:
URL:https://diversityins.com/event/west-branch-walmart-50/
CATEGORIES:Member
END:VEVENT
BEGIN:VEVENT
DTSTART;TZID=America/Detroit:20251106T100000
DTEND;TZID=America/Detroit:20251106T160000
DTSTAMP:20260425T070240
CREATED:20251022T201020Z
LAST-MODIFIED:20251022T201020Z
UID:2849-1762423200-1762444800@diversityins.com
SUMMARY:Dearborn Walmart
DESCRIPTION:
URL:https://diversityins.com/event/dearborn-walmart-49/
CATEGORIES:Member
END:VEVENT
BEGIN:VEVENT
DTSTART;TZID=America/Detroit:20251107T080000
DTEND;TZID=America/Detroit:20251107T170000
DTSTAMP:20260425T070240
CREATED:20251022T163302Z
LAST-MODIFIED:20251022T195649Z
UID:2716-1762502400-1762534800@diversityins.com
SUMMARY:Hastings Walmart
DESCRIPTION:
URL:https://diversityins.com/event/hastings-walmart-36/
CATEGORIES:Member
END:VEVENT
BEGIN:VEVENT
DTSTART;TZID=America/Detroit:20251107T090000
DTEND;TZID=America/Detroit:20251107T153000
DTSTAMP:20260425T070240
CREATED:20251022T163902Z
LAST-MODIFIED:20251022T195819Z
UID:2732-1762506000-1762529400@diversityins.com
SUMMARY:Jackson Walmart
DESCRIPTION:
URL:https://diversityins.com/event/jackson-walmart-50/
CATEGORIES:Member
END:VEVENT
BEGIN:VEVENT
DTSTART;TZID=America/Detroit:20251107T090000
DTEND;TZID=America/Detroit:20251107T160000
DTSTAMP:20260425T070240
CREATED:20251022T162535Z
LAST-MODIFIED:20251022T195247Z
UID:2676-1762506000-1762531200@diversityins.com
SUMMARY:Burton Walmart
DESCRIPTION:
URL:https://diversityins.com/event/burton-walmart-48/
CATEGORIES:Member
END:VEVENT
BEGIN:VEVENT
DTSTART;TZID=America/Detroit:20251107T090000
DTEND;TZID=America/Detroit:20251107T160000
DTSTAMP:20260425T070240
CREATED:20251022T162918Z
LAST-MODIFIED:20251022T195449Z
UID:2697-1762506000-1762531200@diversityins.com
SUMMARY:Southgate Walmart
DESCRIPTION:
URL:https://diversityins.com/event/southgate-walmart-50/
CATEGORIES:Member
END:VEVENT
BEGIN:VEVENT
DTSTART;TZID=America/Detroit:20251107T090000
DTEND;TZID=America/Detroit:20251107T160000
DTSTAMP:20260425T070240
CREATED:20251022T200449Z
LAST-MODIFIED:20251022T200449Z
UID:2793-1762506000-1762531200@diversityins.com
SUMMARY:Livonia Walmart
DESCRIPTION:
URL:https://diversityins.com/event/livonia-walmart-63/
CATEGORIES:Member
END:VEVENT
BEGIN:VEVENT
DTSTART;TZID=America/Detroit:20251107T090000
DTEND;TZID=America/Detroit:20251107T160000
DTSTAMP:20260425T070240
CREATED:20251022T200651Z
LAST-MODIFIED:20251022T200651Z
UID:2815-1762506000-1762531200@diversityins.com
SUMMARY:Flint Walmart
DESCRIPTION:
URL:https://diversityins.com/event/flint-walmart-47/
CATEGORIES:Member
END:VEVENT
BEGIN:VEVENT
DTSTART;TZID=America/Detroit:20251107T090000
DTEND;TZID=America/Detroit:20251107T160000
DTSTAMP:20260425T070240
CREATED:20251022T201048Z
LAST-MODIFIED:20251022T201048Z
UID:2850-1762506000-1762531200@diversityins.com
SUMMARY:Dearborn Walmart
DESCRIPTION:
URL:https://diversityins.com/event/dearborn-walmart-50/
CATEGORIES:Member
END:VEVENT
BEGIN:VEVENT
DTSTART;TZID=America/Detroit:20251107T090000
DTEND;TZID=America/Detroit:20251107T160000
DTSTAMP:20260425T070240
CREATED:20251022T201249Z
LAST-MODIFIED:20251022T201249Z
UID:2871-1762506000-1762531200@diversityins.com
SUMMARY:Jonesville Walmart
DESCRIPTION:
URL:https://diversityins.com/event/jonesville-walmart-47/
CATEGORIES:Member
END:VEVENT
BEGIN:VEVENT
DTSTART;TZID=America/Detroit:20251107T090000
DTEND;TZID=America/Detroit:20251107T160000
DTSTAMP:20260425T070240
CREATED:20251022T201450Z
LAST-MODIFIED:20251022T201450Z
UID:2892-1762506000-1762531200@diversityins.com
SUMMARY:Taylor Walmart
DESCRIPTION:
URL:https://diversityins.com/event/taylor-walmart-60/
CATEGORIES:Member
END:VEVENT
BEGIN:VEVENT
DTSTART;TZID=America/Detroit:20251107T093000
DTEND;TZID=America/Detroit:20251107T160000
DTSTAMP:20260425T070240
CREATED:20251022T200048Z
LAST-MODIFIED:20251022T200048Z
UID:2754-1762507800-1762531200@diversityins.com
SUMMARY:Monroe Walmart
DESCRIPTION:
URL:https://diversityins.com/event/monroe-walmart-55/
CATEGORIES:Member
END:VEVENT
BEGIN:VEVENT
DTSTART;TZID=America/Detroit:20251107T100000
DTEND;TZID=America/Detroit:20251107T150000
DTSTAMP:20260425T070240
CREATED:20251022T202309Z
LAST-MODIFIED:20251022T202309Z
UID:2936-1762509600-1762527600@diversityins.com
SUMMARY:Darien Walmart
DESCRIPTION:
URL:https://diversityins.com/event/darien-walmart-23/
CATEGORIES:Member
END:VEVENT
BEGIN:VEVENT
DTSTART;TZID=America/Detroit:20251107T100000
DTEND;TZID=America/Detroit:20251107T160000
DTSTAMP:20260425T070240
CREATED:20251022T200248Z
LAST-MODIFIED:20251022T200248Z
UID:2775-1762509600-1762531200@diversityins.com
SUMMARY:West Branch Walmart
DESCRIPTION:
URL:https://diversityins.com/event/west-branch-walmart-51/
CATEGORIES:Member
END:VEVENT
BEGIN:VEVENT
DTSTART;TZID=America/Detroit:20251107T100000
DTEND;TZID=America/Detroit:20251107T180000
DTSTAMP:20260425T070240
CREATED:20251022T202048Z
LAST-MODIFIED:20251022T202048Z
UID:2919-1762509600-1762538400@diversityins.com
SUMMARY:Joliet Walmart
DESCRIPTION:
URL:https://diversityins.com/event/joliet-walmart-37/
CATEGORIES:Member
END:VEVENT
BEGIN:VEVENT
DTSTART;TZID=America/Detroit:20251108T080000
DTEND;TZID=America/Detroit:20251108T170000
DTSTAMP:20260425T070240
CREATED:20251022T163303Z
LAST-MODIFIED:20251022T195649Z
UID:2717-1762588800-1762621200@diversityins.com
SUMMARY:Hastings Walmart
DESCRIPTION:
URL:https://diversityins.com/event/hastings-walmart-37/
CATEGORIES:Member
END:VEVENT
BEGIN:VEVENT
DTSTART;TZID=America/Detroit:20251108T090000
DTEND;TZID=America/Detroit:20251108T190000
DTSTAMP:20260425T070240
CREATED:20251022T201849Z
LAST-MODIFIED:20251022T201849Z
UID:2915-1762592400-1762628400@diversityins.com
SUMMARY:Country Club Hills Walmart
DESCRIPTION:
URL:https://diversityins.com/event/country-club-hills-walmart-22/
CATEGORIES:Member
END:VEVENT
BEGIN:VEVENT
DTSTART;TZID=America/Detroit:20251108T093000
DTEND;TZID=America/Detroit:20251108T160000
DTSTAMP:20260425T070240
CREATED:20251022T200048Z
LAST-MODIFIED:20251022T200048Z
UID:2755-1762594200-1762617600@diversityins.com
SUMMARY:Monroe Walmart
DESCRIPTION:
URL:https://diversityins.com/event/monroe-walmart-56/
CATEGORIES:Member
END:VEVENT
BEGIN:VEVENT
DTSTART;TZID=America/Detroit:20251108T100000
DTEND;TZID=America/Detroit:20251108T140000
DTSTAMP:20260425T070240
CREATED:20251022T162536Z
LAST-MODIFIED:20251022T195247Z
UID:2677-1762596000-1762610400@diversityins.com
SUMMARY:Burton Walmart
DESCRIPTION:
URL:https://diversityins.com/event/burton-walmart-49/
CATEGORIES:Member
END:VEVENT
BEGIN:VEVENT
DTSTART;TZID=America/Detroit:20251108T100000
DTEND;TZID=America/Detroit:20251108T140000
DTSTAMP:20260425T070240
CREATED:20251022T162918Z
LAST-MODIFIED:20251022T195449Z
UID:2698-1762596000-1762610400@diversityins.com
SUMMARY:Southgate Walmart
DESCRIPTION:
URL:https://diversityins.com/event/southgate-walmart-51/
CATEGORIES:Member
END:VEVENT
BEGIN:VEVENT
DTSTART;TZID=America/Detroit:20251108T100000
DTEND;TZID=America/Detroit:20251108T140000
DTSTAMP:20260425T070240
CREATED:20251022T200717Z
LAST-MODIFIED:20251022T200717Z
UID:2816-1762596000-1762610400@diversityins.com
SUMMARY:Flint Walmart
DESCRIPTION:
URL:https://diversityins.com/event/flint-walmart-48/
CATEGORIES:Member
END:VEVENT
END:VCALENDAR