BEGIN:VCALENDAR
VERSION:2.0
PRODID:-//Diversity Insurance Agency - ECPv6.15.20//NONSGML v1.0//EN
CALSCALE:GREGORIAN
METHOD:PUBLISH
X-WR-CALNAME:Diversity Insurance Agency
X-ORIGINAL-URL:https://diversityins.com
X-WR-CALDESC:Events for Diversity Insurance Agency
REFRESH-INTERVAL;VALUE=DURATION:PT1H
X-Robots-Tag:noindex
X-PUBLISHED-TTL:PT1H
BEGIN:VTIMEZONE
TZID:America/Detroit
BEGIN:DAYLIGHT
TZOFFSETFROM:-0500
TZOFFSETTO:-0400
TZNAME:EDT
DTSTART:20240310T070000
END:DAYLIGHT
BEGIN:STANDARD
TZOFFSETFROM:-0400
TZOFFSETTO:-0500
TZNAME:EST
DTSTART:20241103T060000
END:STANDARD
BEGIN:DAYLIGHT
TZOFFSETFROM:-0500
TZOFFSETTO:-0400
TZNAME:EDT
DTSTART:20250309T070000
END:DAYLIGHT
BEGIN:STANDARD
TZOFFSETFROM:-0400
TZOFFSETTO:-0500
TZNAME:EST
DTSTART:20251102T060000
END:STANDARD
BEGIN:DAYLIGHT
TZOFFSETFROM:-0500
TZOFFSETTO:-0400
TZNAME:EDT
DTSTART:20260308T070000
END:DAYLIGHT
BEGIN:STANDARD
TZOFFSETFROM:-0400
TZOFFSETTO:-0500
TZNAME:EST
DTSTART:20261101T060000
END:STANDARD
END:VTIMEZONE
BEGIN:VEVENT
DTSTART;TZID=America/Detroit:20251203T090000
DTEND;TZID=America/Detroit:20251203T153000
DTSTAMP:20260425T070431
CREATED:20251201T150356Z
LAST-MODIFIED:20251201T150356Z
UID:2984-1764752400-1764775800@diversityins.com
SUMMARY:Jackson Walmart
DESCRIPTION:
URL:https://diversityins.com/event/jackson-walmart-69/
CATEGORIES:Member
END:VEVENT
BEGIN:VEVENT
DTSTART;TZID=America/Detroit:20251203T090000
DTEND;TZID=America/Detroit:20251203T160000
DTSTAMP:20260425T070431
CREATED:20251201T150121Z
LAST-MODIFIED:20251201T150121Z
UID:2956-1764752400-1764777600@diversityins.com
SUMMARY:Burton Walmart
DESCRIPTION:
URL:https://diversityins.com/event/burton-walmart-67/
CATEGORIES:Member
END:VEVENT
BEGIN:VEVENT
DTSTART;TZID=America/Detroit:20251203T090000
DTEND;TZID=America/Detroit:20251203T160000
DTSTAMP:20260425T070431
CREATED:20251201T150157Z
LAST-MODIFIED:20251201T150157Z
UID:2966-1764752400-1764777600@diversityins.com
SUMMARY:Southgate Walmart
DESCRIPTION:
URL:https://diversityins.com/event/southgate-walmart-69/
CATEGORIES:Member
END:VEVENT
BEGIN:VEVENT
DTSTART;TZID=America/Detroit:20251203T090000
DTEND;TZID=America/Detroit:20251203T160000
DTSTAMP:20260425T070431
CREATED:20251201T150257Z
LAST-MODIFIED:20251201T150257Z
UID:2976-1764752400-1764777600@diversityins.com
SUMMARY:Hastings Walmart
DESCRIPTION:
URL:https://diversityins.com/event/hastings-walmart-49/
CATEGORIES:Member
END:VEVENT
BEGIN:VEVENT
DTSTART;TZID=America/Detroit:20251203T090000
DTEND;TZID=America/Detroit:20251203T160000
DTSTAMP:20260425T070431
CREATED:20251201T150758Z
LAST-MODIFIED:20251201T150758Z
UID:3026-1764752400-1764777600@diversityins.com
SUMMARY:Flint Walmart
DESCRIPTION:
URL:https://diversityins.com/event/flint-walmart-65/
CATEGORIES:Member
END:VEVENT
BEGIN:VEVENT
DTSTART;TZID=America/Detroit:20251203T090000
DTEND;TZID=America/Detroit:20251203T160000
DTSTAMP:20260425T070431
CREATED:20251201T150858Z
LAST-MODIFIED:20251201T150858Z
UID:3036-1764752400-1764777600@diversityins.com
SUMMARY:Dearborn Walmart
DESCRIPTION:
URL:https://diversityins.com/event/dearborn-walmart-69/
CATEGORIES:Member
END:VEVENT
BEGIN:VEVENT
DTSTART;TZID=America/Detroit:20251203T090000
DTEND;TZID=America/Detroit:20251203T160000
DTSTAMP:20260425T070431
CREATED:20251201T151026Z
LAST-MODIFIED:20251201T151026Z
UID:3048-1764752400-1764777600@diversityins.com
SUMMARY:Jonesville Walmart
DESCRIPTION:
URL:https://diversityins.com/event/jonesville-walmart-66/
CATEGORIES:Member
END:VEVENT
BEGIN:VEVENT
DTSTART;TZID=America/Detroit:20251203T090000
DTEND;TZID=America/Detroit:20251203T160000
DTSTAMP:20260425T070431
CREATED:20251201T151059Z
LAST-MODIFIED:20251201T151059Z
UID:3057-1764752400-1764777600@diversityins.com
SUMMARY:Taylor Walmart
DESCRIPTION:
URL:https://diversityins.com/event/taylor-walmart-83/
CATEGORIES:Member
END:VEVENT
BEGIN:VEVENT
DTSTART;TZID=America/Detroit:20251203T090000
DTEND;TZID=America/Detroit:20251203T173000
DTSTAMP:20260425T070431
CREATED:20251201T151329Z
LAST-MODIFIED:20251201T151329Z
UID:3081-1764752400-1764783000@diversityins.com
SUMMARY:Darien Walmart
DESCRIPTION:
URL:https://diversityins.com/event/darien-walmart-39/
CATEGORIES:Member
END:VEVENT
BEGIN:VEVENT
DTSTART;TZID=America/Detroit:20251203T090000
DTEND;TZID=America/Detroit:20251203T190000
DTSTAMP:20260425T070431
CREATED:20251201T151226Z
LAST-MODIFIED:20251201T151226Z
UID:3068-1764752400-1764788400@diversityins.com
SUMMARY:Country Club Hills Walmart
DESCRIPTION:
URL:https://diversityins.com/event/country-club-hills-walmart-24/
CATEGORIES:Member
END:VEVENT
BEGIN:VEVENT
DTSTART;TZID=America/Detroit:20251203T093000
DTEND;TZID=America/Detroit:20251203T160000
DTSTAMP:20260425T070431
CREATED:20251201T150457Z
LAST-MODIFIED:20251201T150457Z
UID:2995-1764754200-1764777600@diversityins.com
SUMMARY:Monroe Walmart
DESCRIPTION:
URL:https://diversityins.com/event/monroe-walmart-74/
CATEGORIES:Member
END:VEVENT
BEGIN:VEVENT
DTSTART;TZID=America/Detroit:20251203T100000
DTEND;TZID=America/Detroit:20251203T140000
DTSTAMP:20260425T070431
CREATED:20251201T150657Z
LAST-MODIFIED:20251201T150657Z
UID:3014-1764756000-1764770400@diversityins.com
SUMMARY:Livonia Walmart
DESCRIPTION:
URL:https://diversityins.com/event/livonia-walmart-83/
CATEGORIES:Member
END:VEVENT
BEGIN:VEVENT
DTSTART;TZID=America/Detroit:20251203T100000
DTEND;TZID=America/Detroit:20251203T160000
DTSTAMP:20260425T070431
CREATED:20251201T150557Z
LAST-MODIFIED:20251201T150557Z
UID:3005-1764756000-1764777600@diversityins.com
SUMMARY:West Branch Walmart
DESCRIPTION:
URL:https://diversityins.com/event/west-branch-walmart-67/
CATEGORIES:Member
END:VEVENT
BEGIN:VEVENT
DTSTART;TZID=America/Detroit:20251203T100000
DTEND;TZID=America/Detroit:20251203T180000
DTSTAMP:20260425T070431
CREATED:20251201T151258Z
LAST-MODIFIED:20251201T151258Z
UID:3075-1764756000-1764784800@diversityins.com
SUMMARY:Joliet Walmart
DESCRIPTION:
URL:https://diversityins.com/event/joliet-walmart-51/
CATEGORIES:Member
END:VEVENT
BEGIN:VEVENT
DTSTART;TZID=America/Detroit:20251204T090000
DTEND;TZID=America/Detroit:20251204T140000
DTSTAMP:20260425T070431
CREATED:20251201T151027Z
LAST-MODIFIED:20251201T151027Z
UID:3049-1764838800-1764856800@diversityins.com
SUMMARY:Jonesville Walmart
DESCRIPTION:
URL:https://diversityins.com/event/jonesville-walmart-67/
CATEGORIES:Member
END:VEVENT
BEGIN:VEVENT
DTSTART;TZID=America/Detroit:20251204T090000
DTEND;TZID=America/Detroit:20251204T153000
DTSTAMP:20260425T070431
CREATED:20251201T150357Z
LAST-MODIFIED:20251201T150357Z
UID:2985-1764838800-1764862200@diversityins.com
SUMMARY:Jackson Walmart
DESCRIPTION:
URL:https://diversityins.com/event/jackson-walmart-70/
CATEGORIES:Member
END:VEVENT
BEGIN:VEVENT
DTSTART;TZID=America/Detroit:20251204T090000
DTEND;TZID=America/Detroit:20251204T160000
DTSTAMP:20260425T070431
CREATED:20251201T150122Z
LAST-MODIFIED:20251201T150122Z
UID:2957-1764838800-1764864000@diversityins.com
SUMMARY:Burton Walmart
DESCRIPTION:
URL:https://diversityins.com/event/burton-walmart-68/
CATEGORIES:Member
END:VEVENT
BEGIN:VEVENT
DTSTART;TZID=America/Detroit:20251204T090000
DTEND;TZID=America/Detroit:20251204T160000
DTSTAMP:20260425T070431
CREATED:20251201T150158Z
LAST-MODIFIED:20251201T150158Z
UID:2967-1764838800-1764864000@diversityins.com
SUMMARY:Southgate Walmart
DESCRIPTION:
URL:https://diversityins.com/event/southgate-walmart-70/
CATEGORIES:Member
END:VEVENT
BEGIN:VEVENT
DTSTART;TZID=America/Detroit:20251204T090000
DTEND;TZID=America/Detroit:20251204T160000
DTSTAMP:20260425T070431
CREATED:20251201T150759Z
LAST-MODIFIED:20251201T150759Z
UID:3027-1764838800-1764864000@diversityins.com
SUMMARY:Flint Walmart
DESCRIPTION:
URL:https://diversityins.com/event/flint-walmart-66/
CATEGORIES:Member
END:VEVENT
BEGIN:VEVENT
DTSTART;TZID=America/Detroit:20251204T090000
DTEND;TZID=America/Detroit:20251204T160000
DTSTAMP:20260425T070432
CREATED:20251201T151126Z
LAST-MODIFIED:20251201T151126Z
UID:3058-1764838800-1764864000@diversityins.com
SUMMARY:Taylor Walmart
DESCRIPTION:
URL:https://diversityins.com/event/taylor-walmart-84/
CATEGORIES:Member
END:VEVENT
BEGIN:VEVENT
DTSTART;TZID=America/Detroit:20251204T093000
DTEND;TZID=America/Detroit:20251204T160000
DTSTAMP:20260425T070432
CREATED:20251201T150457Z
LAST-MODIFIED:20251201T150457Z
UID:2996-1764840600-1764864000@diversityins.com
SUMMARY:Monroe Walmart
DESCRIPTION:
URL:https://diversityins.com/event/monroe-walmart-75/
CATEGORIES:Member
END:VEVENT
BEGIN:VEVENT
DTSTART;TZID=America/Detroit:20251204T100000
DTEND;TZID=America/Detroit:20251204T140000
DTSTAMP:20260425T070432
CREATED:20251201T150657Z
LAST-MODIFIED:20251201T150657Z
UID:3015-1764842400-1764856800@diversityins.com
SUMMARY:Livonia Walmart
DESCRIPTION:
URL:https://diversityins.com/event/livonia-walmart-84/
CATEGORIES:Member
END:VEVENT
BEGIN:VEVENT
DTSTART;TZID=America/Detroit:20251204T100000
DTEND;TZID=America/Detroit:20251204T150000
DTSTAMP:20260425T070432
CREATED:20251201T150859Z
LAST-MODIFIED:20251201T150859Z
UID:3037-1764842400-1764860400@diversityins.com
SUMMARY:Dearborn Walmart
DESCRIPTION:
URL:https://diversityins.com/event/dearborn-walmart-70/
CATEGORIES:Member
END:VEVENT
BEGIN:VEVENT
DTSTART;TZID=America/Detroit:20251204T100000
DTEND;TZID=America/Detroit:20251204T160000
DTSTAMP:20260425T070432
CREATED:20251201T150558Z
LAST-MODIFIED:20251201T150558Z
UID:3006-1764842400-1764864000@diversityins.com
SUMMARY:West Branch Walmart
DESCRIPTION:
URL:https://diversityins.com/event/west-branch-walmart-68/
CATEGORIES:Member
END:VEVENT
BEGIN:VEVENT
DTSTART;TZID=America/Detroit:20251204T100000
DTEND;TZID=America/Detroit:20251204T180000
DTSTAMP:20260425T070432
CREATED:20251201T151258Z
LAST-MODIFIED:20251201T151258Z
UID:3076-1764842400-1764871200@diversityins.com
SUMMARY:Joliet Walmart
DESCRIPTION:
URL:https://diversityins.com/event/joliet-walmart-52/
CATEGORIES:Member
END:VEVENT
BEGIN:VEVENT
DTSTART;TZID=America/Detroit:20251205T080000
DTEND;TZID=America/Detroit:20251205T170000
DTSTAMP:20260425T070432
CREATED:20251201T150258Z
LAST-MODIFIED:20251201T150258Z
UID:2977-1764921600-1764954000@diversityins.com
SUMMARY:Hastings Walmart
DESCRIPTION:
URL:https://diversityins.com/event/hastings-walmart-50/
CATEGORIES:Member
END:VEVENT
BEGIN:VEVENT
DTSTART;TZID=America/Detroit:20251205T090000
DTEND;TZID=America/Detroit:20251205T153000
DTSTAMP:20260425T070432
CREATED:20251201T150357Z
LAST-MODIFIED:20251201T150357Z
UID:2986-1764925200-1764948600@diversityins.com
SUMMARY:Jackson Walmart
DESCRIPTION:
URL:https://diversityins.com/event/jackson-walmart-71/
CATEGORIES:Member
END:VEVENT
BEGIN:VEVENT
DTSTART;TZID=America/Detroit:20251205T090000
DTEND;TZID=America/Detroit:20251205T160000
DTSTAMP:20260425T070432
CREATED:20251201T150123Z
LAST-MODIFIED:20251201T150123Z
UID:2958-1764925200-1764950400@diversityins.com
SUMMARY:Burton Walmart
DESCRIPTION:
URL:https://diversityins.com/event/burton-walmart-69/
CATEGORIES:Member
END:VEVENT
BEGIN:VEVENT
DTSTART;TZID=America/Detroit:20251205T090000
DTEND;TZID=America/Detroit:20251205T160000
DTSTAMP:20260425T070432
CREATED:20251201T150159Z
LAST-MODIFIED:20251201T150159Z
UID:2968-1764925200-1764950400@diversityins.com
SUMMARY:Southgate Walmart
DESCRIPTION:
URL:https://diversityins.com/event/southgate-walmart-71/
CATEGORIES:Member
END:VEVENT
BEGIN:VEVENT
DTSTART;TZID=America/Detroit:20251205T090000
DTEND;TZID=America/Detroit:20251205T160000
DTSTAMP:20260425T070432
CREATED:20251201T150826Z
LAST-MODIFIED:20251201T150826Z
UID:3028-1764925200-1764950400@diversityins.com
SUMMARY:Flint Walmart
DESCRIPTION:
URL:https://diversityins.com/event/flint-walmart-67/
CATEGORIES:Member
END:VEVENT
END:VCALENDAR