BEGIN:VCALENDAR
VERSION:2.0
PRODID:-//Diversity Insurance Agency - ECPv6.15.20//NONSGML v1.0//EN
CALSCALE:GREGORIAN
METHOD:PUBLISH
X-WR-CALNAME:Diversity Insurance Agency
X-ORIGINAL-URL:https://diversityins.com
X-WR-CALDESC:Events for Diversity Insurance Agency
REFRESH-INTERVAL;VALUE=DURATION:PT1H
X-Robots-Tag:noindex
X-PUBLISHED-TTL:PT1H
BEGIN:VTIMEZONE
TZID:America/Detroit
BEGIN:DAYLIGHT
TZOFFSETFROM:-0500
TZOFFSETTO:-0400
TZNAME:EDT
DTSTART:20250309T070000
END:DAYLIGHT
BEGIN:STANDARD
TZOFFSETFROM:-0400
TZOFFSETTO:-0500
TZNAME:EST
DTSTART:20251102T060000
END:STANDARD
BEGIN:DAYLIGHT
TZOFFSETFROM:-0500
TZOFFSETTO:-0400
TZNAME:EDT
DTSTART:20260308T070000
END:DAYLIGHT
BEGIN:STANDARD
TZOFFSETFROM:-0400
TZOFFSETTO:-0500
TZNAME:EST
DTSTART:20261101T060000
END:STANDARD
BEGIN:DAYLIGHT
TZOFFSETFROM:-0500
TZOFFSETTO:-0400
TZNAME:EDT
DTSTART:20270314T070000
END:DAYLIGHT
BEGIN:STANDARD
TZOFFSETFROM:-0400
TZOFFSETTO:-0500
TZNAME:EST
DTSTART:20271107T060000
END:STANDARD
END:VTIMEZONE
BEGIN:VEVENT
DTSTART;TZID=America/Detroit:20260108T093000
DTEND;TZID=America/Detroit:20260108T143000
DTSTAMP:20260425T084538
CREATED:20260107T170444Z
LAST-MODIFIED:20260107T170512Z
UID:3188-1767864600-1767882600@diversityins.com
SUMMARY:Jackson Walmart
DESCRIPTION:
URL:https://diversityins.com/event/jackson-walmart-81/
CATEGORIES:Member
END:VEVENT
BEGIN:VEVENT
DTSTART;TZID=America/Detroit:20260108T100000
DTEND;TZID=America/Detroit:20260108T150000
DTSTAMP:20260425T084538
CREATED:20260107T165036Z
LAST-MODIFIED:20260107T165036Z
UID:3107-1767866400-1767884400@diversityins.com
SUMMARY:Burton Walmart
DESCRIPTION:
URL:https://diversityins.com/event/burton-walmart-78/
CATEGORIES:Member
END:VEVENT
BEGIN:VEVENT
DTSTART;TZID=America/Detroit:20260108T100000
DTEND;TZID=America/Detroit:20260108T150000
DTSTAMP:20260425T084538
CREATED:20260107T165641Z
LAST-MODIFIED:20260107T165710Z
UID:3145-1767866400-1767884400@diversityins.com
SUMMARY:Dearborn Walmart
DESCRIPTION:
URL:https://diversityins.com/event/dearborn-walmart-82/
CATEGORIES:Member
END:VEVENT
BEGIN:VEVENT
DTSTART;TZID=America/Detroit:20260108T100000
DTEND;TZID=America/Detroit:20260108T150000
DTSTAMP:20260425T084538
CREATED:20260107T170043Z
LAST-MODIFIED:20260107T170111Z
UID:3167-1767866400-1767884400@diversityins.com
SUMMARY:Flint Walmart
DESCRIPTION:
URL:https://diversityins.com/event/flint-walmart-75/
CATEGORIES:Member
END:VEVENT
BEGIN:VEVENT
DTSTART;TZID=America/Detroit:20260108T100000
DTEND;TZID=America/Detroit:20260108T150000
DTSTAMP:20260425T084538
CREATED:20260107T170841Z
LAST-MODIFIED:20260107T170910Z
UID:3204-1767866400-1767884400@diversityins.com
SUMMARY:Livonia Walmart
DESCRIPTION:
URL:https://diversityins.com/event/livonia-walmart-96/
CATEGORIES:Member
END:VEVENT
BEGIN:VEVENT
DTSTART;TZID=America/Detroit:20260109T090000
DTEND;TZID=America/Detroit:20260109T130000
DTSTAMP:20260425T084538
CREATED:20260107T165341Z
LAST-MODIFIED:20260107T165410Z
UID:3129-1767949200-1767963600@diversityins.com
SUMMARY:Country Club Hills Walmart
DESCRIPTION:
URL:https://diversityins.com/event/country-club-hills-walmart-31/
CATEGORIES:Member
END:VEVENT
BEGIN:VEVENT
DTSTART;TZID=America/Detroit:20260109T090000
DTEND;TZID=America/Detroit:20260109T163000
DTSTAMP:20260425T084538
CREATED:20260107T165443Z
LAST-MODIFIED:20260107T165512Z
UID:3138-1767949200-1767976200@diversityins.com
SUMMARY:Darien Walmart
DESCRIPTION:
URL:https://diversityins.com/event/darien-walmart-48/
CATEGORIES:Member
END:VEVENT
BEGIN:VEVENT
DTSTART;TZID=America/Detroit:20260109T100000
DTEND;TZID=America/Detroit:20260109T150000
DTSTAMP:20260425T084538
CREATED:20260107T165037Z
LAST-MODIFIED:20260107T165037Z
UID:3108-1767952800-1767970800@diversityins.com
SUMMARY:Burton Walmart
DESCRIPTION:
URL:https://diversityins.com/event/burton-walmart-79/
CATEGORIES:Member
END:VEVENT
BEGIN:VEVENT
DTSTART;TZID=America/Detroit:20260109T100000
DTEND;TZID=America/Detroit:20260109T150000
DTSTAMP:20260425T084538
CREATED:20260107T165642Z
LAST-MODIFIED:20260107T165711Z
UID:3146-1767952800-1767970800@diversityins.com
SUMMARY:Dearborn Walmart
DESCRIPTION:
URL:https://diversityins.com/event/dearborn-walmart-83/
CATEGORIES:Member
END:VEVENT
BEGIN:VEVENT
DTSTART;TZID=America/Detroit:20260109T100000
DTEND;TZID=America/Detroit:20260109T150000
DTSTAMP:20260425T084538
CREATED:20260107T170043Z
LAST-MODIFIED:20260107T170112Z
UID:3168-1767952800-1767970800@diversityins.com
SUMMARY:Flint Walmart
DESCRIPTION:
URL:https://diversityins.com/event/flint-walmart-76/
CATEGORIES:Member
END:VEVENT
BEGIN:VEVENT
DTSTART;TZID=America/Detroit:20260109T100000
DTEND;TZID=America/Detroit:20260109T150000
DTSTAMP:20260425T084538
CREATED:20260107T170842Z
LAST-MODIFIED:20260107T170911Z
UID:3205-1767952800-1767970800@diversityins.com
SUMMARY:Livonia Walmart
DESCRIPTION:
URL:https://diversityins.com/event/livonia-walmart-97/
CATEGORIES:Member
END:VEVENT
BEGIN:VEVENT
DTSTART;TZID=America/Detroit:20260110T100000
DTEND;TZID=America/Detroit:20260110T140000
DTSTAMP:20260425T084538
CREATED:20260107T165040Z
LAST-MODIFIED:20260107T165110Z
UID:3109-1768039200-1768053600@diversityins.com
SUMMARY:Burton Walmart
DESCRIPTION:
URL:https://diversityins.com/event/burton-walmart-80/
CATEGORIES:Member
END:VEVENT
BEGIN:VEVENT
DTSTART;TZID=America/Detroit:20260110T100000
DTEND;TZID=America/Detroit:20260110T140000
DTSTAMP:20260425T084538
CREATED:20260107T165643Z
LAST-MODIFIED:20260107T165711Z
UID:3147-1768039200-1768053600@diversityins.com
SUMMARY:Dearborn Walmart
DESCRIPTION:
URL:https://diversityins.com/event/dearborn-walmart-84/
CATEGORIES:Member
END:VEVENT
BEGIN:VEVENT
DTSTART;TZID=America/Detroit:20260110T100000
DTEND;TZID=America/Detroit:20260110T140000
DTSTAMP:20260425T084538
CREATED:20260107T170141Z
LAST-MODIFIED:20260107T170210Z
UID:3169-1768039200-1768053600@diversityins.com
SUMMARY:Flint Walmart
DESCRIPTION:
URL:https://diversityins.com/event/flint-walmart-77/
CATEGORIES:Member
END:VEVENT
BEGIN:VEVENT
DTSTART;TZID=America/Detroit:20260110T100000
DTEND;TZID=America/Detroit:20260110T140000
DTSTAMP:20260425T084538
CREATED:20260107T170842Z
LAST-MODIFIED:20260107T170911Z
UID:3206-1768039200-1768053600@diversityins.com
SUMMARY:Livonia Walmart
DESCRIPTION:
URL:https://diversityins.com/event/livonia-walmart-98/
CATEGORIES:Member
END:VEVENT
BEGIN:VEVENT
DTSTART;TZID=America/Detroit:20260112T090000
DTEND;TZID=America/Detroit:20260112T163000
DTSTAMP:20260425T084538
CREATED:20260107T165541Z
LAST-MODIFIED:20260107T165610Z
UID:3139-1768208400-1768235400@diversityins.com
SUMMARY:Darien Walmart
DESCRIPTION:
URL:https://diversityins.com/event/darien-walmart-49/
CATEGORIES:Member
END:VEVENT
BEGIN:VEVENT
DTSTART;TZID=America/Detroit:20260112T090000
DTEND;TZID=America/Detroit:20260112T170000
DTSTAMP:20260425T084538
CREATED:20260107T165341Z
LAST-MODIFIED:20260107T165410Z
UID:3130-1768208400-1768237200@diversityins.com
SUMMARY:Country Club Hills Walmart
DESCRIPTION:
URL:https://diversityins.com/event/country-club-hills-walmart-32/
CATEGORIES:Member
END:VEVENT
BEGIN:VEVENT
DTSTART;TZID=America/Detroit:20260112T093000
DTEND;TZID=America/Detroit:20260112T143000
DTSTAMP:20260425T084538
CREATED:20260107T170541Z
LAST-MODIFIED:20260107T170610Z
UID:3189-1768210200-1768228200@diversityins.com
SUMMARY:Jackson Walmart
DESCRIPTION:
URL:https://diversityins.com/event/jackson-walmart-82/
CATEGORIES:Member
END:VEVENT
BEGIN:VEVENT
DTSTART;TZID=America/Detroit:20260112T100000
DTEND;TZID=America/Detroit:20260112T150000
DTSTAMP:20260425T084538
CREATED:20260107T165040Z
LAST-MODIFIED:20260107T165110Z
UID:3110-1768212000-1768230000@diversityins.com
SUMMARY:Burton Walmart
DESCRIPTION:
URL:https://diversityins.com/event/burton-walmart-81/
CATEGORIES:Member
END:VEVENT
BEGIN:VEVENT
DTSTART;TZID=America/Detroit:20260112T100000
DTEND;TZID=America/Detroit:20260112T150000
DTSTAMP:20260425T084538
CREATED:20260107T165643Z
LAST-MODIFIED:20260107T165712Z
UID:3148-1768212000-1768230000@diversityins.com
SUMMARY:Dearborn Walmart
DESCRIPTION:
URL:https://diversityins.com/event/dearborn-walmart-85/
CATEGORIES:Member
END:VEVENT
BEGIN:VEVENT
DTSTART;TZID=America/Detroit:20260112T100000
DTEND;TZID=America/Detroit:20260112T150000
DTSTAMP:20260425T084538
CREATED:20260107T170843Z
LAST-MODIFIED:20260107T170911Z
UID:3207-1768212000-1768230000@diversityins.com
SUMMARY:Livonia Walmart
DESCRIPTION:
URL:https://diversityins.com/event/livonia-walmart-99/
CATEGORIES:Member
END:VEVENT
BEGIN:VEVENT
DTSTART;TZID=America/Detroit:20260113T093000
DTEND;TZID=America/Detroit:20260113T143000
DTSTAMP:20260425T084538
CREATED:20260107T170542Z
LAST-MODIFIED:20260107T170611Z
UID:3190-1768296600-1768314600@diversityins.com
SUMMARY:Jackson Walmart
DESCRIPTION:
URL:https://diversityins.com/event/jackson-walmart-83/
CATEGORIES:Member
END:VEVENT
BEGIN:VEVENT
DTSTART;TZID=America/Detroit:20260113T100000
DTEND;TZID=America/Detroit:20260113T150000
DTSTAMP:20260425T084538
CREATED:20260107T165041Z
LAST-MODIFIED:20260107T165111Z
UID:3111-1768298400-1768316400@diversityins.com
SUMMARY:Burton Walmart
DESCRIPTION:
URL:https://diversityins.com/event/burton-walmart-82/
CATEGORIES:Member
END:VEVENT
BEGIN:VEVENT
DTSTART;TZID=America/Detroit:20260113T100000
DTEND;TZID=America/Detroit:20260113T150000
DTSTAMP:20260425T084538
CREATED:20260107T165741Z
LAST-MODIFIED:20260107T165810Z
UID:3149-1768298400-1768316400@diversityins.com
SUMMARY:Dearborn Walmart
DESCRIPTION:
URL:https://diversityins.com/event/dearborn-walmart-86/
CATEGORIES:Member
END:VEVENT
BEGIN:VEVENT
DTSTART;TZID=America/Detroit:20260113T100000
DTEND;TZID=America/Detroit:20260113T150000
DTSTAMP:20260425T084538
CREATED:20260107T170142Z
LAST-MODIFIED:20260107T170210Z
UID:3170-1768298400-1768316400@diversityins.com
SUMMARY:Flint Walmart
DESCRIPTION:
URL:https://diversityins.com/event/flint-walmart-78/
CATEGORIES:Member
END:VEVENT
BEGIN:VEVENT
DTSTART;TZID=America/Detroit:20260113T100000
DTEND;TZID=America/Detroit:20260113T150000
DTSTAMP:20260425T084538
CREATED:20260107T170844Z
LAST-MODIFIED:20260107T170912Z
UID:3208-1768298400-1768316400@diversityins.com
SUMMARY:Livonia Walmart
DESCRIPTION:
URL:https://diversityins.com/event/livonia-walmart-100/
CATEGORIES:Member
END:VEVENT
BEGIN:VEVENT
DTSTART;TZID=America/Detroit:20260114T090000
DTEND;TZID=America/Detroit:20260114T163000
DTSTAMP:20260425T084538
CREATED:20260107T165542Z
LAST-MODIFIED:20260107T165610Z
UID:3140-1768381200-1768408200@diversityins.com
SUMMARY:Darien Walmart
DESCRIPTION:
URL:https://diversityins.com/event/darien-walmart-50/
CATEGORIES:Member
END:VEVENT
BEGIN:VEVENT
DTSTART;TZID=America/Detroit:20260114T090000
DTEND;TZID=America/Detroit:20260114T170000
DTSTAMP:20260425T084538
CREATED:20260107T165342Z
LAST-MODIFIED:20260107T165411Z
UID:3131-1768381200-1768410000@diversityins.com
SUMMARY:Country Club Hills Walmart
DESCRIPTION:
URL:https://diversityins.com/event/country-club-hills-walmart-33/
CATEGORIES:Member
END:VEVENT
BEGIN:VEVENT
DTSTART;TZID=America/Detroit:20260114T093000
DTEND;TZID=America/Detroit:20260114T143000
DTSTAMP:20260425T084538
CREATED:20260107T170542Z
LAST-MODIFIED:20260107T170611Z
UID:3191-1768383000-1768401000@diversityins.com
SUMMARY:Jackson Walmart
DESCRIPTION:
URL:https://diversityins.com/event/jackson-walmart-84/
CATEGORIES:Member
END:VEVENT
BEGIN:VEVENT
DTSTART;TZID=America/Detroit:20260114T100000
DTEND;TZID=America/Detroit:20260114T150000
DTSTAMP:20260425T084538
CREATED:20260107T165042Z
LAST-MODIFIED:20260107T165111Z
UID:3112-1768384800-1768402800@diversityins.com
SUMMARY:Burton Walmart
DESCRIPTION:
URL:https://diversityins.com/event/burton-walmart-83/
CATEGORIES:Member
END:VEVENT
END:VCALENDAR