BEGIN:VCALENDAR
VERSION:2.0
PRODID:-//Diversity Insurance Agency - ECPv6.15.20//NONSGML v1.0//EN
CALSCALE:GREGORIAN
METHOD:PUBLISH
X-WR-CALNAME:Diversity Insurance Agency
X-ORIGINAL-URL:https://diversityins.com
X-WR-CALDESC:Events for Diversity Insurance Agency
REFRESH-INTERVAL;VALUE=DURATION:PT1H
X-Robots-Tag:noindex
X-PUBLISHED-TTL:PT1H
BEGIN:VTIMEZONE
TZID:America/Detroit
BEGIN:DAYLIGHT
TZOFFSETFROM:-0500
TZOFFSETTO:-0400
TZNAME:EDT
DTSTART:20250309T070000
END:DAYLIGHT
BEGIN:STANDARD
TZOFFSETFROM:-0400
TZOFFSETTO:-0500
TZNAME:EST
DTSTART:20251102T060000
END:STANDARD
BEGIN:DAYLIGHT
TZOFFSETFROM:-0500
TZOFFSETTO:-0400
TZNAME:EDT
DTSTART:20260308T070000
END:DAYLIGHT
BEGIN:STANDARD
TZOFFSETFROM:-0400
TZOFFSETTO:-0500
TZNAME:EST
DTSTART:20261101T060000
END:STANDARD
BEGIN:DAYLIGHT
TZOFFSETFROM:-0500
TZOFFSETTO:-0400
TZNAME:EDT
DTSTART:20270314T070000
END:DAYLIGHT
BEGIN:STANDARD
TZOFFSETFROM:-0400
TZOFFSETTO:-0500
TZNAME:EST
DTSTART:20271107T060000
END:STANDARD
END:VTIMEZONE
BEGIN:VEVENT
DTSTART;TZID=America/Detroit:20260120T090000
DTEND;TZID=America/Detroit:20260120T170000
DTSTAMP:20260425T115204
CREATED:20260107T165343Z
LAST-MODIFIED:20260107T165412Z
UID:3133-1768899600-1768928400@diversityins.com
SUMMARY:Country Club Hills Walmart
DESCRIPTION:
URL:https://diversityins.com/event/country-club-hills-walmart-35/
CATEGORIES:Member
END:VEVENT
BEGIN:VEVENT
DTSTART;TZID=America/Detroit:20260120T093000
DTEND;TZID=America/Detroit:20260120T093000
DTSTAMP:20260425T115204
CREATED:20260113T133432Z
LAST-MODIFIED:20260113T133432Z
UID:3225-1768901400-1768901400@diversityins.com
SUMMARY:C-SNP Training
DESCRIPTION:
URL:https://diversityins.com/event/c-snp-training-3/
CATEGORIES:Agent
END:VEVENT
BEGIN:VEVENT
DTSTART;TZID=America/Detroit:20260120T093000
DTEND;TZID=America/Detroit:20260120T143000
DTSTAMP:20260425T115204
CREATED:20260107T170642Z
LAST-MODIFIED:20260107T170710Z
UID:3194-1768901400-1768919400@diversityins.com
SUMMARY:Jackson Walmart
DESCRIPTION:
URL:https://diversityins.com/event/jackson-walmart-87/
CATEGORIES:Member
END:VEVENT
BEGIN:VEVENT
DTSTART;TZID=America/Detroit:20260120T100000
DTEND;TZID=America/Detroit:20260120T150000
DTSTAMP:20260425T115204
CREATED:20260107T165143Z
LAST-MODIFIED:20260107T165143Z
UID:3116-1768903200-1768921200@diversityins.com
SUMMARY:Burton Walmart
DESCRIPTION:
URL:https://diversityins.com/event/burton-walmart-87/
CATEGORIES:Member
END:VEVENT
BEGIN:VEVENT
DTSTART;TZID=America/Detroit:20260120T100000
DTEND;TZID=America/Detroit:20260120T150000
DTSTAMP:20260425T115204
CREATED:20260107T165841Z
LAST-MODIFIED:20260107T165910Z
UID:3155-1768903200-1768921200@diversityins.com
SUMMARY:Dearborn Walmart
DESCRIPTION:
URL:https://diversityins.com/event/dearborn-walmart-92/
CATEGORIES:Member
END:VEVENT
BEGIN:VEVENT
DTSTART;TZID=America/Detroit:20260120T100000
DTEND;TZID=America/Detroit:20260120T150000
DTSTAMP:20260425T115204
CREATED:20260107T170242Z
LAST-MODIFIED:20260107T170311Z
UID:3176-1768903200-1768921200@diversityins.com
SUMMARY:Flint Walmart
DESCRIPTION:
URL:https://diversityins.com/event/flint-walmart-84/
CATEGORIES:Member
END:VEVENT
BEGIN:VEVENT
DTSTART;TZID=America/Detroit:20260121T093000
DTEND;TZID=America/Detroit:20260121T143000
DTSTAMP:20260425T115204
CREATED:20260107T170642Z
LAST-MODIFIED:20260107T170710Z
UID:3195-1768987800-1769005800@diversityins.com
SUMMARY:Jackson Walmart
DESCRIPTION:
URL:https://diversityins.com/event/jackson-walmart-88/
CATEGORIES:Member
END:VEVENT
BEGIN:VEVENT
DTSTART;TZID=America/Detroit:20260121T100000
DTEND;TZID=America/Detroit:20260121T150000
DTSTAMP:20260425T115204
CREATED:20260107T165143Z
LAST-MODIFIED:20260107T165143Z
UID:3117-1768989600-1769007600@diversityins.com
SUMMARY:Burton Walmart
DESCRIPTION:
URL:https://diversityins.com/event/burton-walmart-88/
CATEGORIES:Member
END:VEVENT
BEGIN:VEVENT
DTSTART;TZID=America/Detroit:20260121T100000
DTEND;TZID=America/Detroit:20260121T150000
DTSTAMP:20260425T115204
CREATED:20260107T165842Z
LAST-MODIFIED:20260107T165911Z
UID:3156-1768989600-1769007600@diversityins.com
SUMMARY:Dearborn Walmart
DESCRIPTION:
URL:https://diversityins.com/event/dearborn-walmart-93/
CATEGORIES:Member
END:VEVENT
BEGIN:VEVENT
DTSTART;TZID=America/Detroit:20260121T100000
DTEND;TZID=America/Detroit:20260121T150000
DTSTAMP:20260425T115204
CREATED:20260107T170243Z
LAST-MODIFIED:20260107T170311Z
UID:3177-1768989600-1769007600@diversityins.com
SUMMARY:Flint Walmart
DESCRIPTION:
URL:https://diversityins.com/event/flint-walmart-85/
CATEGORIES:Member
END:VEVENT
BEGIN:VEVENT
DTSTART;TZID=America/Detroit:20260122T090000
DTEND;TZID=America/Detroit:20260122T170000
DTSTAMP:20260425T115204
CREATED:20260107T165441Z
LAST-MODIFIED:20260107T165510Z
UID:3134-1769072400-1769101200@diversityins.com
SUMMARY:Country Club Hills Walmart
DESCRIPTION:
URL:https://diversityins.com/event/country-club-hills-walmart-36/
CATEGORIES:Member
END:VEVENT
BEGIN:VEVENT
DTSTART;TZID=America/Detroit:20260122T093000
DTEND;TZID=America/Detroit:20260122T093000
DTSTAMP:20260425T115204
CREATED:20260113T133433Z
LAST-MODIFIED:20260113T133433Z
UID:3226-1769074200-1769074200@diversityins.com
SUMMARY:Special Enrollment Periods  Training
DESCRIPTION:
URL:https://diversityins.com/event/special-enrollment-periods-training-2/
CATEGORIES:Agent
END:VEVENT
BEGIN:VEVENT
DTSTART;TZID=America/Detroit:20260122T093000
DTEND;TZID=America/Detroit:20260122T143000
DTSTAMP:20260425T115204
CREATED:20260107T170643Z
LAST-MODIFIED:20260107T170711Z
UID:3196-1769074200-1769092200@diversityins.com
SUMMARY:Jackson Walmart
DESCRIPTION:
URL:https://diversityins.com/event/jackson-walmart-89/
CATEGORIES:Member
END:VEVENT
BEGIN:VEVENT
DTSTART;TZID=America/Detroit:20260122T100000
DTEND;TZID=America/Detroit:20260122T150000
DTSTAMP:20260425T115204
CREATED:20260107T165144Z
LAST-MODIFIED:20260107T165144Z
UID:3118-1769076000-1769094000@diversityins.com
SUMMARY:Burton Walmart
DESCRIPTION:
URL:https://diversityins.com/event/burton-walmart-89/
CATEGORIES:Member
END:VEVENT
BEGIN:VEVENT
DTSTART;TZID=America/Detroit:20260122T100000
DTEND;TZID=America/Detroit:20260122T150000
DTSTAMP:20260425T115204
CREATED:20260107T165843Z
LAST-MODIFIED:20260107T165911Z
UID:3157-1769076000-1769094000@diversityins.com
SUMMARY:Dearborn Walmart
DESCRIPTION:
URL:https://diversityins.com/event/dearborn-walmart-94/
CATEGORIES:Member
END:VEVENT
BEGIN:VEVENT
DTSTART;TZID=America/Detroit:20260122T100000
DTEND;TZID=America/Detroit:20260122T150000
DTSTAMP:20260425T115204
CREATED:20260107T170243Z
LAST-MODIFIED:20260107T170312Z
UID:3178-1769076000-1769094000@diversityins.com
SUMMARY:Flint Walmart
DESCRIPTION:
URL:https://diversityins.com/event/flint-walmart-86/
CATEGORIES:Member
END:VEVENT
BEGIN:VEVENT
DTSTART;TZID=America/Detroit:20260123T090000
DTEND;TZID=America/Detroit:20260123T130000
DTSTAMP:20260425T115204
CREATED:20260107T165441Z
LAST-MODIFIED:20260107T165510Z
UID:3135-1769158800-1769173200@diversityins.com
SUMMARY:Country Club Hills Walmart
DESCRIPTION:
URL:https://diversityins.com/event/country-club-hills-walmart-37/
CATEGORIES:Member
END:VEVENT
BEGIN:VEVENT
DTSTART;TZID=America/Detroit:20260123T100000
DTEND;TZID=America/Detroit:20260123T150000
DTSTAMP:20260425T115204
CREATED:20260107T165210Z
LAST-MODIFIED:20260107T165210Z
UID:3119-1769162400-1769180400@diversityins.com
SUMMARY:Burton Walmart
DESCRIPTION:
URL:https://diversityins.com/event/burton-walmart-90/
CATEGORIES:Member
END:VEVENT
BEGIN:VEVENT
DTSTART;TZID=America/Detroit:20260123T100000
DTEND;TZID=America/Detroit:20260123T150000
DTSTAMP:20260425T115204
CREATED:20260107T165843Z
LAST-MODIFIED:20260107T165912Z
UID:3158-1769162400-1769180400@diversityins.com
SUMMARY:Dearborn Walmart
DESCRIPTION:
URL:https://diversityins.com/event/dearborn-walmart-95/
CATEGORIES:Member
END:VEVENT
BEGIN:VEVENT
DTSTART;TZID=America/Detroit:20260123T100000
DTEND;TZID=America/Detroit:20260123T150000
DTSTAMP:20260425T115204
CREATED:20260107T170341Z
LAST-MODIFIED:20260107T170410Z
UID:3179-1769162400-1769180400@diversityins.com
SUMMARY:Flint Walmart
DESCRIPTION:
URL:https://diversityins.com/event/flint-walmart-87/
CATEGORIES:Member
END:VEVENT
BEGIN:VEVENT
DTSTART;TZID=America/Detroit:20260124T100000
DTEND;TZID=America/Detroit:20260124T140000
DTSTAMP:20260425T115204
CREATED:20260107T165210Z
LAST-MODIFIED:20260107T165210Z
UID:3120-1769248800-1769263200@diversityins.com
SUMMARY:Burton Walmart
DESCRIPTION:
URL:https://diversityins.com/event/burton-walmart-91/
CATEGORIES:Member
END:VEVENT
BEGIN:VEVENT
DTSTART;TZID=America/Detroit:20260124T100000
DTEND;TZID=America/Detroit:20260124T140000
DTSTAMP:20260425T115204
CREATED:20260107T165941Z
LAST-MODIFIED:20260107T170011Z
UID:3159-1769248800-1769263200@diversityins.com
SUMMARY:Dearborn Walmart
DESCRIPTION:
URL:https://diversityins.com/event/dearborn-walmart-96/
CATEGORIES:Member
END:VEVENT
BEGIN:VEVENT
DTSTART;TZID=America/Detroit:20260124T100000
DTEND;TZID=America/Detroit:20260124T140000
DTSTAMP:20260425T115204
CREATED:20260107T170341Z
LAST-MODIFIED:20260107T170411Z
UID:3180-1769248800-1769263200@diversityins.com
SUMMARY:Flint Walmart
DESCRIPTION:
URL:https://diversityins.com/event/flint-walmart-88/
CATEGORIES:Member
END:VEVENT
BEGIN:VEVENT
DTSTART;TZID=America/Detroit:20260126T093000
DTEND;TZID=America/Detroit:20260126T143000
DTSTAMP:20260425T115204
CREATED:20260107T170643Z
LAST-MODIFIED:20260107T170711Z
UID:3197-1769419800-1769437800@diversityins.com
SUMMARY:Jackson Walmart
DESCRIPTION:
URL:https://diversityins.com/event/jackson-walmart-90/
CATEGORIES:Member
END:VEVENT
BEGIN:VEVENT
DTSTART;TZID=America/Detroit:20260126T100000
DTEND;TZID=America/Detroit:20260126T150000
DTSTAMP:20260425T115204
CREATED:20260107T165211Z
LAST-MODIFIED:20260107T165211Z
UID:3121-1769421600-1769439600@diversityins.com
SUMMARY:Burton Walmart
DESCRIPTION:
URL:https://diversityins.com/event/burton-walmart-92/
CATEGORIES:Member
END:VEVENT
BEGIN:VEVENT
DTSTART;TZID=America/Detroit:20260126T100000
DTEND;TZID=America/Detroit:20260126T150000
DTSTAMP:20260425T115204
CREATED:20260107T165941Z
LAST-MODIFIED:20260107T170012Z
UID:3160-1769421600-1769439600@diversityins.com
SUMMARY:Dearborn Walmart
DESCRIPTION:
URL:https://diversityins.com/event/dearborn-walmart-97/
CATEGORIES:Member
END:VEVENT
BEGIN:VEVENT
DTSTART;TZID=America/Detroit:20260126T140000
DTEND;TZID=America/Detroit:20260126T140000
DTSTAMP:20260425T115204
CREATED:20260113T133433Z
LAST-MODIFIED:20260113T133433Z
UID:3227-1769436000-1769436000@diversityins.com
SUMMARY:Sunfire Training
DESCRIPTION:
URL:https://diversityins.com/event/sunfire-training-2/
CATEGORIES:Agent
END:VEVENT
BEGIN:VEVENT
DTSTART;TZID=America/Detroit:20260127T093000
DTEND;TZID=America/Detroit:20260127T143000
DTSTAMP:20260425T115204
CREATED:20260107T170644Z
LAST-MODIFIED:20260107T170712Z
UID:3198-1769506200-1769524200@diversityins.com
SUMMARY:Jackson Walmart
DESCRIPTION:
URL:https://diversityins.com/event/jackson-walmart-91/
CATEGORIES:Member
END:VEVENT
BEGIN:VEVENT
DTSTART;TZID=America/Detroit:20260127T100000
DTEND;TZID=America/Detroit:20260127T150000
DTSTAMP:20260425T115204
CREATED:20260107T165212Z
LAST-MODIFIED:20260107T165212Z
UID:3122-1769508000-1769526000@diversityins.com
SUMMARY:Burton Walmart
DESCRIPTION:
URL:https://diversityins.com/event/burton-walmart-93/
CATEGORIES:Member
END:VEVENT
BEGIN:VEVENT
DTSTART;TZID=America/Detroit:20260127T100000
DTEND;TZID=America/Detroit:20260127T150000
DTSTAMP:20260425T115204
CREATED:20260107T165942Z
LAST-MODIFIED:20260107T170013Z
UID:3161-1769508000-1769526000@diversityins.com
SUMMARY:Dearborn Walmart
DESCRIPTION:
URL:https://diversityins.com/event/dearborn-walmart-98/
CATEGORIES:Member
END:VEVENT
END:VCALENDAR