BEGIN:VCALENDAR
VERSION:2.0
PRODID:-//Diversity Insurance Agency - ECPv6.15.20//NONSGML v1.0//EN
CALSCALE:GREGORIAN
METHOD:PUBLISH
X-WR-CALNAME:Diversity Insurance Agency
X-ORIGINAL-URL:https://diversityins.com
X-WR-CALDESC:Events for Diversity Insurance Agency
REFRESH-INTERVAL;VALUE=DURATION:PT1H
X-Robots-Tag:noindex
X-PUBLISHED-TTL:PT1H
BEGIN:VTIMEZONE
TZID:America/Detroit
BEGIN:DAYLIGHT
TZOFFSETFROM:-0500
TZOFFSETTO:-0400
TZNAME:EDT
DTSTART:20250309T070000
END:DAYLIGHT
BEGIN:STANDARD
TZOFFSETFROM:-0400
TZOFFSETTO:-0500
TZNAME:EST
DTSTART:20251102T060000
END:STANDARD
BEGIN:DAYLIGHT
TZOFFSETFROM:-0500
TZOFFSETTO:-0400
TZNAME:EDT
DTSTART:20260308T070000
END:DAYLIGHT
BEGIN:STANDARD
TZOFFSETFROM:-0400
TZOFFSETTO:-0500
TZNAME:EST
DTSTART:20261101T060000
END:STANDARD
BEGIN:DAYLIGHT
TZOFFSETFROM:-0500
TZOFFSETTO:-0400
TZNAME:EDT
DTSTART:20270314T070000
END:DAYLIGHT
BEGIN:STANDARD
TZOFFSETFROM:-0400
TZOFFSETTO:-0500
TZNAME:EST
DTSTART:20271107T060000
END:STANDARD
END:VTIMEZONE
BEGIN:VEVENT
DTSTART;TZID=America/Detroit:20260208T110000
DTEND;TZID=America/Detroit:20260208T150000
DTSTAMP:20260424T121500
CREATED:20260128T181304Z
LAST-MODIFIED:20260209T195114Z
UID:3667-1770548400-1770562800@diversityins.com
SUMMARY:Taylor Walmart
DESCRIPTION:Have questions about Medicare or ACA plans? Visit our kiosk near the front entrance of Walmart during our scheduled hours. We’re happy to help!
URL:https://diversityins.com/event/taylor-walmart-131/
CATEGORIES:Member
END:VEVENT
BEGIN:VEVENT
DTSTART;TZID=America/Detroit:20260208T160000
DTEND;TZID=America/Detroit:20260208T210000
DTSTAMP:20260424T121500
CREATED:20260128T181106Z
LAST-MODIFIED:20260209T194916Z
UID:3666-1770566400-1770584400@diversityins.com
SUMMARY:Taylor Walmart
DESCRIPTION:Have questions about Medicare or ACA plans? Visit our kiosk near the front entrance of Walmart during our scheduled hours. We’re happy to help!
URL:https://diversityins.com/event/taylor-walmart-130/
CATEGORIES:Member
END:VEVENT
BEGIN:VEVENT
DTSTART;TZID=America/Detroit:20260209T090000
DTEND;TZID=America/Detroit:20260209T160000
DTSTAMP:20260424T121500
CREATED:20260128T175703Z
LAST-MODIFIED:20260209T183448Z
UID:3572-1770627600-1770652800@diversityins.com
SUMMARY:West Branch Walmart
DESCRIPTION:Have questions about Medicare or ACA plans? Visit our kiosk near the front entrance of Walmart during our scheduled hours. We’re happy to help!
URL:https://diversityins.com/event/west-branch-walmart-97/
CATEGORIES:Member
END:VEVENT
BEGIN:VEVENT
DTSTART;TZID=America/Detroit:20260209T090000
DTEND;TZID=America/Detroit:20260209T163000
DTSTAMP:20260424T121500
CREATED:20260128T181907Z
LAST-MODIFIED:20260209T200932Z
UID:3719-1770627600-1770654600@diversityins.com
SUMMARY:Darien Walmart
DESCRIPTION:Have questions about Medicare or ACA plans? Visit our kiosk near the front entrance of Walmart during our scheduled hours. We’re happy to help!
URL:https://diversityins.com/event/darien-walmart-81/
CATEGORIES:Member
END:VEVENT
BEGIN:VEVENT
DTSTART;TZID=America/Detroit:20260209T090000
DTEND;TZID=America/Detroit:20260209T170000
DTSTAMP:20260424T121500
CREATED:20260128T181623Z
LAST-MODIFIED:20260209T200319Z
UID:3695-1770627600-1770656400@diversityins.com
SUMMARY:Country Club Hills Walmart
DESCRIPTION:Have questions about Medicare or ACA plans? Visit our kiosk near the front entrance of Walmart during our scheduled hours. We’re happy to help!
URL:https://diversityins.com/event/country-club-hills-walmart-68/
CATEGORIES:Member
END:VEVENT
BEGIN:VEVENT
DTSTART;TZID=America/Detroit:20260209T093000
DTEND;TZID=America/Detroit:20260209T143000
DTSTAMP:20260424T121500
CREATED:20260128T175203Z
LAST-MODIFIED:20260209T175951Z
UID:3539-1770629400-1770647400@diversityins.com
SUMMARY:Jackson Walmart
DESCRIPTION:Have questions about Medicare or ACA plans? Visit our kiosk near the front entrance of Walmart during our scheduled hours. We’re happy to help!
URL:https://diversityins.com/event/jackson-walmart-114/
CATEGORIES:Member
END:VEVENT
BEGIN:VEVENT
DTSTART;TZID=America/Detroit:20260209T093000
DTEND;TZID=America/Detroit:20260209T143000
DTSTAMP:20260424T121500
CREATED:20260128T175334Z
LAST-MODIFIED:20260209T180438Z
UID:3555-1770629400-1770647400@diversityins.com
SUMMARY:Monroe Walmart
DESCRIPTION:Have questions about Medicare or ACA plans? Visit our kiosk near the front entrance of Walmart during our scheduled hours. We’re happy to help!
URL:https://diversityins.com/event/monroe-walmart-102/
CATEGORIES:Member
END:VEVENT
BEGIN:VEVENT
DTSTART;TZID=America/Detroit:20260209T100000
DTEND;TZID=America/Detroit:20260209T150000
DTSTAMP:20260424T121500
CREATED:20260128T173926Z
LAST-MODIFIED:20260209T174748Z
UID:3493-1770631200-1770649200@diversityins.com
SUMMARY:Burton Walmart
DESCRIPTION:Have questions about Medicare or ACA plans? Visit our kiosk near the front entrance of Walmart during our scheduled hours. We’re happy to help!
URL:https://diversityins.com/event/burton-walmart-128/
CATEGORIES:Member
END:VEVENT
BEGIN:VEVENT
DTSTART;TZID=America/Detroit:20260209T100000
DTEND;TZID=America/Detroit:20260209T150000
DTSTAMP:20260424T121500
CREATED:20260128T180121Z
LAST-MODIFIED:20260209T184254Z
UID:3593-1770631200-1770649200@diversityins.com
SUMMARY:Livonia Walmart
DESCRIPTION:Have questions about Medicare or ACA plans? Visit our kiosk near the front entrance of Walmart during our scheduled hours. We’re happy to help!
URL:https://diversityins.com/event/livonia-walmart-135/
CATEGORIES:Member
END:VEVENT
BEGIN:VEVENT
DTSTART;TZID=America/Detroit:20260209T100000
DTEND;TZID=America/Detroit:20260209T150000
DTSTAMP:20260424T121500
CREATED:20260128T180350Z
LAST-MODIFIED:20260209T185408Z
UID:3617-1770631200-1770649200@diversityins.com
SUMMARY:Flint Walmart
DESCRIPTION:Have questions about Medicare or ACA plans? Visit our kiosk near the front entrance of Walmart during our scheduled hours. We’re happy to help!
URL:https://diversityins.com/event/flint-walmart-123/
CATEGORIES:Member
END:VEVENT
BEGIN:VEVENT
DTSTART;TZID=America/Detroit:20260209T100000
DTEND;TZID=America/Detroit:20260209T150000
DTSTAMP:20260424T121500
CREATED:20260128T180752Z
LAST-MODIFIED:20260209T190213Z
UID:3641-1770631200-1770649200@diversityins.com
SUMMARY:Dearborn Walmart
DESCRIPTION:Have questions about Medicare or ACA plans? Visit our kiosk near the front entrance of Walmart during our scheduled hours. We’re happy to help!
URL:https://diversityins.com/event/dearborn-walmart-132/
CATEGORIES:Member
END:VEVENT
BEGIN:VEVENT
DTSTART;TZID=America/Detroit:20260209T100000
DTEND;TZID=America/Detroit:20260209T150000
DTSTAMP:20260424T121500
CREATED:20260128T181305Z
LAST-MODIFIED:20260209T195115Z
UID:3668-1770631200-1770649200@diversityins.com
SUMMARY:Taylor Walmart
DESCRIPTION:Have questions about Medicare or ACA plans? Visit our kiosk near the front entrance of Walmart during our scheduled hours. We’re happy to help!
URL:https://diversityins.com/event/taylor-walmart-132/
CATEGORIES:Member
END:VEVENT
BEGIN:VEVENT
DTSTART;TZID=America/Detroit:20260209T150000
DTEND;TZID=America/Detroit:20260209T150000
DTSTAMP:20260424T121500
CREATED:20260128T174500Z
LAST-MODIFIED:20260209T175151Z
UID:3517-1770649200-1770649200@diversityins.com
SUMMARY:Southgate Walmart
DESCRIPTION:Have questions about Medicare or ACA plans? Visit our kiosk near the front entrance of Walmart during our scheduled hours. We’re happy to help!
URL:https://diversityins.com/event/southgate-walmart-108/
CATEGORIES:Member
END:VEVENT
BEGIN:VEVENT
DTSTART;TZID=America/Detroit:20260210T090000
DTEND;TZID=America/Detroit:20260210T160000
DTSTAMP:20260424T121500
CREATED:20260128T175704Z
LAST-MODIFIED:20260209T183449Z
UID:3573-1770714000-1770739200@diversityins.com
SUMMARY:West Branch Walmart
DESCRIPTION:Have questions about Medicare or ACA plans? Visit our kiosk near the front entrance of Walmart during our scheduled hours. We’re happy to help!
URL:https://diversityins.com/event/west-branch-walmart-98/
CATEGORIES:Member
END:VEVENT
BEGIN:VEVENT
DTSTART;TZID=America/Detroit:20260210T090000
DTEND;TZID=America/Detroit:20260210T160000
DTSTAMP:20260424T121500
CREATED:20260128T181624Z
LAST-MODIFIED:20260209T200319Z
UID:3696-1770714000-1770739200@diversityins.com
SUMMARY:Country Club Hills Walmart
DESCRIPTION:Have questions about Medicare or ACA plans? Visit our kiosk near the front entrance of Walmart during our scheduled hours. We’re happy to help!
URL:https://diversityins.com/event/country-club-hills-walmart-69/
CATEGORIES:Member
END:VEVENT
BEGIN:VEVENT
DTSTART;TZID=America/Detroit:20260210T093000
DTEND;TZID=America/Detroit:20260210T143000
DTSTAMP:20260424T121500
CREATED:20260128T175204Z
LAST-MODIFIED:20260209T175951Z
UID:3540-1770715800-1770733800@diversityins.com
SUMMARY:Jackson Walmart
DESCRIPTION:Have questions about Medicare or ACA plans? Visit our kiosk near the front entrance of Walmart during our scheduled hours. We’re happy to help!
URL:https://diversityins.com/event/jackson-walmart-115/
CATEGORIES:Member
END:VEVENT
BEGIN:VEVENT
DTSTART;TZID=America/Detroit:20260210T093000
DTEND;TZID=America/Detroit:20260210T143000
DTSTAMP:20260424T121500
CREATED:20260128T175335Z
LAST-MODIFIED:20260209T180438Z
UID:3556-1770715800-1770733800@diversityins.com
SUMMARY:Monroe Walmart
DESCRIPTION:Have questions about Medicare or ACA plans? Visit our kiosk near the front entrance of Walmart during our scheduled hours. We’re happy to help!
URL:https://diversityins.com/event/monroe-walmart-103/
CATEGORIES:Member
END:VEVENT
BEGIN:VEVENT
DTSTART;TZID=America/Detroit:20260210T100000
DTEND;TZID=America/Detroit:20260210T150000
DTSTAMP:20260424T121500
CREATED:20260128T173927Z
LAST-MODIFIED:20260209T174749Z
UID:3494-1770717600-1770735600@diversityins.com
SUMMARY:Burton Walmart
DESCRIPTION:Have questions about Medicare or ACA plans? Visit our kiosk near the front entrance of Walmart during our scheduled hours. We’re happy to help!
URL:https://diversityins.com/event/burton-walmart-129/
CATEGORIES:Member
END:VEVENT
BEGIN:VEVENT
DTSTART;TZID=America/Detroit:20260210T100000
DTEND;TZID=America/Detroit:20260210T150000
DTSTAMP:20260424T121500
CREATED:20260128T180122Z
LAST-MODIFIED:20260209T184255Z
UID:3594-1770717600-1770735600@diversityins.com
SUMMARY:Livonia Walmart
DESCRIPTION:Have questions about Medicare or ACA plans? Visit our kiosk near the front entrance of Walmart during our scheduled hours. We’re happy to help!
URL:https://diversityins.com/event/livonia-walmart-136/
CATEGORIES:Member
END:VEVENT
BEGIN:VEVENT
DTSTART;TZID=America/Detroit:20260210T100000
DTEND;TZID=America/Detroit:20260210T150000
DTSTAMP:20260424T121500
CREATED:20260128T180350Z
LAST-MODIFIED:20260209T185409Z
UID:3618-1770717600-1770735600@diversityins.com
SUMMARY:Flint Walmart
DESCRIPTION:Have questions about Medicare or ACA plans? Visit our kiosk near the front entrance of Walmart during our scheduled hours. We’re happy to help!
URL:https://diversityins.com/event/flint-walmart-124/
CATEGORIES:Member
END:VEVENT
BEGIN:VEVENT
DTSTART;TZID=America/Detroit:20260210T100000
DTEND;TZID=America/Detroit:20260210T150000
DTSTAMP:20260424T121500
CREATED:20260128T180801Z
LAST-MODIFIED:20260209T194111Z
UID:3642-1770717600-1770735600@diversityins.com
SUMMARY:Dearborn Walmart
DESCRIPTION:Have questions about Medicare or ACA plans? Visit our kiosk near the front entrance of Walmart during our scheduled hours. We’re happy to help!
URL:https://diversityins.com/event/dearborn-walmart-133/
CATEGORIES:Member
END:VEVENT
BEGIN:VEVENT
DTSTART;TZID=America/Detroit:20260210T100000
DTEND;TZID=America/Detroit:20260210T150000
DTSTAMP:20260424T121500
CREATED:20260128T181305Z
LAST-MODIFIED:20260209T195115Z
UID:3669-1770717600-1770735600@diversityins.com
SUMMARY:Taylor Walmart
DESCRIPTION:Have questions about Medicare or ACA plans? Visit our kiosk near the front entrance of Walmart during our scheduled hours. We’re happy to help!
URL:https://diversityins.com/event/taylor-walmart-133/
CATEGORIES:Member
END:VEVENT
BEGIN:VEVENT
DTSTART;TZID=America/Detroit:20260210T100000
DTEND;TZID=America/Detroit:20260210T150000
DTSTAMP:20260424T121500
CREATED:20260128T181908Z
LAST-MODIFIED:20260209T200932Z
UID:3720-1770717600-1770735600@diversityins.com
SUMMARY:Darien Walmart
DESCRIPTION:Have questions about Medicare or ACA plans? Visit our kiosk near the front entrance of Walmart during our scheduled hours. We’re happy to help!
URL:https://diversityins.com/event/darien-walmart-82/
CATEGORIES:Member
END:VEVENT
BEGIN:VEVENT
DTSTART;TZID=America/Detroit:20260210T150000
DTEND;TZID=America/Detroit:20260210T150000
DTSTAMP:20260424T121500
CREATED:20260128T174501Z
LAST-MODIFIED:20260209T175152Z
UID:3518-1770735600-1770735600@diversityins.com
SUMMARY:Southgate Walmart
DESCRIPTION:Have questions about Medicare or ACA plans? Visit our kiosk near the front entrance of Walmart during our scheduled hours. We’re happy to help!
URL:https://diversityins.com/event/southgate-walmart-109/
CATEGORIES:Member
END:VEVENT
BEGIN:VEVENT
DTSTART;TZID=America/Detroit:20260211T090000
DTEND;TZID=America/Detroit:20260211T150000
DTSTAMP:20260424T121500
CREATED:20260128T175705Z
LAST-MODIFIED:20260209T183450Z
UID:3574-1770800400-1770822000@diversityins.com
SUMMARY:West Branch Walmart
DESCRIPTION:Have questions about Medicare or ACA plans? Visit our kiosk near the front entrance of Walmart during our scheduled hours. We’re happy to help!
URL:https://diversityins.com/event/west-branch-walmart-99/
CATEGORIES:Member
END:VEVENT
BEGIN:VEVENT
DTSTART;TZID=America/Detroit:20260211T090000
DTEND;TZID=America/Detroit:20260211T163000
DTSTAMP:20260424T121501
CREATED:20260128T181908Z
LAST-MODIFIED:20260209T200932Z
UID:3721-1770800400-1770827400@diversityins.com
SUMMARY:Darien Walmart
DESCRIPTION:Have questions about Medicare or ACA plans? Visit our kiosk near the front entrance of Walmart during our scheduled hours. We’re happy to help!
URL:https://diversityins.com/event/darien-walmart-83/
CATEGORIES:Member
END:VEVENT
BEGIN:VEVENT
DTSTART;TZID=America/Detroit:20260211T090000
DTEND;TZID=America/Detroit:20260211T170000
DTSTAMP:20260424T121501
CREATED:20260128T181651Z
LAST-MODIFIED:20260209T200348Z
UID:3697-1770800400-1770829200@diversityins.com
SUMMARY:Country Club Hills Walmart
DESCRIPTION:Have questions about Medicare or ACA plans? Visit our kiosk near the front entrance of Walmart during our scheduled hours. We’re happy to help!
URL:https://diversityins.com/event/country-club-hills-walmart-70/
CATEGORIES:Member
END:VEVENT
BEGIN:VEVENT
DTSTART;TZID=America/Detroit:20260211T093000
DTEND;TZID=America/Detroit:20260211T143000
DTSTAMP:20260424T121501
CREATED:20260128T175205Z
LAST-MODIFIED:20260209T175952Z
UID:3541-1770802200-1770820200@diversityins.com
SUMMARY:Jackson Walmart
DESCRIPTION:Have questions about Medicare or ACA plans? Visit our kiosk near the front entrance of Walmart during our scheduled hours. We’re happy to help!
URL:https://diversityins.com/event/jackson-walmart-116/
CATEGORIES:Member
END:VEVENT
BEGIN:VEVENT
DTSTART;TZID=America/Detroit:20260211T093000
DTEND;TZID=America/Detroit:20260211T143000
DTSTAMP:20260424T121501
CREATED:20260128T175402Z
LAST-MODIFIED:20260209T180637Z
UID:3557-1770802200-1770820200@diversityins.com
SUMMARY:Monroe Walmart
DESCRIPTION:Have questions about Medicare or ACA plans? Visit our kiosk near the front entrance of Walmart during our scheduled hours. We’re happy to help!
URL:https://diversityins.com/event/monroe-walmart-104/
CATEGORIES:Member
END:VEVENT
BEGIN:VEVENT
DTSTART;TZID=America/Detroit:20260211T100000
DTEND;TZID=America/Detroit:20260211T140000
DTSTAMP:20260424T121501
CREATED:20260128T181306Z
LAST-MODIFIED:20260209T195116Z
UID:3670-1770804000-1770818400@diversityins.com
SUMMARY:Taylor Walmart
DESCRIPTION:Have questions about Medicare or ACA plans? Visit our kiosk near the front entrance of Walmart during our scheduled hours. We’re happy to help!
URL:https://diversityins.com/event/taylor-walmart-134/
CATEGORIES:Member
END:VEVENT
END:VCALENDAR