BEGIN:VCALENDAR
VERSION:2.0
PRODID:-//Diversity Insurance Agency - ECPv6.15.20//NONSGML v1.0//EN
CALSCALE:GREGORIAN
METHOD:PUBLISH
X-WR-CALNAME:Diversity Insurance Agency
X-ORIGINAL-URL:https://diversityins.com
X-WR-CALDESC:Events for Diversity Insurance Agency
REFRESH-INTERVAL;VALUE=DURATION:PT1H
X-Robots-Tag:noindex
X-PUBLISHED-TTL:PT1H
BEGIN:VTIMEZONE
TZID:America/Detroit
BEGIN:DAYLIGHT
TZOFFSETFROM:-0500
TZOFFSETTO:-0400
TZNAME:EDT
DTSTART:20250309T070000
END:DAYLIGHT
BEGIN:STANDARD
TZOFFSETFROM:-0400
TZOFFSETTO:-0500
TZNAME:EST
DTSTART:20251102T060000
END:STANDARD
BEGIN:DAYLIGHT
TZOFFSETFROM:-0500
TZOFFSETTO:-0400
TZNAME:EDT
DTSTART:20260308T070000
END:DAYLIGHT
BEGIN:STANDARD
TZOFFSETFROM:-0400
TZOFFSETTO:-0500
TZNAME:EST
DTSTART:20261101T060000
END:STANDARD
BEGIN:DAYLIGHT
TZOFFSETFROM:-0500
TZOFFSETTO:-0400
TZNAME:EDT
DTSTART:20270314T070000
END:DAYLIGHT
BEGIN:STANDARD
TZOFFSETFROM:-0400
TZOFFSETTO:-0500
TZNAME:EST
DTSTART:20271107T060000
END:STANDARD
END:VTIMEZONE
BEGIN:VEVENT
DTSTART;TZID=America/Detroit:20260213T080000
DTEND;TZID=America/Detroit:20260213T180000
DTSTAMP:20260424T124621
CREATED:20260128T181653Z
LAST-MODIFIED:20260209T200348Z
UID:3699-1770969600-1771005600@diversityins.com
SUMMARY:Country Club Hills Walmart
DESCRIPTION:Have questions about Medicare or ACA plans? Visit our kiosk near the front entrance of Walmart during our scheduled hours. We’re happy to help!
URL:https://diversityins.com/event/country-club-hills-walmart-72/
CATEGORIES:Member
END:VEVENT
BEGIN:VEVENT
DTSTART;TZID=America/Detroit:20260213T090000
DTEND;TZID=America/Detroit:20260213T160000
DTSTAMP:20260424T124621
CREATED:20260128T175706Z
LAST-MODIFIED:20260209T183451Z
UID:3576-1770973200-1770998400@diversityins.com
SUMMARY:West Branch Walmart
DESCRIPTION:Have questions about Medicare or ACA plans? Visit our kiosk near the front entrance of Walmart during our scheduled hours. We’re happy to help!
URL:https://diversityins.com/event/west-branch-walmart-101/
CATEGORIES:Member
END:VEVENT
BEGIN:VEVENT
DTSTART;TZID=America/Detroit:20260213T090000
DTEND;TZID=America/Detroit:20260213T163000
DTSTAMP:20260424T124621
CREATED:20260128T181936Z
LAST-MODIFIED:20260209T201132Z
UID:3723-1770973200-1771000200@diversityins.com
SUMMARY:Darien Walmart
DESCRIPTION:Have questions about Medicare or ACA plans? Visit our kiosk near the front entrance of Walmart during our scheduled hours. We’re happy to help!
URL:https://diversityins.com/event/darien-walmart-85/
CATEGORIES:Member
END:VEVENT
BEGIN:VEVENT
DTSTART;TZID=America/Detroit:20260213T100000
DTEND;TZID=America/Detroit:20260213T140000
DTSTAMP:20260424T124621
CREATED:20260128T181421Z
LAST-MODIFIED:20260209T195650Z
UID:3672-1770976800-1770991200@diversityins.com
SUMMARY:Taylor Walmart
DESCRIPTION:Have questions about Medicare or ACA plans? Visit our kiosk near the front entrance of Walmart during our scheduled hours. We’re happy to help!
URL:https://diversityins.com/event/taylor-walmart-136/
CATEGORIES:Member
END:VEVENT
BEGIN:VEVENT
DTSTART;TZID=America/Detroit:20260213T100000
DTEND;TZID=America/Detroit:20260213T150000
DTSTAMP:20260424T124621
CREATED:20260128T173956Z
LAST-MODIFIED:20260209T174818Z
UID:3497-1770976800-1770994800@diversityins.com
SUMMARY:Burton Walmart
DESCRIPTION:Have questions about Medicare or ACA plans? Visit our kiosk near the front entrance of Walmart during our scheduled hours. We’re happy to help!
URL:https://diversityins.com/event/burton-walmart-132/
CATEGORIES:Member
END:VEVENT
BEGIN:VEVENT
DTSTART;TZID=America/Detroit:20260213T100000
DTEND;TZID=America/Detroit:20260213T150000
DTSTAMP:20260424T124621
CREATED:20260128T180150Z
LAST-MODIFIED:20260209T184453Z
UID:3597-1770976800-1770994800@diversityins.com
SUMMARY:Livonia Walmart
DESCRIPTION:Have questions about Medicare or ACA plans? Visit our kiosk near the front entrance of Walmart during our scheduled hours. We’re happy to help!
URL:https://diversityins.com/event/livonia-walmart-139/
CATEGORIES:Member
END:VEVENT
BEGIN:VEVENT
DTSTART;TZID=America/Detroit:20260213T100000
DTEND;TZID=America/Detroit:20260213T150000
DTSTAMP:20260424T124621
CREATED:20260128T180352Z
LAST-MODIFIED:20260209T185410Z
UID:3621-1770976800-1770994800@diversityins.com
SUMMARY:Flint Walmart
DESCRIPTION:Have questions about Medicare or ACA plans? Visit our kiosk near the front entrance of Walmart during our scheduled hours. We’re happy to help!
URL:https://diversityins.com/event/flint-walmart-127/
CATEGORIES:Member
END:VEVENT
BEGIN:VEVENT
DTSTART;TZID=America/Detroit:20260213T100000
DTEND;TZID=America/Detroit:20260213T150000
DTSTAMP:20260424T124621
CREATED:20260128T180803Z
LAST-MODIFIED:20260209T194112Z
UID:3645-1770976800-1770994800@diversityins.com
SUMMARY:Dearborn Walmart
DESCRIPTION:Have questions about Medicare or ACA plans? Visit our kiosk near the front entrance of Walmart during our scheduled hours. We’re happy to help!
URL:https://diversityins.com/event/dearborn-walmart-136/
CATEGORIES:Member
END:VEVENT
BEGIN:VEVENT
DTSTART;TZID=America/Detroit:20260213T150000
DTEND;TZID=America/Detroit:20260213T150000
DTSTAMP:20260424T124621
CREATED:20260128T174503Z
LAST-MODIFIED:20260209T175154Z
UID:3521-1770994800-1770994800@diversityins.com
SUMMARY:Southgate Walmart
DESCRIPTION:Have questions about Medicare or ACA plans? Visit our kiosk near the front entrance of Walmart during our scheduled hours. We’re happy to help!
URL:https://diversityins.com/event/southgate-walmart-112/
CATEGORIES:Member
END:VEVENT
BEGIN:VEVENT
DTSTART;TZID=America/Detroit:20260214T090000
DTEND;TZID=America/Detroit:20260214T130000
DTSTAMP:20260424T124621
CREATED:20260128T181654Z
LAST-MODIFIED:20260209T200349Z
UID:3700-1771059600-1771074000@diversityins.com
SUMMARY:Country Club Hills Walmart
DESCRIPTION:Have questions about Medicare or ACA plans? Visit our kiosk near the front entrance of Walmart during our scheduled hours. We’re happy to help!
URL:https://diversityins.com/event/country-club-hills-walmart-73/
CATEGORIES:Member
END:VEVENT
BEGIN:VEVENT
DTSTART;TZID=America/Detroit:20260214T090000
DTEND;TZID=America/Detroit:20260214T160000
DTSTAMP:20260424T124621
CREATED:20260128T181422Z
LAST-MODIFIED:20260209T195651Z
UID:3673-1771059600-1771084800@diversityins.com
SUMMARY:Taylor Walmart
DESCRIPTION:Have questions about Medicare or ACA plans? Visit our kiosk near the front entrance of Walmart during our scheduled hours. We’re happy to help!
URL:https://diversityins.com/event/taylor-walmart-137/
CATEGORIES:Member
END:VEVENT
BEGIN:VEVENT
DTSTART;TZID=America/Detroit:20260214T100000
DTEND;TZID=America/Detroit:20260214T140000
DTSTAMP:20260424T124621
CREATED:20260128T173957Z
LAST-MODIFIED:20260209T174818Z
UID:3498-1771063200-1771077600@diversityins.com
SUMMARY:Burton Walmart
DESCRIPTION:Have questions about Medicare or ACA plans? Visit our kiosk near the front entrance of Walmart during our scheduled hours. We’re happy to help!
URL:https://diversityins.com/event/burton-walmart-133/
CATEGORIES:Member
END:VEVENT
BEGIN:VEVENT
DTSTART;TZID=America/Detroit:20260214T100000
DTEND;TZID=America/Detroit:20260214T140000
DTSTAMP:20260424T124621
CREATED:20260128T180151Z
LAST-MODIFIED:20260209T184454Z
UID:3598-1771063200-1771077600@diversityins.com
SUMMARY:Livonia Walmart
DESCRIPTION:Have questions about Medicare or ACA plans? Visit our kiosk near the front entrance of Walmart during our scheduled hours. We’re happy to help!
URL:https://diversityins.com/event/livonia-walmart-140/
CATEGORIES:Member
END:VEVENT
BEGIN:VEVENT
DTSTART;TZID=America/Detroit:20260214T100000
DTEND;TZID=America/Detroit:20260214T140000
DTSTAMP:20260424T124621
CREATED:20260128T180420Z
LAST-MODIFIED:20260209T185622Z
UID:3622-1771063200-1771077600@diversityins.com
SUMMARY:Flint Walmart
DESCRIPTION:Have questions about Medicare or ACA plans? Visit our kiosk near the front entrance of Walmart during our scheduled hours. We’re happy to help!
URL:https://diversityins.com/event/flint-walmart-128/
CATEGORIES:Member
END:VEVENT
BEGIN:VEVENT
DTSTART;TZID=America/Detroit:20260214T100000
DTEND;TZID=America/Detroit:20260214T140000
DTSTAMP:20260424T124621
CREATED:20260128T180804Z
LAST-MODIFIED:20260209T194113Z
UID:3646-1771063200-1771077600@diversityins.com
SUMMARY:Dearborn Walmart
DESCRIPTION:Have questions about Medicare or ACA plans? Visit our kiosk near the front entrance of Walmart during our scheduled hours. We’re happy to help!
URL:https://diversityins.com/event/dearborn-walmart-137/
CATEGORIES:Member
END:VEVENT
BEGIN:VEVENT
DTSTART;TZID=America/Detroit:20260214T100000
DTEND;TZID=America/Detroit:20260214T150000
DTSTAMP:20260424T124621
CREATED:20260128T181937Z
LAST-MODIFIED:20260209T201132Z
UID:3724-1771063200-1771081200@diversityins.com
SUMMARY:Darien Walmart
DESCRIPTION:Have questions about Medicare or ACA plans? Visit our kiosk near the front entrance of Walmart during our scheduled hours. We’re happy to help!
URL:https://diversityins.com/event/darien-walmart-86/
CATEGORIES:Member
END:VEVENT
BEGIN:VEVENT
DTSTART;TZID=America/Detroit:20260214T140000
DTEND;TZID=America/Detroit:20260214T140000
DTSTAMP:20260424T124621
CREATED:20260128T174700Z
LAST-MODIFIED:20260209T175349Z
UID:3522-1771077600-1771077600@diversityins.com
SUMMARY:Southgate Walmart
DESCRIPTION:Have questions about Medicare or ACA plans? Visit our kiosk near the front entrance of Walmart during our scheduled hours. We’re happy to help!
URL:https://diversityins.com/event/southgate-walmart-113/
CATEGORIES:Member
END:VEVENT
BEGIN:VEVENT
DTSTART;TZID=America/Detroit:20260215T110000
DTEND;TZID=America/Detroit:20260215T150000
DTSTAMP:20260424T124621
CREATED:20260128T181423Z
LAST-MODIFIED:20260209T195651Z
UID:3675-1771153200-1771167600@diversityins.com
SUMMARY:Taylor Walmart
DESCRIPTION:Have questions about Medicare or ACA plans? Visit our kiosk near the front entrance of Walmart during our scheduled hours. We’re happy to help!
URL:https://diversityins.com/event/taylor-walmart-139/
CATEGORIES:Member
END:VEVENT
BEGIN:VEVENT
DTSTART;TZID=America/Detroit:20260215T160000
DTEND;TZID=America/Detroit:20260215T210000
DTSTAMP:20260424T124621
CREATED:20260128T181423Z
LAST-MODIFIED:20260209T195651Z
UID:3674-1771171200-1771189200@diversityins.com
SUMMARY:Taylor Walmart
DESCRIPTION:Have questions about Medicare or ACA plans? Visit our kiosk near the front entrance of Walmart during our scheduled hours. We’re happy to help!
URL:https://diversityins.com/event/taylor-walmart-138/
CATEGORIES:Member
END:VEVENT
BEGIN:VEVENT
DTSTART;TZID=America/Detroit:20260216T080000
DTEND;TZID=America/Detroit:20260216T180000
DTSTAMP:20260424T124621
CREATED:20260128T181654Z
LAST-MODIFIED:20260209T200349Z
UID:3701-1771228800-1771264800@diversityins.com
SUMMARY:Country Club Hills Walmart
DESCRIPTION:Have questions about Medicare or ACA plans? Visit our kiosk near the front entrance of Walmart during our scheduled hours. We’re happy to help!
URL:https://diversityins.com/event/country-club-hills-walmart-74/
CATEGORIES:Member
END:VEVENT
BEGIN:VEVENT
DTSTART;TZID=America/Detroit:20260216T090000
DTEND;TZID=America/Detroit:20260216T160000
DTSTAMP:20260424T124621
CREATED:20260128T175732Z
LAST-MODIFIED:20260209T183649Z
UID:3577-1771232400-1771257600@diversityins.com
SUMMARY:West Branch Walmart
DESCRIPTION:Have questions about Medicare or ACA plans? Visit our kiosk near the front entrance of Walmart during our scheduled hours. We’re happy to help!
URL:https://diversityins.com/event/west-branch-walmart-102/
CATEGORIES:Member
END:VEVENT
BEGIN:VEVENT
DTSTART;TZID=America/Detroit:20260216T090000
DTEND;TZID=America/Detroit:20260216T173000
DTSTAMP:20260424T124621
CREATED:20260128T181937Z
LAST-MODIFIED:20260209T201133Z
UID:3725-1771232400-1771263000@diversityins.com
SUMMARY:Darien Walmart
DESCRIPTION:Have questions about Medicare or ACA plans? Visit our kiosk near the front entrance of Walmart during our scheduled hours. We’re happy to help!
URL:https://diversityins.com/event/darien-walmart-87/
CATEGORIES:Member
END:VEVENT
BEGIN:VEVENT
DTSTART;TZID=America/Detroit:20260216T093000
DTEND;TZID=America/Detroit:20260216T143000
DTSTAMP:20260424T124621
CREATED:20260128T175233Z
LAST-MODIFIED:20260209T180035Z
UID:3543-1771234200-1771252200@diversityins.com
SUMMARY:Jackson Walmart
DESCRIPTION:Have questions about Medicare or ACA plans? Visit our kiosk near the front entrance of Walmart during our scheduled hours. We’re happy to help!
URL:https://diversityins.com/event/jackson-walmart-118/
CATEGORIES:Member
END:VEVENT
BEGIN:VEVENT
DTSTART;TZID=America/Detroit:20260216T093000
DTEND;TZID=America/Detroit:20260216T143000
DTSTAMP:20260424T124621
CREATED:20260128T175404Z
LAST-MODIFIED:20260209T180638Z
UID:3559-1771234200-1771252200@diversityins.com
SUMMARY:Monroe Walmart
DESCRIPTION:Have questions about Medicare or ACA plans? Visit our kiosk near the front entrance of Walmart during our scheduled hours. We’re happy to help!
URL:https://diversityins.com/event/monroe-walmart-106/
CATEGORIES:Member
END:VEVENT
BEGIN:VEVENT
DTSTART;TZID=America/Detroit:20260216T100000
DTEND;TZID=America/Detroit:20260216T150000
DTSTAMP:20260424T124621
CREATED:20260128T173958Z
LAST-MODIFIED:20260209T174819Z
UID:3499-1771236000-1771254000@diversityins.com
SUMMARY:Burton Walmart
DESCRIPTION:Have questions about Medicare or ACA plans? Visit our kiosk near the front entrance of Walmart during our scheduled hours. We’re happy to help!
URL:https://diversityins.com/event/burton-walmart-134/
CATEGORIES:Member
END:VEVENT
BEGIN:VEVENT
DTSTART;TZID=America/Detroit:20260216T100000
DTEND;TZID=America/Detroit:20260216T150000
DTSTAMP:20260424T124621
CREATED:20260128T180152Z
LAST-MODIFIED:20260209T184454Z
UID:3599-1771236000-1771254000@diversityins.com
SUMMARY:Livonia Walmart
DESCRIPTION:Have questions about Medicare or ACA plans? Visit our kiosk near the front entrance of Walmart during our scheduled hours. We’re happy to help!
URL:https://diversityins.com/event/livonia-walmart-141/
CATEGORIES:Member
END:VEVENT
BEGIN:VEVENT
DTSTART;TZID=America/Detroit:20260216T100000
DTEND;TZID=America/Detroit:20260216T150000
DTSTAMP:20260424T124621
CREATED:20260128T180420Z
LAST-MODIFIED:20260209T185623Z
UID:3623-1771236000-1771254000@diversityins.com
SUMMARY:Flint Walmart
DESCRIPTION:Have questions about Medicare or ACA plans? Visit our kiosk near the front entrance of Walmart during our scheduled hours. We’re happy to help!
URL:https://diversityins.com/event/flint-walmart-129/
CATEGORIES:Member
END:VEVENT
BEGIN:VEVENT
DTSTART;TZID=America/Detroit:20260216T100000
DTEND;TZID=America/Detroit:20260216T150000
DTSTAMP:20260424T124621
CREATED:20260128T180832Z
LAST-MODIFIED:20260209T194309Z
UID:3647-1771236000-1771254000@diversityins.com
SUMMARY:Dearborn Walmart
DESCRIPTION:Have questions about Medicare or ACA plans? Visit our kiosk near the front entrance of Walmart during our scheduled hours. We’re happy to help!
URL:https://diversityins.com/event/dearborn-walmart-138/
CATEGORIES:Member
END:VEVENT
BEGIN:VEVENT
DTSTART;TZID=America/Detroit:20260216T100000
DTEND;TZID=America/Detroit:20260216T150000
DTSTAMP:20260424T124621
CREATED:20260128T181424Z
LAST-MODIFIED:20260209T195652Z
UID:3676-1771236000-1771254000@diversityins.com
SUMMARY:Taylor Walmart
DESCRIPTION:Have questions about Medicare or ACA plans? Visit our kiosk near the front entrance of Walmart during our scheduled hours. We’re happy to help!
URL:https://diversityins.com/event/taylor-walmart-140/
CATEGORIES:Member
END:VEVENT
BEGIN:VEVENT
DTSTART;TZID=America/Detroit:20260216T150000
DTEND;TZID=America/Detroit:20260216T150000
DTSTAMP:20260424T124621
CREATED:20260128T174701Z
LAST-MODIFIED:20260209T175349Z
UID:3523-1771254000-1771254000@diversityins.com
SUMMARY:Southgate Walmart
DESCRIPTION:Have questions about Medicare or ACA plans? Visit our kiosk near the front entrance of Walmart during our scheduled hours. We’re happy to help!
URL:https://diversityins.com/event/southgate-walmart-114/
CATEGORIES:Member
END:VEVENT
END:VCALENDAR