BEGIN:VCALENDAR
VERSION:2.0
PRODID:-//Diversity Insurance Agency - ECPv6.15.20//NONSGML v1.0//EN
CALSCALE:GREGORIAN
METHOD:PUBLISH
X-WR-CALNAME:Diversity Insurance Agency
X-ORIGINAL-URL:https://diversityins.com
X-WR-CALDESC:Events for Diversity Insurance Agency
REFRESH-INTERVAL;VALUE=DURATION:PT1H
X-Robots-Tag:noindex
X-PUBLISHED-TTL:PT1H
BEGIN:VTIMEZONE
TZID:America/Detroit
BEGIN:DAYLIGHT
TZOFFSETFROM:-0500
TZOFFSETTO:-0400
TZNAME:EDT
DTSTART:20250309T070000
END:DAYLIGHT
BEGIN:STANDARD
TZOFFSETFROM:-0400
TZOFFSETTO:-0500
TZNAME:EST
DTSTART:20251102T060000
END:STANDARD
BEGIN:DAYLIGHT
TZOFFSETFROM:-0500
TZOFFSETTO:-0400
TZNAME:EDT
DTSTART:20260308T070000
END:DAYLIGHT
BEGIN:STANDARD
TZOFFSETFROM:-0400
TZOFFSETTO:-0500
TZNAME:EST
DTSTART:20261101T060000
END:STANDARD
BEGIN:DAYLIGHT
TZOFFSETFROM:-0500
TZOFFSETTO:-0400
TZNAME:EDT
DTSTART:20270314T070000
END:DAYLIGHT
BEGIN:STANDARD
TZOFFSETFROM:-0400
TZOFFSETTO:-0500
TZNAME:EST
DTSTART:20271107T060000
END:STANDARD
END:VTIMEZONE
BEGIN:VEVENT
DTSTART;TZID=America/Detroit:20260506T093000
DTEND;TZID=America/Detroit:20260506T093000
DTSTAMP:20260424T095356
CREATED:20260423T180424Z
LAST-MODIFIED:20260423T181906Z
UID:4223-1778059800-1778059800@diversityins.com
SUMMARY:Special Enrollment Periods Training
DESCRIPTION:
URL:https://diversityins.com/event/special-enrollment-periods-training-7/
CATEGORIES:Agent
END:VEVENT
BEGIN:VEVENT
DTSTART;TZID=America/Detroit:20260506T100000
DTEND;TZID=America/Detroit:20260506T150000
DTSTAMP:20260424T095356
CREATED:20260423T175756Z
LAST-MODIFIED:20260423T182349Z
UID:4151-1778061600-1778079600@diversityins.com
SUMMARY:Southgate Walmart
DESCRIPTION:Have questions about Medicare or ACA plans? Visit our kiosk near the front entrance of Walmart during our scheduled hours. We’re happy to help!
URL:https://diversityins.com/event/southgate-walmart-182/
CATEGORIES:Member
END:VEVENT
BEGIN:VEVENT
DTSTART;TZID=America/Detroit:20260506T100000
DTEND;TZID=America/Detroit:20260506T150000
DTSTAMP:20260424T095356
CREATED:20260423T180002Z
LAST-MODIFIED:20260423T182604Z
UID:4177-1778061600-1778079600@diversityins.com
SUMMARY:Livonia Walmart
DESCRIPTION:Have questions about Medicare or ACA plans? Visit our kiosk near the front entrance of Walmart during our scheduled hours. We’re happy to help!
URL:https://diversityins.com/event/livonia-walmart-207/
CATEGORIES:Member
END:VEVENT
BEGIN:VEVENT
DTSTART;TZID=America/Detroit:20260506T100000
DTEND;TZID=America/Detroit:20260506T150000
DTSTAMP:20260424T095356
CREATED:20260423T180323Z
LAST-MODIFIED:20260423T182806Z
UID:4206-1778061600-1778079600@diversityins.com
SUMMARY:Taylor Walmart
DESCRIPTION:Have questions about Medicare or ACA plans? Visit our kiosk near the front entrance of Walmart during our scheduled hours. We’re happy to help!
URL:https://diversityins.com/event/taylor-walmart-215/
CATEGORIES:Member
END:VEVENT
BEGIN:VEVENT
DTSTART;TZID=America/Detroit:20260507T100000
DTEND;TZID=America/Detroit:20260507T150000
DTSTAMP:20260424T095356
CREATED:20260423T175758Z
LAST-MODIFIED:20260423T182351Z
UID:4152-1778148000-1778166000@diversityins.com
SUMMARY:Southgate Walmart
DESCRIPTION:Have questions about Medicare or ACA plans? Visit our kiosk near the front entrance of Walmart during our scheduled hours. We’re happy to help!
URL:https://diversityins.com/event/southgate-walmart-183/
CATEGORIES:Member
END:VEVENT
BEGIN:VEVENT
DTSTART;TZID=America/Detroit:20260507T100000
DTEND;TZID=America/Detroit:20260507T150000
DTSTAMP:20260424T095356
CREATED:20260423T180030Z
LAST-MODIFIED:20260423T182633Z
UID:4178-1778148000-1778166000@diversityins.com
SUMMARY:Livonia Walmart
DESCRIPTION:Have questions about Medicare or ACA plans? Visit our kiosk near the front entrance of Walmart during our scheduled hours. We’re happy to help!
URL:https://diversityins.com/event/livonia-walmart-208/
CATEGORIES:Member
END:VEVENT
BEGIN:VEVENT
DTSTART;TZID=America/Detroit:20260507T100000
DTEND;TZID=America/Detroit:20260507T150000
DTSTAMP:20260424T095356
CREATED:20260423T180324Z
LAST-MODIFIED:20260423T182806Z
UID:4207-1778148000-1778166000@diversityins.com
SUMMARY:Taylor Walmart
DESCRIPTION:Have questions about Medicare or ACA plans? Visit our kiosk near the front entrance of Walmart during our scheduled hours. We’re happy to help!
URL:https://diversityins.com/event/taylor-walmart-216/
CATEGORIES:Member
END:VEVENT
BEGIN:VEVENT
DTSTART;TZID=America/Detroit:20260508T100000
DTEND;TZID=America/Detroit:20260508T140000
DTSTAMP:20260424T095356
CREATED:20260423T180352Z
LAST-MODIFIED:20260423T182809Z
UID:4209-1778234400-1778248800@diversityins.com
SUMMARY:Taylor Walmart
DESCRIPTION:Have questions about Medicare or ACA plans? Visit our kiosk near the front entrance of Walmart during our scheduled hours. We’re happy to help!
URL:https://diversityins.com/event/taylor-walmart-217/
CATEGORIES:Member
END:VEVENT
BEGIN:VEVENT
DTSTART;TZID=America/Detroit:20260508T100000
DTEND;TZID=America/Detroit:20260508T150000
DTSTAMP:20260424T095356
CREATED:20260423T175759Z
LAST-MODIFIED:20260423T182351Z
UID:4153-1778234400-1778252400@diversityins.com
SUMMARY:Southgate Walmart
DESCRIPTION:Have questions about Medicare or ACA plans? Visit our kiosk near the front entrance of Walmart during our scheduled hours. We’re happy to help!
URL:https://diversityins.com/event/southgate-walmart-184/
CATEGORIES:Member
END:VEVENT
BEGIN:VEVENT
DTSTART;TZID=America/Detroit:20260508T100000
DTEND;TZID=America/Detroit:20260508T150000
DTSTAMP:20260424T095356
CREATED:20260423T180101Z
LAST-MODIFIED:20260423T182704Z
UID:4186-1778234400-1778252400@diversityins.com
SUMMARY:Livonia Walmart
DESCRIPTION:Have questions about Medicare or ACA plans? Visit our kiosk near the front entrance of Walmart during our scheduled hours. We’re happy to help!
URL:https://diversityins.com/event/livonia-walmart-216/
CATEGORIES:Member
END:VEVENT
BEGIN:VEVENT
DTSTART;TZID=America/Detroit:20260509T100000
DTEND;TZID=America/Detroit:20260509T140000
DTSTAMP:20260424T095356
CREATED:20260423T175800Z
LAST-MODIFIED:20260423T182351Z
UID:4154-1778320800-1778335200@diversityins.com
SUMMARY:Southgate Walmart
DESCRIPTION:Have questions about Medicare or ACA plans? Visit our kiosk near the front entrance of Walmart during our scheduled hours. We’re happy to help!
URL:https://diversityins.com/event/southgate-walmart-185/
CATEGORIES:Member
END:VEVENT
BEGIN:VEVENT
DTSTART;TZID=America/Detroit:20260509T100000
DTEND;TZID=America/Detroit:20260509T140000
DTSTAMP:20260424T095356
CREATED:20260423T180031Z
LAST-MODIFIED:20260423T182634Z
UID:4180-1778320800-1778335200@diversityins.com
SUMMARY:Livonia Walmart
DESCRIPTION:Have questions about Medicare or ACA plans? Visit our kiosk near the front entrance of Walmart during our scheduled hours. We’re happy to help!
URL:https://diversityins.com/event/livonia-walmart-210/
CATEGORIES:Member
END:VEVENT
BEGIN:VEVENT
DTSTART;TZID=America/Detroit:20260509T100000
DTEND;TZID=America/Detroit:20260509T140000
DTSTAMP:20260424T095356
CREATED:20260423T180353Z
LAST-MODIFIED:20260423T182809Z
UID:4210-1778320800-1778335200@diversityins.com
SUMMARY:Taylor Walmart
DESCRIPTION:Have questions about Medicare or ACA plans? Visit our kiosk near the front entrance of Walmart during our scheduled hours. We’re happy to help!
URL:https://diversityins.com/event/taylor-walmart-218/
CATEGORIES:Member
END:VEVENT
BEGIN:VEVENT
DTSTART;TZID=America/Detroit:20260510T110000
DTEND;TZID=America/Detroit:20260510T150000
DTSTAMP:20260424T095356
CREATED:20260423T180353Z
LAST-MODIFIED:20260423T182809Z
UID:4211-1778410800-1778425200@diversityins.com
SUMMARY:Taylor Walmart
DESCRIPTION:Have questions about Medicare or ACA plans? Visit our kiosk near the front entrance of Walmart during our scheduled hours. We’re happy to help!
URL:https://diversityins.com/event/taylor-walmart-219/
CATEGORIES:Member
END:VEVENT
BEGIN:VEVENT
DTSTART;TZID=America/Detroit:20260511T093000
DTEND;TZID=America/Detroit:20260511T093000
DTSTAMP:20260424T095356
CREATED:20260423T180841Z
LAST-MODIFIED:20260423T181908Z
UID:4228-1778491800-1778491800@diversityins.com
SUMMARY:Ancillary Products Training
DESCRIPTION:
URL:https://diversityins.com/event/ancillary-products-training/
CATEGORIES:Agent
END:VEVENT
BEGIN:VEVENT
DTSTART;TZID=America/Detroit:20260511T100000
DTEND;TZID=America/Detroit:20260511T150000
DTSTAMP:20260424T095356
CREATED:20260423T175801Z
LAST-MODIFIED:20260423T182352Z
UID:4155-1778493600-1778511600@diversityins.com
SUMMARY:Southgate Walmart
DESCRIPTION:Have questions about Medicare or ACA plans? Visit our kiosk near the front entrance of Walmart during our scheduled hours. We’re happy to help!
URL:https://diversityins.com/event/southgate-walmart-186/
CATEGORIES:Member
END:VEVENT
BEGIN:VEVENT
DTSTART;TZID=America/Detroit:20260511T100000
DTEND;TZID=America/Detroit:20260511T150000
DTSTAMP:20260424T095356
CREATED:20260423T180032Z
LAST-MODIFIED:20260423T182634Z
UID:4181-1778493600-1778511600@diversityins.com
SUMMARY:Livonia Walmart
DESCRIPTION:Have questions about Medicare or ACA plans? Visit our kiosk near the front entrance of Walmart during our scheduled hours. We’re happy to help!
URL:https://diversityins.com/event/livonia-walmart-211/
CATEGORIES:Member
END:VEVENT
BEGIN:VEVENT
DTSTART;TZID=America/Detroit:20260511T100000
DTEND;TZID=America/Detroit:20260511T150000
DTSTAMP:20260424T095356
CREATED:20260423T180354Z
LAST-MODIFIED:20260423T182809Z
UID:4212-1778493600-1778511600@diversityins.com
SUMMARY:Taylor Walmart
DESCRIPTION:Have questions about Medicare or ACA plans? Visit our kiosk near the front entrance of Walmart during our scheduled hours. We’re happy to help!
URL:https://diversityins.com/event/taylor-walmart-220/
CATEGORIES:Member
END:VEVENT
BEGIN:VEVENT
DTSTART;TZID=America/Detroit:20260512T100000
DTEND;TZID=America/Detroit:20260512T150000
DTSTAMP:20260424T095356
CREATED:20260423T175802Z
LAST-MODIFIED:20260423T182352Z
UID:4156-1778580000-1778598000@diversityins.com
SUMMARY:Southgate Walmart
DESCRIPTION:Have questions about Medicare or ACA plans? Visit our kiosk near the front entrance of Walmart during our scheduled hours. We’re happy to help!
URL:https://diversityins.com/event/southgate-walmart-187/
CATEGORIES:Member
END:VEVENT
BEGIN:VEVENT
DTSTART;TZID=America/Detroit:20260512T100000
DTEND;TZID=America/Detroit:20260512T150000
DTSTAMP:20260424T095356
CREATED:20260423T180032Z
LAST-MODIFIED:20260423T182634Z
UID:4182-1778580000-1778598000@diversityins.com
SUMMARY:Livonia Walmart
DESCRIPTION:Have questions about Medicare or ACA plans? Visit our kiosk near the front entrance of Walmart during our scheduled hours. We’re happy to help!
URL:https://diversityins.com/event/livonia-walmart-212/
CATEGORIES:Member
END:VEVENT
BEGIN:VEVENT
DTSTART;TZID=America/Detroit:20260512T100000
DTEND;TZID=America/Detroit:20260512T150000
DTSTAMP:20260424T095356
CREATED:20260423T180354Z
LAST-MODIFIED:20260423T182810Z
UID:4213-1778580000-1778598000@diversityins.com
SUMMARY:Taylor Walmart
DESCRIPTION:Have questions about Medicare or ACA plans? Visit our kiosk near the front entrance of Walmart during our scheduled hours. We’re happy to help!
URL:https://diversityins.com/event/taylor-walmart-221/
CATEGORIES:Member
END:VEVENT
BEGIN:VEVENT
DTSTART;TZID=America/Detroit:20260513T093000
DTEND;TZID=America/Detroit:20260513T093000
DTSTAMP:20260424T095356
CREATED:20260423T180842Z
LAST-MODIFIED:20260423T181908Z
UID:4229-1778664600-1778664600@diversityins.com
SUMMARY:Turning 65 Training
DESCRIPTION:
URL:https://diversityins.com/event/turning-65-training/
CATEGORIES:Agent
END:VEVENT
BEGIN:VEVENT
DTSTART;TZID=America/Detroit:20260513T100000
DTEND;TZID=America/Detroit:20260513T150000
DTSTAMP:20260424T095356
CREATED:20260423T175900Z
LAST-MODIFIED:20260423T182452Z
UID:4166-1778666400-1778684400@diversityins.com
SUMMARY:Southgate Walmart
DESCRIPTION:Have questions about Medicare or ACA plans? Visit our kiosk near the front entrance of Walmart during our scheduled hours. We’re happy to help!
URL:https://diversityins.com/event/southgate-walmart-196/
CATEGORIES:Member
END:VEVENT
BEGIN:VEVENT
DTSTART;TZID=America/Detroit:20260513T100000
DTEND;TZID=America/Detroit:20260513T150000
DTSTAMP:20260424T095356
CREATED:20260423T180059Z
LAST-MODIFIED:20260423T182703Z
UID:4183-1778666400-1778684400@diversityins.com
SUMMARY:Livonia Walmart
DESCRIPTION:Have questions about Medicare or ACA plans? Visit our kiosk near the front entrance of Walmart during our scheduled hours. We’re happy to help!
URL:https://diversityins.com/event/livonia-walmart-213/
CATEGORIES:Member
END:VEVENT
BEGIN:VEVENT
DTSTART;TZID=America/Detroit:20260513T100000
DTEND;TZID=America/Detroit:20260513T150000
DTSTAMP:20260424T095356
CREATED:20260423T180322Z
LAST-MODIFIED:20260423T182805Z
UID:4203-1778666400-1778684400@diversityins.com
SUMMARY:Taylor Walmart
DESCRIPTION:Have questions about Medicare or ACA plans? Visit our kiosk near the front entrance of Walmart during our scheduled hours. We’re happy to help!
URL:https://diversityins.com/event/taylor-walmart-212/
CATEGORIES:Member
END:VEVENT
BEGIN:VEVENT
DTSTART;TZID=America/Detroit:20260514T100000
DTEND;TZID=America/Detroit:20260514T150000
DTSTAMP:20260424T095356
CREATED:20260423T175828Z
LAST-MODIFIED:20260423T182421Z
UID:4158-1778752800-1778770800@diversityins.com
SUMMARY:Southgate Walmart
DESCRIPTION:Have questions about Medicare or ACA plans? Visit our kiosk near the front entrance of Walmart during our scheduled hours. We’re happy to help!
URL:https://diversityins.com/event/southgate-walmart-188/
CATEGORIES:Member
END:VEVENT
BEGIN:VEVENT
DTSTART;TZID=America/Detroit:20260514T100000
DTEND;TZID=America/Detroit:20260514T150000
DTSTAMP:20260424T095356
CREATED:20260423T180059Z
LAST-MODIFIED:20260423T182704Z
UID:4184-1778752800-1778770800@diversityins.com
SUMMARY:Livonia Walmart
DESCRIPTION:Have questions about Medicare or ACA plans? Visit our kiosk near the front entrance of Walmart during our scheduled hours. We’re happy to help!
URL:https://diversityins.com/event/livonia-walmart-214/
CATEGORIES:Member
END:VEVENT
BEGIN:VEVENT
DTSTART;TZID=America/Detroit:20260514T100000
DTEND;TZID=America/Detroit:20260514T150000
DTSTAMP:20260424T095356
CREATED:20260423T180422Z
LAST-MODIFIED:20260423T182812Z
UID:4215-1778752800-1778770800@diversityins.com
SUMMARY:Taylor Walmart
DESCRIPTION:Have questions about Medicare or ACA plans? Visit our kiosk near the front entrance of Walmart during our scheduled hours. We’re happy to help!
URL:https://diversityins.com/event/taylor-walmart-222/
CATEGORIES:Member
END:VEVENT
BEGIN:VEVENT
DTSTART;TZID=America/Detroit:20260515T100000
DTEND;TZID=America/Detroit:20260515T140000
DTSTAMP:20260424T095356
CREATED:20260423T175830Z
LAST-MODIFIED:20260423T182422Z
UID:4161-1778839200-1778853600@diversityins.com
SUMMARY:Southgate Walmart
DESCRIPTION:Have questions about Medicare or ACA plans? Visit our kiosk near the front entrance of Walmart during our scheduled hours. We’re happy to help!
URL:https://diversityins.com/event/southgate-walmart-191/
CATEGORIES:Member
END:VEVENT
BEGIN:VEVENT
DTSTART;TZID=America/Detroit:20260515T100000
DTEND;TZID=America/Detroit:20260515T150000
DTSTAMP:20260424T095356
CREATED:20260423T180100Z
LAST-MODIFIED:20260423T182704Z
UID:4185-1778839200-1778857200@diversityins.com
SUMMARY:Livonia Walmart
DESCRIPTION:Have questions about Medicare or ACA plans? Visit our kiosk near the front entrance of Walmart during our scheduled hours. We’re happy to help!
URL:https://diversityins.com/event/livonia-walmart-215/
CATEGORIES:Member
END:VEVENT
END:VCALENDAR