BEGIN:VCALENDAR
VERSION:2.0
PRODID:-//Diversity Insurance Agency - ECPv6.15.20//NONSGML v1.0//EN
CALSCALE:GREGORIAN
METHOD:PUBLISH
X-ORIGINAL-URL:https://diversityins.com
X-WR-CALDESC:Events for Diversity Insurance Agency
REFRESH-INTERVAL;VALUE=DURATION:PT1H
X-Robots-Tag:noindex
X-PUBLISHED-TTL:PT1H
BEGIN:VTIMEZONE
TZID:America/Detroit
BEGIN:DAYLIGHT
TZOFFSETFROM:-0500
TZOFFSETTO:-0400
TZNAME:EDT
DTSTART:20240310T070000
END:DAYLIGHT
BEGIN:STANDARD
TZOFFSETFROM:-0400
TZOFFSETTO:-0500
TZNAME:EST
DTSTART:20241103T060000
END:STANDARD
BEGIN:DAYLIGHT
TZOFFSETFROM:-0500
TZOFFSETTO:-0400
TZNAME:EDT
DTSTART:20250309T070000
END:DAYLIGHT
BEGIN:STANDARD
TZOFFSETFROM:-0400
TZOFFSETTO:-0500
TZNAME:EST
DTSTART:20251102T060000
END:STANDARD
BEGIN:DAYLIGHT
TZOFFSETFROM:-0500
TZOFFSETTO:-0400
TZNAME:EDT
DTSTART:20260308T070000
END:DAYLIGHT
BEGIN:STANDARD
TZOFFSETFROM:-0400
TZOFFSETTO:-0500
TZNAME:EST
DTSTART:20261101T060000
END:STANDARD
END:VTIMEZONE
BEGIN:VEVENT
DTSTART;TZID=America/Detroit:20251101T080000
DTEND;TZID=America/Detroit:20251101T170000
DTSTAMP:20260425T132935
CREATED:20251008T164459Z
LAST-MODIFIED:20251022T195619Z
UID:2432-1761984000-1762016400@diversityins.com
SUMMARY:Hastings Walmart
DESCRIPTION:
URL:https://diversityins.com/event/hastings-walmart-33/
CATEGORIES:Member
END:VEVENT
BEGIN:VEVENT
DTSTART;TZID=America/Detroit:20251101T090000
DTEND;TZID=America/Detroit:20251101T130000
DTSTAMP:20260425T132935
CREATED:20251008T165935Z
LAST-MODIFIED:20251022T201419Z
UID:2632-1761987600-1762002000@diversityins.com
SUMMARY:Taylor Walmart
DESCRIPTION:
URL:https://diversityins.com/event/taylor-walmart-55/
CATEGORIES:Member
END:VEVENT
BEGIN:VEVENT
DTSTART;TZID=America/Detroit:20251101T090000
DTEND;TZID=America/Detroit:20251101T173000
DTSTAMP:20260425T132935
CREATED:20251022T202232Z
LAST-MODIFIED:20251022T202232Z
UID:2931-1761987600-1762018200@diversityins.com
SUMMARY:Darien Walmart
DESCRIPTION:
URL:https://diversityins.com/event/darien-walmart-18/
CATEGORIES:Member
END:VEVENT
BEGIN:VEVENT
DTSTART;TZID=America/Detroit:20251101T093000
DTEND;TZID=America/Detroit:20251101T160000
DTSTAMP:20260425T132935
CREATED:20251008T164800Z
LAST-MODIFIED:20251022T200017Z
UID:2476-1761989400-1762012800@diversityins.com
SUMMARY:Monroe Walmart
DESCRIPTION:
URL:https://diversityins.com/event/monroe-walmart-50/
CATEGORIES:Member
END:VEVENT
BEGIN:VEVENT
DTSTART;TZID=America/Detroit:20251101T100000
DTEND;TZID=America/Detroit:20251101T140000
DTSTAMP:20260425T132935
CREATED:20251008T164359Z
LAST-MODIFIED:20251022T195418Z
UID:2416-1761991200-1762005600@diversityins.com
SUMMARY:Southgate Walmart
DESCRIPTION:
URL:https://diversityins.com/event/southgate-walmart-45/
CATEGORIES:Member
END:VEVENT
BEGIN:VEVENT
DTSTART;TZID=America/Detroit:20251101T100000
DTEND;TZID=America/Detroit:20251101T140000
DTSTAMP:20260425T132935
CREATED:20251008T165201Z
LAST-MODIFIED:20251022T200417Z
UID:2525-1761991200-1762005600@diversityins.com
SUMMARY:Livonia Walmart
DESCRIPTION:
URL:https://diversityins.com/event/livonia-walmart-57/
CATEGORIES:Member
END:VEVENT
BEGIN:VEVENT
DTSTART;TZID=America/Detroit:20251101T100000
DTEND;TZID=America/Detroit:20251101T140000
DTSTAMP:20260425T132935
CREATED:20251008T165332Z
LAST-MODIFIED:20251022T200620Z
UID:2546-1761991200-1762005600@diversityins.com
SUMMARY:Flint Walmart
DESCRIPTION:
URL:https://diversityins.com/event/flint-walmart-41/
CATEGORIES:Member
END:VEVENT
BEGIN:VEVENT
DTSTART;TZID=America/Detroit:20251101T100000
DTEND;TZID=America/Detroit:20251101T140000
DTSTAMP:20260425T132935
CREATED:20251008T165643Z
LAST-MODIFIED:20251022T201018Z
UID:2584-1761991200-1762005600@diversityins.com
SUMMARY:Dearborn Walmart
DESCRIPTION:
URL:https://diversityins.com/event/dearborn-walmart-45/
CATEGORIES:Member
END:VEVENT
BEGIN:VEVENT
DTSTART;TZID=America/Detroit:20251101T100000
DTEND;TZID=America/Detroit:20251101T140000
DTSTAMP:20260425T132935
CREATED:20251008T165749Z
LAST-MODIFIED:20251008T183756Z
UID:2605-1761991200-1762005600@diversityins.com
SUMMARY:Jonesville Walmart
DESCRIPTION:
URL:https://diversityins.com/event/jonesville-walmart-42/
CATEGORIES:Member
END:VEVENT
BEGIN:VEVENT
DTSTART;TZID=America/Detroit:20251101T100000
DTEND;TZID=America/Detroit:20251101T183000
DTSTAMP:20260425T132935
CREATED:20251008T170211Z
LAST-MODIFIED:20251008T185807Z
UID:2665-1761991200-1762021800@diversityins.com
SUMMARY:Darien Walmart
DESCRIPTION:
URL:https://diversityins.com/event/darien-walmart-17/
CATEGORIES:Member
END:VEVENT
BEGIN:VEVENT
DTSTART;TZID=America/Detroit:20251101T110000
DTEND;TZID=America/Detroit:20251101T150000
DTSTAMP:20260425T132935
CREATED:20251008T164302Z
LAST-MODIFIED:20251022T195244Z
UID:2394-1761994800-1762009200@diversityins.com
SUMMARY:Burton Walmart
DESCRIPTION:
URL:https://diversityins.com/event/burton-walmart-43/
CATEGORIES:Member
END:VEVENT
BEGIN:VEVENT
DTSTART;TZID=America/Detroit:20251102T100000
DTEND;TZID=America/Detroit:20251102T183000
DTSTAMP:20260425T132935
CREATED:20251022T202232Z
LAST-MODIFIED:20251022T202232Z
UID:2932-1762077600-1762108200@diversityins.com
SUMMARY:Darien Walmart
DESCRIPTION:
URL:https://diversityins.com/event/darien-walmart-19/
CATEGORIES:Member
END:VEVENT
BEGIN:VEVENT
DTSTART;TZID=America/Detroit:20251102T110000
DTEND;TZID=America/Detroit:20251102T150000
DTSTAMP:20260425T132935
CREATED:20251008T165202Z
LAST-MODIFIED:20251022T200418Z
UID:2526-1762081200-1762095600@diversityins.com
SUMMARY:Livonia Walmart
DESCRIPTION:
URL:https://diversityins.com/event/livonia-walmart-58/
CATEGORIES:Member
END:VEVENT
BEGIN:VEVENT
DTSTART;TZID=America/Detroit:20251103T090000
DTEND;TZID=America/Detroit:20251103T110000
DTSTAMP:20260425T132935
CREATED:20251022T200648Z
LAST-MODIFIED:20251022T200648Z
UID:2811-1762160400-1762167600@diversityins.com
SUMMARY:Flint Walmart
DESCRIPTION:
URL:https://diversityins.com/event/flint-walmart-43/
CATEGORIES:Member
END:VEVENT
BEGIN:VEVENT
DTSTART;TZID=America/Detroit:20251103T090000
DTEND;TZID=America/Detroit:20251103T153000
DTSTAMP:20260425T132935
CREATED:20251022T163702Z
LAST-MODIFIED:20251022T195750Z
UID:2728-1762160400-1762183800@diversityins.com
SUMMARY:Jackson Walmart
DESCRIPTION:
URL:https://diversityins.com/event/jackson-walmart-46/
CATEGORIES:Member
END:VEVENT
BEGIN:VEVENT
DTSTART;TZID=America/Detroit:20251103T090000
DTEND;TZID=America/Detroit:20251103T160000
DTSTAMP:20260425T132935
CREATED:20251022T162531Z
LAST-MODIFIED:20251022T195244Z
UID:2672-1762160400-1762185600@diversityins.com
SUMMARY:Burton Walmart
DESCRIPTION:
URL:https://diversityins.com/event/burton-walmart-44/
CATEGORIES:Member
END:VEVENT
BEGIN:VEVENT
DTSTART;TZID=America/Detroit:20251103T090000
DTEND;TZID=America/Detroit:20251103T160000
DTSTAMP:20260425T132935
CREATED:20251022T162717Z
LAST-MODIFIED:20251022T195419Z
UID:2693-1762160400-1762185600@diversityins.com
SUMMARY:Southgate Walmart
DESCRIPTION:
URL:https://diversityins.com/event/southgate-walmart-46/
CATEGORIES:Member
END:VEVENT
BEGIN:VEVENT
DTSTART;TZID=America/Detroit:20251103T090000
DTEND;TZID=America/Detroit:20251103T160000
DTSTAMP:20260425T132935
CREATED:20251022T163259Z
LAST-MODIFIED:20251022T195648Z
UID:2714-1762160400-1762185600@diversityins.com
SUMMARY:Hastings Walmart
DESCRIPTION:
URL:https://diversityins.com/event/hastings-walmart-34/
CATEGORIES:Member
END:VEVENT
BEGIN:VEVENT
DTSTART;TZID=America/Detroit:20251103T090000
DTEND;TZID=America/Detroit:20251103T160000
DTSTAMP:20260425T132935
CREATED:20251022T200418Z
LAST-MODIFIED:20251022T200418Z
UID:2789-1762160400-1762185600@diversityins.com
SUMMARY:Livonia Walmart
DESCRIPTION:
URL:https://diversityins.com/event/livonia-walmart-59/
CATEGORIES:Member
END:VEVENT
BEGIN:VEVENT
DTSTART;TZID=America/Detroit:20251103T090000
DTEND;TZID=America/Detroit:20251103T160000
DTSTAMP:20260425T132935
CREATED:20251022T201018Z
LAST-MODIFIED:20251022T201018Z
UID:2846-1762160400-1762185600@diversityins.com
SUMMARY:Dearborn Walmart
DESCRIPTION:
URL:https://diversityins.com/event/dearborn-walmart-46/
CATEGORIES:Member
END:VEVENT
BEGIN:VEVENT
DTSTART;TZID=America/Detroit:20251103T090000
DTEND;TZID=America/Detroit:20251103T160000
DTSTAMP:20260425T132935
CREATED:20251022T201420Z
LAST-MODIFIED:20251022T201420Z
UID:2888-1762160400-1762185600@diversityins.com
SUMMARY:Taylor Walmart
DESCRIPTION:
URL:https://diversityins.com/event/taylor-walmart-56/
CATEGORIES:Member
END:VEVENT
BEGIN:VEVENT
DTSTART;TZID=America/Detroit:20251103T090000
DTEND;TZID=America/Detroit:20251103T170000
DTSTAMP:20260425T132935
CREATED:20251022T200848Z
LAST-MODIFIED:20251022T200848Z
UID:2831-1762160400-1762189200@diversityins.com
SUMMARY:Lapeer Walmart
DESCRIPTION:
URL:https://diversityins.com/event/lapeer-walmart-34/
CATEGORIES:Member
END:VEVENT
BEGIN:VEVENT
DTSTART;TZID=America/Detroit:20251103T090000
DTEND;TZID=America/Detroit:20251103T190000
DTSTAMP:20260425T132935
CREATED:20251022T201650Z
LAST-MODIFIED:20251022T201650Z
UID:2913-1762160400-1762196400@diversityins.com
SUMMARY:Country Club Hills Walmart
DESCRIPTION:
URL:https://diversityins.com/event/country-club-hills-walmart-20/
CATEGORIES:Member
END:VEVENT
BEGIN:VEVENT
DTSTART;TZID=America/Detroit:20251103T093000
DTEND;TZID=America/Detroit:20251103T160000
DTSTAMP:20260425T132935
CREATED:20251022T200018Z
LAST-MODIFIED:20251022T200018Z
UID:2750-1762162200-1762185600@diversityins.com
SUMMARY:Monroe Walmart
DESCRIPTION:
URL:https://diversityins.com/event/monroe-walmart-51/
CATEGORIES:Member
END:VEVENT
BEGIN:VEVENT
DTSTART;TZID=America/Detroit:20251103T100000
DTEND;TZID=America/Detroit:20251103T150000
DTSTAMP:20260425T132935
CREATED:20251022T202233Z
LAST-MODIFIED:20251022T202233Z
UID:2933-1762164000-1762182000@diversityins.com
SUMMARY:Darien Walmart
DESCRIPTION:
URL:https://diversityins.com/event/darien-walmart-20/
CATEGORIES:Member
END:VEVENT
BEGIN:VEVENT
DTSTART;TZID=America/Detroit:20251103T100000
DTEND;TZID=America/Detroit:20251103T160000
DTSTAMP:20260425T132935
CREATED:20251022T200218Z
LAST-MODIFIED:20251022T200218Z
UID:2771-1762164000-1762185600@diversityins.com
SUMMARY:West Branch Walmart
DESCRIPTION:
URL:https://diversityins.com/event/west-branch-walmart-47/
CATEGORIES:Member
END:VEVENT
BEGIN:VEVENT
DTSTART;TZID=America/Detroit:20251103T100000
DTEND;TZID=America/Detroit:20251103T160000
DTSTAMP:20260425T132935
CREATED:20251022T201219Z
LAST-MODIFIED:20251022T201219Z
UID:2867-1762164000-1762185600@diversityins.com
SUMMARY:Jonesville Walmart
DESCRIPTION:
URL:https://diversityins.com/event/jonesville-walmart-43/
CATEGORIES:Member
END:VEVENT
BEGIN:VEVENT
DTSTART;TZID=America/Detroit:20251103T100000
DTEND;TZID=America/Detroit:20251103T180000
DTSTAMP:20260425T132935
CREATED:20251022T201849Z
LAST-MODIFIED:20251022T201849Z
UID:2916-1762164000-1762192800@diversityins.com
SUMMARY:Joliet Walmart
DESCRIPTION:
URL:https://diversityins.com/event/joliet-walmart-34/
CATEGORIES:Member
END:VEVENT
BEGIN:VEVENT
DTSTART;TZID=America/Detroit:20251104T090000
DTEND;TZID=America/Detroit:20251104T140000
DTSTAMP:20260425T132935
CREATED:20251022T201219Z
LAST-MODIFIED:20251022T201219Z
UID:2868-1762246800-1762264800@diversityins.com
SUMMARY:Jonesville Walmart
DESCRIPTION:
URL:https://diversityins.com/event/jonesville-walmart-44/
CATEGORIES:Member
END:VEVENT
BEGIN:VEVENT
DTSTART;TZID=America/Detroit:20251104T090000
DTEND;TZID=America/Detroit:20251104T153000
DTSTAMP:20260425T132935
CREATED:20251022T163859Z
LAST-MODIFIED:20251022T195817Z
UID:2729-1762246800-1762270200@diversityins.com
SUMMARY:Jackson Walmart
DESCRIPTION:
URL:https://diversityins.com/event/jackson-walmart-47/
CATEGORIES:Member
END:VEVENT
END:VCALENDAR