BEGIN:VCALENDAR
VERSION:2.0
PRODID:-//Diversity Insurance Agency - ECPv6.15.20//NONSGML v1.0//EN
CALSCALE:GREGORIAN
METHOD:PUBLISH
X-ORIGINAL-URL:https://diversityins.com
X-WR-CALDESC:Events for Diversity Insurance Agency
REFRESH-INTERVAL;VALUE=DURATION:PT1H
X-Robots-Tag:noindex
X-PUBLISHED-TTL:PT1H
BEGIN:VTIMEZONE
TZID:America/Detroit
BEGIN:DAYLIGHT
TZOFFSETFROM:-0500
TZOFFSETTO:-0400
TZNAME:EDT
DTSTART:20240310T070000
END:DAYLIGHT
BEGIN:STANDARD
TZOFFSETFROM:-0400
TZOFFSETTO:-0500
TZNAME:EST
DTSTART:20241103T060000
END:STANDARD
BEGIN:DAYLIGHT
TZOFFSETFROM:-0500
TZOFFSETTO:-0400
TZNAME:EDT
DTSTART:20250309T070000
END:DAYLIGHT
BEGIN:STANDARD
TZOFFSETFROM:-0400
TZOFFSETTO:-0500
TZNAME:EST
DTSTART:20251102T060000
END:STANDARD
BEGIN:DAYLIGHT
TZOFFSETFROM:-0500
TZOFFSETTO:-0400
TZNAME:EDT
DTSTART:20260308T070000
END:DAYLIGHT
BEGIN:STANDARD
TZOFFSETFROM:-0400
TZOFFSETTO:-0500
TZNAME:EST
DTSTART:20261101T060000
END:STANDARD
END:VTIMEZONE
BEGIN:VEVENT
DTSTART;TZID=America/Detroit:20251111T090000
DTEND;TZID=America/Detroit:20251111T140000
DTSTAMP:20260425T161402
CREATED:20251022T201250Z
LAST-MODIFIED:20251022T201250Z
UID:2874-1762851600-1762869600@diversityins.com
SUMMARY:Jonesville Walmart
DESCRIPTION:
URL:https://diversityins.com/event/jonesville-walmart-50/
CATEGORIES:Member
END:VEVENT
BEGIN:VEVENT
DTSTART;TZID=America/Detroit:20251111T090000
DTEND;TZID=America/Detroit:20251111T153000
DTSTAMP:20260425T161402
CREATED:20251022T195848Z
LAST-MODIFIED:20251022T195848Z
UID:2736-1762851600-1762875000@diversityins.com
SUMMARY:Jackson Walmart
DESCRIPTION:
URL:https://diversityins.com/event/jackson-walmart-53/
CATEGORIES:Member
END:VEVENT
BEGIN:VEVENT
DTSTART;TZID=America/Detroit:20251111T090000
DTEND;TZID=America/Detroit:20251111T160000
DTSTAMP:20260425T161402
CREATED:20251022T162537Z
LAST-MODIFIED:20251022T195248Z
UID:2679-1762851600-1762876800@diversityins.com
SUMMARY:Burton Walmart
DESCRIPTION:
URL:https://diversityins.com/event/burton-walmart-51/
CATEGORIES:Member
END:VEVENT
BEGIN:VEVENT
DTSTART;TZID=America/Detroit:20251111T090000
DTEND;TZID=America/Detroit:20251111T160000
DTSTAMP:20260425T161402
CREATED:20251022T162946Z
LAST-MODIFIED:20251022T195517Z
UID:2700-1762851600-1762876800@diversityins.com
SUMMARY:Southgate Walmart
DESCRIPTION:
URL:https://diversityins.com/event/southgate-walmart-53/
CATEGORIES:Member
END:VEVENT
BEGIN:VEVENT
DTSTART;TZID=America/Detroit:20251111T090000
DTEND;TZID=America/Detroit:20251111T160000
DTSTAMP:20260425T161402
CREATED:20251022T200450Z
LAST-MODIFIED:20251022T200450Z
UID:2796-1762851600-1762876800@diversityins.com
SUMMARY:Livonia Walmart
DESCRIPTION:
URL:https://diversityins.com/event/livonia-walmart-66/
CATEGORIES:Member
END:VEVENT
BEGIN:VEVENT
DTSTART;TZID=America/Detroit:20251111T090000
DTEND;TZID=America/Detroit:20251111T160000
DTSTAMP:20260425T161402
CREATED:20251022T200718Z
LAST-MODIFIED:20251022T200718Z
UID:2817-1762851600-1762876800@diversityins.com
SUMMARY:Flint Walmart
DESCRIPTION:
URL:https://diversityins.com/event/flint-walmart-49/
CATEGORIES:Member
END:VEVENT
BEGIN:VEVENT
DTSTART;TZID=America/Detroit:20251111T090000
DTEND;TZID=America/Detroit:20251111T160000
DTSTAMP:20260425T161402
CREATED:20251022T201050Z
LAST-MODIFIED:20251022T201050Z
UID:2853-1762851600-1762876800@diversityins.com
SUMMARY:Dearborn Walmart
DESCRIPTION:
URL:https://diversityins.com/event/dearborn-walmart-53/
CATEGORIES:Member
END:VEVENT
BEGIN:VEVENT
DTSTART;TZID=America/Detroit:20251111T090000
DTEND;TZID=America/Detroit:20251111T160000
DTSTAMP:20260425T161402
CREATED:20251022T201519Z
LAST-MODIFIED:20251022T201519Z
UID:2896-1762851600-1762876800@diversityins.com
SUMMARY:Taylor Walmart
DESCRIPTION:
URL:https://diversityins.com/event/taylor-walmart-64/
CATEGORIES:Member
END:VEVENT
BEGIN:VEVENT
DTSTART;TZID=America/Detroit:20251111T090000
DTEND;TZID=America/Detroit:20251111T170000
DTSTAMP:20260425T161402
CREATED:20251022T200917Z
LAST-MODIFIED:20251022T200917Z
UID:2836-1762851600-1762880400@diversityins.com
SUMMARY:Lapeer Walmart
DESCRIPTION:
URL:https://diversityins.com/event/lapeer-walmart-39/
CATEGORIES:Member
END:VEVENT
BEGIN:VEVENT
DTSTART;TZID=America/Detroit:20251111T093000
DTEND;TZID=America/Detroit:20251111T160000
DTSTAMP:20260425T161402
CREATED:20251022T200050Z
LAST-MODIFIED:20251022T200050Z
UID:2757-1762853400-1762876800@diversityins.com
SUMMARY:Monroe Walmart
DESCRIPTION:
URL:https://diversityins.com/event/monroe-walmart-58/
CATEGORIES:Member
END:VEVENT
BEGIN:VEVENT
DTSTART;TZID=America/Detroit:20251111T100000
DTEND;TZID=America/Detroit:20251111T150000
DTSTAMP:20260425T161402
CREATED:20251022T202509Z
LAST-MODIFIED:20251022T202509Z
UID:2939-1762855200-1762873200@diversityins.com
SUMMARY:Darien Walmart
DESCRIPTION:
URL:https://diversityins.com/event/darien-walmart-26/
CATEGORIES:Member
END:VEVENT
BEGIN:VEVENT
DTSTART;TZID=America/Detroit:20251111T100000
DTEND;TZID=America/Detroit:20251111T160000
DTSTAMP:20260425T161402
CREATED:20251022T200250Z
LAST-MODIFIED:20251022T200250Z
UID:2777-1762855200-1762876800@diversityins.com
SUMMARY:West Branch Walmart
DESCRIPTION:
URL:https://diversityins.com/event/west-branch-walmart-53/
CATEGORIES:Member
END:VEVENT
BEGIN:VEVENT
DTSTART;TZID=America/Detroit:20251112T090000
DTEND;TZID=America/Detroit:20251112T153000
DTSTAMP:20260425T161402
CREATED:20251022T195849Z
LAST-MODIFIED:20251022T195849Z
UID:2737-1762938000-1762961400@diversityins.com
SUMMARY:Jackson Walmart
DESCRIPTION:
URL:https://diversityins.com/event/jackson-walmart-54/
CATEGORIES:Member
END:VEVENT
BEGIN:VEVENT
DTSTART;TZID=America/Detroit:20251112T090000
DTEND;TZID=America/Detroit:20251112T160000
DTSTAMP:20260425T161402
CREATED:20251022T162537Z
LAST-MODIFIED:20251022T195249Z
UID:2680-1762938000-1762963200@diversityins.com
SUMMARY:Burton Walmart
DESCRIPTION:
URL:https://diversityins.com/event/burton-walmart-52/
CATEGORIES:Member
END:VEVENT
BEGIN:VEVENT
DTSTART;TZID=America/Detroit:20251112T090000
DTEND;TZID=America/Detroit:20251112T160000
DTSTAMP:20260425T161402
CREATED:20251022T162947Z
LAST-MODIFIED:20251022T195518Z
UID:2701-1762938000-1762963200@diversityins.com
SUMMARY:Southgate Walmart
DESCRIPTION:
URL:https://diversityins.com/event/southgate-walmart-54/
CATEGORIES:Member
END:VEVENT
BEGIN:VEVENT
DTSTART;TZID=America/Detroit:20251112T090000
DTEND;TZID=America/Detroit:20251112T160000
DTSTAMP:20260425T161402
CREATED:20251022T200517Z
LAST-MODIFIED:20251022T200517Z
UID:2797-1762938000-1762963200@diversityins.com
SUMMARY:Livonia Walmart
DESCRIPTION:
URL:https://diversityins.com/event/livonia-walmart-67/
CATEGORIES:Member
END:VEVENT
BEGIN:VEVENT
DTSTART;TZID=America/Detroit:20251112T090000
DTEND;TZID=America/Detroit:20251112T160000
DTSTAMP:20260425T161402
CREATED:20251022T200719Z
LAST-MODIFIED:20251022T200719Z
UID:2818-1762938000-1762963200@diversityins.com
SUMMARY:Flint Walmart
DESCRIPTION:
URL:https://diversityins.com/event/flint-walmart-50/
CATEGORIES:Member
END:VEVENT
BEGIN:VEVENT
DTSTART;TZID=America/Detroit:20251112T090000
DTEND;TZID=America/Detroit:20251112T160000
DTSTAMP:20260425T161402
CREATED:20251022T201051Z
LAST-MODIFIED:20251022T201051Z
UID:2854-1762938000-1762963200@diversityins.com
SUMMARY:Dearborn Walmart
DESCRIPTION:
URL:https://diversityins.com/event/dearborn-walmart-54/
CATEGORIES:Member
END:VEVENT
BEGIN:VEVENT
DTSTART;TZID=America/Detroit:20251112T090000
DTEND;TZID=America/Detroit:20251112T160000
DTSTAMP:20260425T161402
CREATED:20251022T201318Z
LAST-MODIFIED:20251022T201318Z
UID:2875-1762938000-1762963200@diversityins.com
SUMMARY:Jonesville Walmart
DESCRIPTION:
URL:https://diversityins.com/event/jonesville-walmart-51/
CATEGORIES:Member
END:VEVENT
BEGIN:VEVENT
DTSTART;TZID=America/Detroit:20251112T090000
DTEND;TZID=America/Detroit:20251112T160000
DTSTAMP:20260425T161402
CREATED:20251022T201519Z
LAST-MODIFIED:20251022T201519Z
UID:2897-1762938000-1762963200@diversityins.com
SUMMARY:Taylor Walmart
DESCRIPTION:
URL:https://diversityins.com/event/taylor-walmart-65/
CATEGORIES:Member
END:VEVENT
BEGIN:VEVENT
DTSTART;TZID=America/Detroit:20251112T090000
DTEND;TZID=America/Detroit:20251112T170000
DTSTAMP:20260425T161402
CREATED:20251022T163459Z
LAST-MODIFIED:20251022T195717Z
UID:2719-1762938000-1762966800@diversityins.com
SUMMARY:Hastings Walmart
DESCRIPTION:
URL:https://diversityins.com/event/hastings-walmart-39/
CATEGORIES:Member
END:VEVENT
BEGIN:VEVENT
DTSTART;TZID=America/Detroit:20251112T090000
DTEND;TZID=America/Detroit:20251112T170000
DTSTAMP:20260425T161402
CREATED:20251022T200918Z
LAST-MODIFIED:20251022T200918Z
UID:2837-1762938000-1762966800@diversityins.com
SUMMARY:Lapeer Walmart
DESCRIPTION:
URL:https://diversityins.com/event/lapeer-walmart-40/
CATEGORIES:Member
END:VEVENT
BEGIN:VEVENT
DTSTART;TZID=America/Detroit:20251112T090000
DTEND;TZID=America/Detroit:20251112T173000
DTSTAMP:20260425T161402
CREATED:20251022T202510Z
LAST-MODIFIED:20251022T202510Z
UID:2940-1762938000-1762968600@diversityins.com
SUMMARY:Darien Walmart
DESCRIPTION:
URL:https://diversityins.com/event/darien-walmart-27/
CATEGORIES:Member
END:VEVENT
BEGIN:VEVENT
DTSTART;TZID=America/Detroit:20251112T093000
DTEND;TZID=America/Detroit:20251112T160000
DTSTAMP:20260425T161402
CREATED:20251022T200050Z
LAST-MODIFIED:20251022T200050Z
UID:2758-1762939800-1762963200@diversityins.com
SUMMARY:Monroe Walmart
DESCRIPTION:
URL:https://diversityins.com/event/monroe-walmart-59/
CATEGORIES:Member
END:VEVENT
BEGIN:VEVENT
DTSTART;TZID=America/Detroit:20251112T100000
DTEND;TZID=America/Detroit:20251112T160000
DTSTAMP:20260425T161402
CREATED:20251022T200250Z
LAST-MODIFIED:20251022T200250Z
UID:2778-1762941600-1762963200@diversityins.com
SUMMARY:West Branch Walmart
DESCRIPTION:
URL:https://diversityins.com/event/west-branch-walmart-54/
CATEGORIES:Member
END:VEVENT
BEGIN:VEVENT
DTSTART;TZID=America/Detroit:20251112T100000
DTEND;TZID=America/Detroit:20251112T180000
DTSTAMP:20260425T161402
CREATED:20251022T202049Z
LAST-MODIFIED:20251022T202049Z
UID:2921-1762941600-1762970400@diversityins.com
SUMMARY:Joliet Walmart
DESCRIPTION:
URL:https://diversityins.com/event/joliet-walmart-39/
CATEGORIES:Member
END:VEVENT
BEGIN:VEVENT
DTSTART;TZID=America/Detroit:20251113T090000
DTEND;TZID=America/Detroit:20251113T153000
DTSTAMP:20260425T161402
CREATED:20251022T195850Z
LAST-MODIFIED:20251022T195850Z
UID:2738-1763024400-1763047800@diversityins.com
SUMMARY:Jackson Walmart
DESCRIPTION:
URL:https://diversityins.com/event/jackson-walmart-55/
CATEGORIES:Member
END:VEVENT
BEGIN:VEVENT
DTSTART;TZID=America/Detroit:20251113T090000
DTEND;TZID=America/Detroit:20251113T160000
DTSTAMP:20260425T161402
CREATED:20251022T162606Z
LAST-MODIFIED:20251022T195317Z
UID:2681-1763024400-1763049600@diversityins.com
SUMMARY:Burton Walmart
DESCRIPTION:
URL:https://diversityins.com/event/burton-walmart-53/
CATEGORIES:Member
END:VEVENT
BEGIN:VEVENT
DTSTART;TZID=America/Detroit:20251113T090000
DTEND;TZID=America/Detroit:20251113T160000
DTSTAMP:20260425T161402
CREATED:20251022T162947Z
LAST-MODIFIED:20251022T195518Z
UID:2702-1763024400-1763049600@diversityins.com
SUMMARY:Southgate Walmart
DESCRIPTION:
URL:https://diversityins.com/event/southgate-walmart-55/
CATEGORIES:Member
END:VEVENT
BEGIN:VEVENT
DTSTART;TZID=America/Detroit:20251113T090000
DTEND;TZID=America/Detroit:20251113T160000
DTSTAMP:20260425T161402
CREATED:20251022T200518Z
LAST-MODIFIED:20251022T200518Z
UID:2798-1763024400-1763049600@diversityins.com
SUMMARY:Livonia Walmart
DESCRIPTION:
URL:https://diversityins.com/event/livonia-walmart-68/
CATEGORIES:Member
END:VEVENT
END:VCALENDAR