BEGIN:VCALENDAR
VERSION:2.0
PRODID:-//Diversity Insurance Agency - ECPv6.15.20//NONSGML v1.0//EN
CALSCALE:GREGORIAN
METHOD:PUBLISH
X-ORIGINAL-URL:https://diversityins.com
X-WR-CALDESC:Events for Diversity Insurance Agency
REFRESH-INTERVAL;VALUE=DURATION:PT1H
X-Robots-Tag:noindex
X-PUBLISHED-TTL:PT1H
BEGIN:VTIMEZONE
TZID:America/Detroit
BEGIN:DAYLIGHT
TZOFFSETFROM:-0500
TZOFFSETTO:-0400
TZNAME:EDT
DTSTART:20240310T070000
END:DAYLIGHT
BEGIN:STANDARD
TZOFFSETFROM:-0400
TZOFFSETTO:-0500
TZNAME:EST
DTSTART:20241103T060000
END:STANDARD
BEGIN:DAYLIGHT
TZOFFSETFROM:-0500
TZOFFSETTO:-0400
TZNAME:EDT
DTSTART:20250309T070000
END:DAYLIGHT
BEGIN:STANDARD
TZOFFSETFROM:-0400
TZOFFSETTO:-0500
TZNAME:EST
DTSTART:20251102T060000
END:STANDARD
BEGIN:DAYLIGHT
TZOFFSETFROM:-0500
TZOFFSETTO:-0400
TZNAME:EDT
DTSTART:20260308T070000
END:DAYLIGHT
BEGIN:STANDARD
TZOFFSETFROM:-0400
TZOFFSETTO:-0500
TZNAME:EST
DTSTART:20261101T060000
END:STANDARD
END:VTIMEZONE
BEGIN:VEVENT
DTSTART;TZID=America/Detroit:20251121T080000
DTEND;TZID=America/Detroit:20251121T170000
DTSTAMP:20260425T101518
CREATED:20251022T163659Z
LAST-MODIFIED:20251022T195748Z
UID:2724-1763712000-1763744400@diversityins.com
SUMMARY:Hastings Walmart
DESCRIPTION:
URL:https://diversityins.com/event/hastings-walmart-44/
CATEGORIES:Member
END:VEVENT
BEGIN:VEVENT
DTSTART;TZID=America/Detroit:20251121T090000
DTEND;TZID=America/Detroit:20251121T153000
DTSTAMP:20260425T101518
CREATED:20251022T195948Z
LAST-MODIFIED:20251022T195948Z
UID:2745-1763715600-1763739000@diversityins.com
SUMMARY:Jackson Walmart
DESCRIPTION:
URL:https://diversityins.com/event/jackson-walmart-62/
CATEGORIES:Member
END:VEVENT
BEGIN:VEVENT
DTSTART;TZID=America/Detroit:20251121T090000
DTEND;TZID=America/Detroit:20251121T160000
DTSTAMP:20260425T101518
CREATED:20251022T162648Z
LAST-MODIFIED:20251022T195349Z
UID:2688-1763715600-1763740800@diversityins.com
SUMMARY:Burton Walmart
DESCRIPTION:
URL:https://diversityins.com/event/burton-walmart-60/
CATEGORIES:Member
END:VEVENT
BEGIN:VEVENT
DTSTART;TZID=America/Detroit:20251121T090000
DTEND;TZID=America/Detroit:20251121T160000
DTSTAMP:20260425T101518
CREATED:20251022T163032Z
LAST-MODIFIED:20251022T195549Z
UID:2709-1763715600-1763740800@diversityins.com
SUMMARY:Southgate Walmart
DESCRIPTION:
URL:https://diversityins.com/event/southgate-walmart-62/
CATEGORIES:Member
END:VEVENT
BEGIN:VEVENT
DTSTART;TZID=America/Detroit:20251121T090000
DTEND;TZID=America/Detroit:20251121T160000
DTSTAMP:20260425T101518
CREATED:20251022T200550Z
LAST-MODIFIED:20251022T200550Z
UID:2805-1763715600-1763740800@diversityins.com
SUMMARY:Livonia Walmart
DESCRIPTION:
URL:https://diversityins.com/event/livonia-walmart-75/
CATEGORIES:Member
END:VEVENT
BEGIN:VEVENT
DTSTART;TZID=America/Detroit:20251121T090000
DTEND;TZID=America/Detroit:20251121T160000
DTSTAMP:20260425T101518
CREATED:20251022T200817Z
LAST-MODIFIED:20251022T200817Z
UID:2826-1763715600-1763740800@diversityins.com
SUMMARY:Flint Walmart
DESCRIPTION:
URL:https://diversityins.com/event/flint-walmart-58/
CATEGORIES:Member
END:VEVENT
BEGIN:VEVENT
DTSTART;TZID=America/Detroit:20251121T090000
DTEND;TZID=America/Detroit:20251121T160000
DTSTAMP:20260425T101518
CREATED:20251022T201149Z
LAST-MODIFIED:20251022T201149Z
UID:2862-1763715600-1763740800@diversityins.com
SUMMARY:Dearborn Walmart
DESCRIPTION:
URL:https://diversityins.com/event/dearborn-walmart-62/
CATEGORIES:Member
END:VEVENT
BEGIN:VEVENT
DTSTART;TZID=America/Detroit:20251121T090000
DTEND;TZID=America/Detroit:20251121T160000
DTSTAMP:20260425T101518
CREATED:20251022T201350Z
LAST-MODIFIED:20251022T201350Z
UID:2883-1763715600-1763740800@diversityins.com
SUMMARY:Jonesville Walmart
DESCRIPTION:
URL:https://diversityins.com/event/jonesville-walmart-59/
CATEGORIES:Member
END:VEVENT
BEGIN:VEVENT
DTSTART;TZID=America/Detroit:20251121T090000
DTEND;TZID=America/Detroit:20251121T160000
DTSTAMP:20260425T101518
CREATED:20251022T201619Z
LAST-MODIFIED:20251022T201619Z
UID:2906-1763715600-1763740800@diversityins.com
SUMMARY:Taylor Walmart
DESCRIPTION:
URL:https://diversityins.com/event/taylor-walmart-74/
CATEGORIES:Member
END:VEVENT
BEGIN:VEVENT
DTSTART;TZID=America/Detroit:20251121T093000
DTEND;TZID=America/Detroit:20251121T160000
DTSTAMP:20260425T101518
CREATED:20251022T200149Z
LAST-MODIFIED:20251022T200149Z
UID:2766-1763717400-1763740800@diversityins.com
SUMMARY:Monroe Walmart
DESCRIPTION:
URL:https://diversityins.com/event/monroe-walmart-67/
CATEGORIES:Member
END:VEVENT
BEGIN:VEVENT
DTSTART;TZID=America/Detroit:20251121T100000
DTEND;TZID=America/Detroit:20251121T160000
DTSTAMP:20260425T101518
CREATED:20251022T200349Z
LAST-MODIFIED:20251022T200349Z
UID:2785-1763719200-1763740800@diversityins.com
SUMMARY:West Branch Walmart
DESCRIPTION:
URL:https://diversityins.com/event/west-branch-walmart-61/
CATEGORIES:Member
END:VEVENT
BEGIN:VEVENT
DTSTART;TZID=America/Detroit:20251121T100000
DTEND;TZID=America/Detroit:20251121T180000
DTSTAMP:20260425T101518
CREATED:20251022T202202Z
LAST-MODIFIED:20251022T202202Z
UID:2927-1763719200-1763748000@diversityins.com
SUMMARY:Joliet Walmart
DESCRIPTION:
URL:https://diversityins.com/event/joliet-walmart-45/
CATEGORIES:Member
END:VEVENT
BEGIN:VEVENT
DTSTART;TZID=America/Detroit:20251122T080000
DTEND;TZID=America/Detroit:20251122T170000
DTSTAMP:20260425T101518
CREATED:20251022T163700Z
LAST-MODIFIED:20251022T195748Z
UID:2725-1763798400-1763830800@diversityins.com
SUMMARY:Hastings Walmart
DESCRIPTION:
URL:https://diversityins.com/event/hastings-walmart-45/
CATEGORIES:Member
END:VEVENT
BEGIN:VEVENT
DTSTART;TZID=America/Detroit:20251122T090000
DTEND;TZID=America/Detroit:20251122T173000
DTSTAMP:20260425T101518
CREATED:20251022T202710Z
LAST-MODIFIED:20251022T202710Z
UID:2946-1763802000-1763832600@diversityins.com
SUMMARY:Darien Walmart
DESCRIPTION:
URL:https://diversityins.com/event/darien-walmart-33/
CATEGORIES:Member
END:VEVENT
BEGIN:VEVENT
DTSTART;TZID=America/Detroit:20251122T093000
DTEND;TZID=America/Detroit:20251122T160000
DTSTAMP:20260425T101518
CREATED:20251022T200150Z
LAST-MODIFIED:20251022T200150Z
UID:2767-1763803800-1763827200@diversityins.com
SUMMARY:Monroe Walmart
DESCRIPTION:
URL:https://diversityins.com/event/monroe-walmart-68/
CATEGORIES:Member
END:VEVENT
BEGIN:VEVENT
DTSTART;TZID=America/Detroit:20251122T100000
DTEND;TZID=America/Detroit:20251122T140000
DTSTAMP:20260425T101518
CREATED:20251022T162648Z
LAST-MODIFIED:20251022T195349Z
UID:2689-1763805600-1763820000@diversityins.com
SUMMARY:Burton Walmart
DESCRIPTION:
URL:https://diversityins.com/event/burton-walmart-61/
CATEGORIES:Member
END:VEVENT
BEGIN:VEVENT
DTSTART;TZID=America/Detroit:20251122T100000
DTEND;TZID=America/Detroit:20251122T140000
DTSTAMP:20260425T101518
CREATED:20251022T163059Z
LAST-MODIFIED:20251022T195617Z
UID:2710-1763805600-1763820000@diversityins.com
SUMMARY:Southgate Walmart
DESCRIPTION:
URL:https://diversityins.com/event/southgate-walmart-63/
CATEGORIES:Member
END:VEVENT
BEGIN:VEVENT
DTSTART;TZID=America/Detroit:20251122T100000
DTEND;TZID=America/Detroit:20251122T140000
DTSTAMP:20260425T101518
CREATED:20251022T200818Z
LAST-MODIFIED:20251022T200818Z
UID:2827-1763805600-1763820000@diversityins.com
SUMMARY:Flint Walmart
DESCRIPTION:
URL:https://diversityins.com/event/flint-walmart-59/
CATEGORIES:Member
END:VEVENT
BEGIN:VEVENT
DTSTART;TZID=America/Detroit:20251122T100000
DTEND;TZID=America/Detroit:20251122T140000
DTSTAMP:20260425T101518
CREATED:20251022T201150Z
LAST-MODIFIED:20251022T201150Z
UID:2863-1763805600-1763820000@diversityins.com
SUMMARY:Dearborn Walmart
DESCRIPTION:
URL:https://diversityins.com/event/dearborn-walmart-63/
CATEGORIES:Member
END:VEVENT
BEGIN:VEVENT
DTSTART;TZID=America/Detroit:20251122T100000
DTEND;TZID=America/Detroit:20251122T150000
DTSTAMP:20260425T101518
CREATED:20251022T195948Z
LAST-MODIFIED:20251022T195948Z
UID:2746-1763805600-1763823600@diversityins.com
SUMMARY:Jackson Walmart
DESCRIPTION:
URL:https://diversityins.com/event/jackson-walmart-63/
CATEGORIES:Member
END:VEVENT
BEGIN:VEVENT
DTSTART;TZID=America/Detroit:20251122T110000
DTEND;TZID=America/Detroit:20251122T150000
DTSTAMP:20260425T101518
CREATED:20251022T200550Z
LAST-MODIFIED:20251022T200550Z
UID:2806-1763809200-1763823600@diversityins.com
SUMMARY:Livonia Walmart
DESCRIPTION:
URL:https://diversityins.com/event/livonia-walmart-76/
CATEGORIES:Member
END:VEVENT
BEGIN:VEVENT
DTSTART;TZID=America/Detroit:20251122T120000
DTEND;TZID=America/Detroit:20251122T160000
DTSTAMP:20260425T101518
CREATED:20251022T201351Z
LAST-MODIFIED:20251022T201351Z
UID:2884-1763812800-1763827200@diversityins.com
SUMMARY:Jonesville Walmart
DESCRIPTION:
URL:https://diversityins.com/event/jonesville-walmart-60/
CATEGORIES:Member
END:VEVENT
BEGIN:VEVENT
DTSTART;TZID=America/Detroit:20251122T140000
DTEND;TZID=America/Detroit:20251122T210000
DTSTAMP:20260425T101518
CREATED:20251022T201619Z
LAST-MODIFIED:20251022T201619Z
UID:2907-1763820000-1763845200@diversityins.com
SUMMARY:Taylor Walmart
DESCRIPTION:
URL:https://diversityins.com/event/taylor-walmart-75/
CATEGORIES:Member
END:VEVENT
BEGIN:VEVENT
DTSTART;TZID=America/Detroit:20251123T100000
DTEND;TZID=America/Detroit:20251123T150000
DTSTAMP:20260425T101518
CREATED:20251022T202710Z
LAST-MODIFIED:20251022T202710Z
UID:2947-1763892000-1763910000@diversityins.com
SUMMARY:Darien Walmart
DESCRIPTION:
URL:https://diversityins.com/event/darien-walmart-34/
CATEGORIES:Member
END:VEVENT
BEGIN:VEVENT
DTSTART;TZID=America/Detroit:20251123T120000
DTEND;TZID=America/Detroit:20251123T200000
DTSTAMP:20260425T101518
CREATED:20251022T201620Z
LAST-MODIFIED:20251022T201620Z
UID:2908-1763899200-1763928000@diversityins.com
SUMMARY:Taylor Walmart
DESCRIPTION:
URL:https://diversityins.com/event/taylor-walmart-76/
CATEGORIES:Member
END:VEVENT
BEGIN:VEVENT
DTSTART;TZID=America/Detroit:20251124T090000
DTEND;TZID=America/Detroit:20251124T140000
DTSTAMP:20260425T101518
CREATED:20251022T202711Z
LAST-MODIFIED:20251022T202711Z
UID:2948-1763974800-1763992800@diversityins.com
SUMMARY:Darien Walmart
DESCRIPTION:
URL:https://diversityins.com/event/darien-walmart-35/
CATEGORIES:Member
END:VEVENT
BEGIN:VEVENT
DTSTART;TZID=America/Detroit:20251124T090000
DTEND;TZID=America/Detroit:20251124T150000
DTSTAMP:20260425T101518
CREATED:20251022T200617Z
LAST-MODIFIED:20251022T200617Z
UID:2807-1763974800-1763996400@diversityins.com
SUMMARY:Livonia Walmart
DESCRIPTION:
URL:https://diversityins.com/event/livonia-walmart-77/
CATEGORIES:Member
END:VEVENT
BEGIN:VEVENT
DTSTART;TZID=America/Detroit:20251124T090000
DTEND;TZID=America/Detroit:20251124T153000
DTSTAMP:20260425T101518
CREATED:20251022T195949Z
LAST-MODIFIED:20251022T195949Z
UID:2747-1763974800-1763998200@diversityins.com
SUMMARY:Jackson Walmart
DESCRIPTION:
URL:https://diversityins.com/event/jackson-walmart-64/
CATEGORIES:Member
END:VEVENT
BEGIN:VEVENT
DTSTART;TZID=America/Detroit:20251124T090000
DTEND;TZID=America/Detroit:20251124T160000
DTSTAMP:20260425T101518
CREATED:20251022T162649Z
LAST-MODIFIED:20251022T195349Z
UID:2690-1763974800-1764000000@diversityins.com
SUMMARY:Burton Walmart
DESCRIPTION:
URL:https://diversityins.com/event/burton-walmart-62/
CATEGORIES:Member
END:VEVENT
BEGIN:VEVENT
DTSTART;TZID=America/Detroit:20251124T090000
DTEND;TZID=America/Detroit:20251124T160000
DTSTAMP:20260425T101518
CREATED:20251022T163059Z
LAST-MODIFIED:20251022T195618Z
UID:2711-1763974800-1764000000@diversityins.com
SUMMARY:Southgate Walmart
DESCRIPTION:
URL:https://diversityins.com/event/southgate-walmart-64/
CATEGORIES:Member
END:VEVENT
END:VCALENDAR