BEGIN:VCALENDAR
VERSION:2.0
PRODID:-//Diversity Insurance Agency - ECPv6.15.20//NONSGML v1.0//EN
CALSCALE:GREGORIAN
METHOD:PUBLISH
X-ORIGINAL-URL:https://diversityins.com
X-WR-CALDESC:Events for Diversity Insurance Agency
REFRESH-INTERVAL;VALUE=DURATION:PT1H
X-Robots-Tag:noindex
X-PUBLISHED-TTL:PT1H
BEGIN:VTIMEZONE
TZID:America/Detroit
BEGIN:DAYLIGHT
TZOFFSETFROM:-0500
TZOFFSETTO:-0400
TZNAME:EDT
DTSTART:20250309T070000
END:DAYLIGHT
BEGIN:STANDARD
TZOFFSETFROM:-0400
TZOFFSETTO:-0500
TZNAME:EST
DTSTART:20251102T060000
END:STANDARD
BEGIN:DAYLIGHT
TZOFFSETFROM:-0500
TZOFFSETTO:-0400
TZNAME:EDT
DTSTART:20260308T070000
END:DAYLIGHT
BEGIN:STANDARD
TZOFFSETFROM:-0400
TZOFFSETTO:-0500
TZNAME:EST
DTSTART:20261101T060000
END:STANDARD
BEGIN:DAYLIGHT
TZOFFSETFROM:-0500
TZOFFSETTO:-0400
TZNAME:EDT
DTSTART:20270314T070000
END:DAYLIGHT
BEGIN:STANDARD
TZOFFSETFROM:-0400
TZOFFSETTO:-0500
TZNAME:EST
DTSTART:20271107T060000
END:STANDARD
END:VTIMEZONE
BEGIN:VEVENT
DTSTART;TZID=America/Detroit:20260225T090000
DTEND;TZID=America/Detroit:20260225T150000
DTSTAMP:20260425T070448
CREATED:20260128T175815Z
LAST-MODIFIED:20260209T183851Z
UID:3584-1772010000-1772031600@diversityins.com
SUMMARY:West Branch Walmart
DESCRIPTION:Have questions about Medicare or ACA plans? Visit our kiosk near the front entrance of Walmart during our scheduled hours. We’re happy to help!
URL:https://diversityins.com/event/west-branch-walmart-109/
CATEGORIES:Member
END:VEVENT
BEGIN:VEVENT
DTSTART;TZID=America/Detroit:20260225T090000
DTEND;TZID=America/Detroit:20260225T160000
DTSTAMP:20260425T070448
CREATED:20260128T181806Z
LAST-MODIFIED:20260209T200701Z
UID:3709-1772010000-1772035200@diversityins.com
SUMMARY:Country Club Hills Walmart
DESCRIPTION:Have questions about Medicare or ACA plans? Visit our kiosk near the front entrance of Walmart during our scheduled hours. We’re happy to help!
URL:https://diversityins.com/event/country-club-hills-walmart-82/
CATEGORIES:Member
END:VEVENT
BEGIN:VEVENT
DTSTART;TZID=America/Detroit:20260225T090000
DTEND;TZID=America/Detroit:20260225T160000
DTSTAMP:20260425T070448
CREATED:20260128T182041Z
LAST-MODIFIED:20260209T201533Z
UID:3734-1772010000-1772035200@diversityins.com
SUMMARY:Darien Walmart
DESCRIPTION:Have questions about Medicare or ACA plans? Visit our kiosk near the front entrance of Walmart during our scheduled hours. We’re happy to help!
URL:https://diversityins.com/event/darien-walmart-96/
CATEGORIES:Member
END:VEVENT
BEGIN:VEVENT
DTSTART;TZID=America/Detroit:20260225T093000
DTEND;TZID=America/Detroit:20260225T143000
DTSTAMP:20260425T070448
CREATED:20260128T175304Z
LAST-MODIFIED:20260209T180236Z
UID:3549-1772011800-1772029800@diversityins.com
SUMMARY:Jackson Walmart
DESCRIPTION:Have questions about Medicare or ACA plans? Visit our kiosk near the front entrance of Walmart during our scheduled hours. We’re happy to help!
URL:https://diversityins.com/event/jackson-walmart-124/
CATEGORIES:Member
END:VEVENT
BEGIN:VEVENT
DTSTART;TZID=America/Detroit:20260225T093000
DTEND;TZID=America/Detroit:20260225T143000
DTSTAMP:20260425T070448
CREATED:20260128T175434Z
LAST-MODIFIED:20260209T180837Z
UID:3565-1772011800-1772029800@diversityins.com
SUMMARY:Monroe Walmart
DESCRIPTION:Have questions about Medicare or ACA plans? Visit our kiosk near the front entrance of Walmart during our scheduled hours. We’re happy to help!
URL:https://diversityins.com/event/monroe-walmart-112/
CATEGORIES:Member
END:VEVENT
BEGIN:VEVENT
DTSTART;TZID=America/Detroit:20260225T100000
DTEND;TZID=America/Detroit:20260225T140000
DTSTAMP:20260425T070448
CREATED:20260128T181523Z
LAST-MODIFIED:20260209T195919Z
UID:3685-1772013600-1772028000@diversityins.com
SUMMARY:Taylor Walmart
DESCRIPTION:Have questions about Medicare or ACA plans? Visit our kiosk near the front entrance of Walmart during our scheduled hours. We’re happy to help!
URL:https://diversityins.com/event/taylor-walmart-149/
CATEGORIES:Member
END:VEVENT
BEGIN:VEVENT
DTSTART;TZID=America/Detroit:20260225T100000
DTEND;TZID=America/Detroit:20260225T150000
DTSTAMP:20260425T070448
CREATED:20260128T174056Z
LAST-MODIFIED:20260209T175000Z
UID:3507-1772013600-1772031600@diversityins.com
SUMMARY:Burton Walmart
DESCRIPTION:Have questions about Medicare or ACA plans? Visit our kiosk near the front entrance of Walmart during our scheduled hours. We’re happy to help!
URL:https://diversityins.com/event/burton-walmart-142/
CATEGORIES:Member
END:VEVENT
BEGIN:VEVENT
DTSTART;TZID=America/Detroit:20260225T100000
DTEND;TZID=America/Detroit:20260225T150000
DTSTAMP:20260425T070448
CREATED:20260128T180250Z
LAST-MODIFIED:20260209T185140Z
UID:3607-1772013600-1772031600@diversityins.com
SUMMARY:Livonia Walmart
DESCRIPTION:Have questions about Medicare or ACA plans? Visit our kiosk near the front entrance of Walmart during our scheduled hours. We’re happy to help!
URL:https://diversityins.com/event/livonia-walmart-149/
CATEGORIES:Member
END:VEVENT
BEGIN:VEVENT
DTSTART;TZID=America/Detroit:20260225T100000
DTEND;TZID=America/Detroit:20260225T150000
DTSTAMP:20260425T070448
CREATED:20260128T180520Z
LAST-MODIFIED:20260209T185811Z
UID:3631-1772013600-1772031600@diversityins.com
SUMMARY:Flint Walmart
DESCRIPTION:Have questions about Medicare or ACA plans? Visit our kiosk near the front entrance of Walmart during our scheduled hours. We’re happy to help!
URL:https://diversityins.com/event/flint-walmart-137/
CATEGORIES:Member
END:VEVENT
BEGIN:VEVENT
DTSTART;TZID=America/Detroit:20260225T100000
DTEND;TZID=America/Detroit:20260225T150000
DTSTAMP:20260425T070448
CREATED:20260128T181006Z
LAST-MODIFIED:20260209T194512Z
UID:3655-1772013600-1772031600@diversityins.com
SUMMARY:Dearborn Walmart
DESCRIPTION:Have questions about Medicare or ACA plans? Visit our kiosk near the front entrance of Walmart during our scheduled hours. We’re happy to help!
URL:https://diversityins.com/event/dearborn-walmart-146/
CATEGORIES:Member
END:VEVENT
BEGIN:VEVENT
DTSTART;TZID=America/Detroit:20260225T150000
DTEND;TZID=America/Detroit:20260225T150000
DTSTAMP:20260425T070448
CREATED:20260128T174904Z
LAST-MODIFIED:20260209T175550Z
UID:3531-1772031600-1772031600@diversityins.com
SUMMARY:Southgate Walmart
DESCRIPTION:Have questions about Medicare or ACA plans? Visit our kiosk near the front entrance of Walmart during our scheduled hours. We’re happy to help!
URL:https://diversityins.com/event/southgate-walmart-122/
CATEGORIES:Member
END:VEVENT
BEGIN:VEVENT
DTSTART;TZID=America/Detroit:20260226T090000
DTEND;TZID=America/Detroit:20260226T160000
DTSTAMP:20260425T070448
CREATED:20260128T175816Z
LAST-MODIFIED:20260209T183852Z
UID:3585-1772096400-1772121600@diversityins.com
SUMMARY:West Branch Walmart
DESCRIPTION:Have questions about Medicare or ACA plans? Visit our kiosk near the front entrance of Walmart during our scheduled hours. We’re happy to help!
URL:https://diversityins.com/event/west-branch-walmart-110/
CATEGORIES:Member
END:VEVENT
BEGIN:VEVENT
DTSTART;TZID=America/Detroit:20260226T090000
DTEND;TZID=America/Detroit:20260226T160000
DTSTAMP:20260425T070448
CREATED:20260128T181807Z
LAST-MODIFIED:20260209T200702Z
UID:3710-1772096400-1772121600@diversityins.com
SUMMARY:Country Club Hills Walmart
DESCRIPTION:Have questions about Medicare or ACA plans? Visit our kiosk near the front entrance of Walmart during our scheduled hours. We’re happy to help!
URL:https://diversityins.com/event/country-club-hills-walmart-83/
CATEGORIES:Member
END:VEVENT
BEGIN:VEVENT
DTSTART;TZID=America/Detroit:20260226T090000
DTEND;TZID=America/Detroit:20260226T160000
DTSTAMP:20260425T070448
CREATED:20260128T182041Z
LAST-MODIFIED:20260209T201534Z
UID:3735-1772096400-1772121600@diversityins.com
SUMMARY:Darien Walmart
DESCRIPTION:Have questions about Medicare or ACA plans? Visit our kiosk near the front entrance of Walmart during our scheduled hours. We’re happy to help!
URL:https://diversityins.com/event/darien-walmart-97/
CATEGORIES:Member
END:VEVENT
BEGIN:VEVENT
DTSTART;TZID=America/Detroit:20260226T093000
DTEND;TZID=America/Detroit:20260226T143000
DTSTAMP:20260425T070448
CREATED:20260128T175304Z
LAST-MODIFIED:20260209T180237Z
UID:3550-1772098200-1772116200@diversityins.com
SUMMARY:Jackson Walmart
DESCRIPTION:Have questions about Medicare or ACA plans? Visit our kiosk near the front entrance of Walmart during our scheduled hours. We’re happy to help!
URL:https://diversityins.com/event/jackson-walmart-125/
CATEGORIES:Member
END:VEVENT
BEGIN:VEVENT
DTSTART;TZID=America/Detroit:20260226T093000
DTEND;TZID=America/Detroit:20260226T143000
DTSTAMP:20260425T070448
CREATED:20260128T175435Z
LAST-MODIFIED:20260209T180837Z
UID:3566-1772098200-1772116200@diversityins.com
SUMMARY:Monroe Walmart
DESCRIPTION:Have questions about Medicare or ACA plans? Visit our kiosk near the front entrance of Walmart during our scheduled hours. We’re happy to help!
URL:https://diversityins.com/event/monroe-walmart-113/
CATEGORIES:Member
END:VEVENT
BEGIN:VEVENT
DTSTART;TZID=America/Detroit:20260226T100000
DTEND;TZID=America/Detroit:20260226T150000
DTSTAMP:20260425T070448
CREATED:20260128T174057Z
LAST-MODIFIED:20260209T175001Z
UID:3508-1772100000-1772118000@diversityins.com
SUMMARY:Burton Walmart
DESCRIPTION:Have questions about Medicare or ACA plans? Visit our kiosk near the front entrance of Walmart during our scheduled hours. We’re happy to help!
URL:https://diversityins.com/event/burton-walmart-143/
CATEGORIES:Member
END:VEVENT
BEGIN:VEVENT
DTSTART;TZID=America/Detroit:20260226T100000
DTEND;TZID=America/Detroit:20260226T150000
DTSTAMP:20260425T070448
CREATED:20260128T180251Z
LAST-MODIFIED:20260209T185140Z
UID:3608-1772100000-1772118000@diversityins.com
SUMMARY:Livonia Walmart
DESCRIPTION:Have questions about Medicare or ACA plans? Visit our kiosk near the front entrance of Walmart during our scheduled hours. We’re happy to help!
URL:https://diversityins.com/event/livonia-walmart-150/
CATEGORIES:Member
END:VEVENT
BEGIN:VEVENT
DTSTART;TZID=America/Detroit:20260226T100000
DTEND;TZID=America/Detroit:20260226T150000
DTSTAMP:20260425T070448
CREATED:20260128T180715Z
LAST-MODIFIED:20260209T190010Z
UID:3632-1772100000-1772118000@diversityins.com
SUMMARY:Flint Walmart
DESCRIPTION:Have questions about Medicare or ACA plans? Visit our kiosk near the front entrance of Walmart during our scheduled hours. We’re happy to help!
URL:https://diversityins.com/event/flint-walmart-138/
CATEGORIES:Member
END:VEVENT
BEGIN:VEVENT
DTSTART;TZID=America/Detroit:20260226T100000
DTEND;TZID=America/Detroit:20260226T150000
DTSTAMP:20260425T070448
CREATED:20260128T181007Z
LAST-MODIFIED:20260209T194512Z
UID:3656-1772100000-1772118000@diversityins.com
SUMMARY:Dearborn Walmart
DESCRIPTION:Have questions about Medicare or ACA plans? Visit our kiosk near the front entrance of Walmart during our scheduled hours. We’re happy to help!
URL:https://diversityins.com/event/dearborn-walmart-147/
CATEGORIES:Member
END:VEVENT
BEGIN:VEVENT
DTSTART;TZID=America/Detroit:20260226T100000
DTEND;TZID=America/Detroit:20260226T150000
DTSTAMP:20260425T070448
CREATED:20260128T181524Z
LAST-MODIFIED:20260209T195919Z
UID:3686-1772100000-1772118000@diversityins.com
SUMMARY:Taylor Walmart
DESCRIPTION:Have questions about Medicare or ACA plans? Visit our kiosk near the front entrance of Walmart during our scheduled hours. We’re happy to help!
URL:https://diversityins.com/event/taylor-walmart-150/
CATEGORIES:Member
END:VEVENT
BEGIN:VEVENT
DTSTART;TZID=America/Detroit:20260226T150000
DTEND;TZID=America/Detroit:20260226T150000
DTSTAMP:20260425T070448
CREATED:20260128T175102Z
LAST-MODIFIED:20260209T175748Z
UID:3532-1772118000-1772118000@diversityins.com
SUMMARY:Southgate Walmart
DESCRIPTION:Have questions about Medicare or ACA plans? Visit our kiosk near the front entrance of Walmart during our scheduled hours. We’re happy to help!
URL:https://diversityins.com/event/southgate-walmart-123/
CATEGORIES:Member
END:VEVENT
BEGIN:VEVENT
DTSTART;TZID=America/Detroit:20260227T090000
DTEND;TZID=America/Detroit:20260227T160000
DTSTAMP:20260425T070448
CREATED:20260128T175817Z
LAST-MODIFIED:20260209T183852Z
UID:3586-1772182800-1772208000@diversityins.com
SUMMARY:West Branch Walmart
DESCRIPTION:Have questions about Medicare or ACA plans? Visit our kiosk near the front entrance of Walmart during our scheduled hours. We’re happy to help!
URL:https://diversityins.com/event/west-branch-walmart-111/
CATEGORIES:Member
END:VEVENT
BEGIN:VEVENT
DTSTART;TZID=America/Detroit:20260227T090000
DTEND;TZID=America/Detroit:20260227T160000
DTSTAMP:20260425T070448
CREATED:20260128T181808Z
LAST-MODIFIED:20260209T200702Z
UID:3711-1772182800-1772208000@diversityins.com
SUMMARY:Country Club Hills Walmart
DESCRIPTION:Have questions about Medicare or ACA plans? Visit our kiosk near the front entrance of Walmart during our scheduled hours. We’re happy to help!
URL:https://diversityins.com/event/country-club-hills-walmart-84/
CATEGORIES:Member
END:VEVENT
BEGIN:VEVENT
DTSTART;TZID=America/Detroit:20260227T090000
DTEND;TZID=America/Detroit:20260227T160000
DTSTAMP:20260425T070448
CREATED:20260128T182109Z
LAST-MODIFIED:20260209T202032Z
UID:3736-1772182800-1772208000@diversityins.com
SUMMARY:Darien Walmart
DESCRIPTION:Have questions about Medicare or ACA plans? Visit our kiosk near the front entrance of Walmart during our scheduled hours. We’re happy to help!
URL:https://diversityins.com/event/darien-walmart-98/
CATEGORIES:Member
END:VEVENT
BEGIN:VEVENT
DTSTART;TZID=America/Detroit:20260227T100000
DTEND;TZID=America/Detroit:20260227T140000
DTSTAMP:20260425T070448
CREATED:20260128T181552Z
LAST-MODIFIED:20260209T200119Z
UID:3687-1772186400-1772200800@diversityins.com
SUMMARY:Taylor Walmart
DESCRIPTION:Have questions about Medicare or ACA plans? Visit our kiosk near the front entrance of Walmart during our scheduled hours. We’re happy to help!
URL:https://diversityins.com/event/taylor-walmart-151/
CATEGORIES:Member
END:VEVENT
BEGIN:VEVENT
DTSTART;TZID=America/Detroit:20260227T100000
DTEND;TZID=America/Detroit:20260227T150000
DTSTAMP:20260425T070448
CREATED:20260128T174058Z
LAST-MODIFIED:20260209T175001Z
UID:3509-1772186400-1772204400@diversityins.com
SUMMARY:Burton Walmart
DESCRIPTION:Have questions about Medicare or ACA plans? Visit our kiosk near the front entrance of Walmart during our scheduled hours. We’re happy to help!
URL:https://diversityins.com/event/burton-walmart-144/
CATEGORIES:Member
END:VEVENT
BEGIN:VEVENT
DTSTART;TZID=America/Detroit:20260227T100000
DTEND;TZID=America/Detroit:20260227T150000
DTSTAMP:20260425T070448
CREATED:20260128T180252Z
LAST-MODIFIED:20260209T185140Z
UID:3609-1772186400-1772204400@diversityins.com
SUMMARY:Livonia Walmart
DESCRIPTION:Have questions about Medicare or ACA plans? Visit our kiosk near the front entrance of Walmart during our scheduled hours. We’re happy to help!
URL:https://diversityins.com/event/livonia-walmart-151/
CATEGORIES:Member
END:VEVENT
BEGIN:VEVENT
DTSTART;TZID=America/Detroit:20260227T100000
DTEND;TZID=America/Detroit:20260227T150000
DTSTAMP:20260425T070448
CREATED:20260128T180716Z
LAST-MODIFIED:20260209T190011Z
UID:3633-1772186400-1772204400@diversityins.com
SUMMARY:Flint Walmart
DESCRIPTION:Have questions about Medicare or ACA plans? Visit our kiosk near the front entrance of Walmart during our scheduled hours. We’re happy to help!
URL:https://diversityins.com/event/flint-walmart-139/
CATEGORIES:Member
END:VEVENT
BEGIN:VEVENT
DTSTART;TZID=America/Detroit:20260227T100000
DTEND;TZID=America/Detroit:20260227T150000
DTSTAMP:20260425T070448
CREATED:20260128T181033Z
LAST-MODIFIED:20260209T194711Z
UID:3657-1772186400-1772204400@diversityins.com
SUMMARY:Dearborn Walmart
DESCRIPTION:Have questions about Medicare or ACA plans? Visit our kiosk near the front entrance of Walmart during our scheduled hours. We’re happy to help!
URL:https://diversityins.com/event/dearborn-walmart-148/
CATEGORIES:Member
END:VEVENT
END:VCALENDAR