BEGIN:VCALENDAR
VERSION:2.0
PRODID:-//Diversity Insurance Agency - ECPv6.15.20//NONSGML v1.0//EN
CALSCALE:GREGORIAN
METHOD:PUBLISH
X-ORIGINAL-URL:https://diversityins.com
X-WR-CALDESC:Events for Diversity Insurance Agency
REFRESH-INTERVAL;VALUE=DURATION:PT1H
X-Robots-Tag:noindex
X-PUBLISHED-TTL:PT1H
BEGIN:VTIMEZONE
TZID:America/Detroit
BEGIN:DAYLIGHT
TZOFFSETFROM:-0500
TZOFFSETTO:-0400
TZNAME:EDT
DTSTART:20250309T070000
END:DAYLIGHT
BEGIN:STANDARD
TZOFFSETFROM:-0400
TZOFFSETTO:-0500
TZNAME:EST
DTSTART:20251102T060000
END:STANDARD
BEGIN:DAYLIGHT
TZOFFSETFROM:-0500
TZOFFSETTO:-0400
TZNAME:EDT
DTSTART:20260308T070000
END:DAYLIGHT
BEGIN:STANDARD
TZOFFSETFROM:-0400
TZOFFSETTO:-0500
TZNAME:EST
DTSTART:20261101T060000
END:STANDARD
BEGIN:DAYLIGHT
TZOFFSETFROM:-0500
TZOFFSETTO:-0400
TZNAME:EDT
DTSTART:20270314T070000
END:DAYLIGHT
BEGIN:STANDARD
TZOFFSETFROM:-0400
TZOFFSETTO:-0500
TZNAME:EST
DTSTART:20271107T060000
END:STANDARD
END:VTIMEZONE
BEGIN:VEVENT
DTSTART;TZID=America/Detroit:20260318T080000
DTEND;TZID=America/Detroit:20260318T180000
DTSTAMP:20260424T070225
CREATED:20260224T144508Z
LAST-MODIFIED:20260224T144508Z
UID:3974-1773820800-1773856800@diversityins.com
SUMMARY:Country Club Hills Walmart
DESCRIPTION:Have questions about Medicare or ACA plans? Visit our kiosk near the front entrance of Walmart during our scheduled hours. We’re happy to help!
URL:https://diversityins.com/event/country-club-hills-walmart-100/
CATEGORIES:Member
END:VEVENT
BEGIN:VEVENT
DTSTART;TZID=America/Detroit:20260318T090000
DTEND;TZID=America/Detroit:20260318T160000
DTSTAMP:20260424T070225
CREATED:20260224T143308Z
LAST-MODIFIED:20260224T143308Z
UID:3854-1773824400-1773849600@diversityins.com
SUMMARY:West Branch Walmart
DESCRIPTION:Have questions about Medicare or ACA plans? Visit our kiosk near the front entrance of Walmart during our scheduled hours. We’re happy to help!
URL:https://diversityins.com/event/west-branch-walmart-118/
CATEGORIES:Member
END:VEVENT
BEGIN:VEVENT
DTSTART;TZID=America/Detroit:20260318T090000
DTEND;TZID=America/Detroit:20260318T160000
DTSTAMP:20260424T070225
CREATED:20260224T144909Z
LAST-MODIFIED:20260224T144909Z
UID:4000-1773824400-1773849600@diversityins.com
SUMMARY:Darien Walmart
DESCRIPTION:Have questions about Medicare or ACA plans? Visit our kiosk near the front entrance of Walmart during our scheduled hours. We’re happy to help!
URL:https://diversityins.com/event/darien-walmart-114/
CATEGORIES:Member
END:VEVENT
BEGIN:VEVENT
DTSTART;TZID=America/Detroit:20260318T093000
DTEND;TZID=America/Detroit:20260318T143000
DTSTAMP:20260424T070225
CREATED:20260224T142824Z
LAST-MODIFIED:20260224T142824Z
UID:3828-1773826200-1773844200@diversityins.com
SUMMARY:Jackson Walmart
DESCRIPTION:Have questions about Medicare or ACA plans? Visit our kiosk near the front entrance of Walmart during our scheduled hours. We’re happy to help!
URL:https://diversityins.com/event/jackson-walmart-136/
CATEGORIES:Member
END:VEVENT
BEGIN:VEVENT
DTSTART;TZID=America/Detroit:20260318T093000
DTEND;TZID=America/Detroit:20260318T143000
DTSTAMP:20260424T070225
CREATED:20260224T143207Z
LAST-MODIFIED:20260224T143207Z
UID:3846-1773826200-1773844200@diversityins.com
SUMMARY:Monroe Walmart
DESCRIPTION:Have questions about Medicare or ACA plans? Visit our kiosk near the front entrance of Walmart during our scheduled hours. We’re happy to help!
URL:https://diversityins.com/event/monroe-walmart-130/
CATEGORIES:Member
END:VEVENT
BEGIN:VEVENT
DTSTART;TZID=America/Detroit:20260318T100000
DTEND;TZID=America/Detroit:20260318T150000
DTSTAMP:20260424T070225
CREATED:20260224T142015Z
LAST-MODIFIED:20260224T142015Z
UID:3778-1773828000-1773846000@diversityins.com
SUMMARY:Burton Walmart
DESCRIPTION:Have questions about Medicare or ACA plans? Visit our kiosk near the front entrance of Walmart during our scheduled hours. We’re happy to help!
URL:https://diversityins.com/event/burton-walmart-160/
CATEGORIES:Member
END:VEVENT
BEGIN:VEVENT
DTSTART;TZID=America/Detroit:20260318T100000
DTEND;TZID=America/Detroit:20260318T150000
DTSTAMP:20260424T070225
CREATED:20260224T142734Z
LAST-MODIFIED:20260224T142734Z
UID:3806-1773828000-1773846000@diversityins.com
SUMMARY:Southgate Walmart
DESCRIPTION:Have questions about Medicare or ACA plans? Visit our kiosk near the front entrance of Walmart during our scheduled hours. We’re happy to help!
URL:https://diversityins.com/event/southgate-walmart-140/
CATEGORIES:Member
END:VEVENT
BEGIN:VEVENT
DTSTART;TZID=America/Detroit:20260318T100000
DTEND;TZID=America/Detroit:20260318T150000
DTSTAMP:20260424T070225
CREATED:20260224T143506Z
LAST-MODIFIED:20260224T143506Z
UID:3873-1773828000-1773846000@diversityins.com
SUMMARY:Livonia Walmart
DESCRIPTION:Have questions about Medicare or ACA plans? Visit our kiosk near the front entrance of Walmart during our scheduled hours. We’re happy to help!
URL:https://diversityins.com/event/livonia-walmart-166/
CATEGORIES:Member
END:VEVENT
BEGIN:VEVENT
DTSTART;TZID=America/Detroit:20260318T100000
DTEND;TZID=America/Detroit:20260318T150000
DTSTAMP:20260424T070225
CREATED:20260224T143737Z
LAST-MODIFIED:20260224T143737Z
UID:3899-1773828000-1773846000@diversityins.com
SUMMARY:Flint Walmart
DESCRIPTION:Have questions about Medicare or ACA plans? Visit our kiosk near the front entrance of Walmart during our scheduled hours. We’re happy to help!
URL:https://diversityins.com/event/flint-walmart-155/
CATEGORIES:Member
END:VEVENT
BEGIN:VEVENT
DTSTART;TZID=America/Detroit:20260318T100000
DTEND;TZID=America/Detroit:20260318T150000
DTSTAMP:20260424T070225
CREATED:20260224T143938Z
LAST-MODIFIED:20260224T143938Z
UID:3921-1773828000-1773846000@diversityins.com
SUMMARY:Dearborn Walmart
DESCRIPTION:Have questions about Medicare or ACA plans? Visit our kiosk near the front entrance of Walmart during our scheduled hours. We’re happy to help!
URL:https://diversityins.com/event/dearborn-walmart-162/
CATEGORIES:Member
END:VEVENT
BEGIN:VEVENT
DTSTART;TZID=America/Detroit:20260318T143000
DTEND;TZID=America/Detroit:20260318T143000
DTSTAMP:20260424T070225
CREATED:20260303T140324Z
LAST-MODIFIED:20260303T141741Z
UID:4023-1773844200-1773844200@diversityins.com
SUMMARY:LifeSecure Training
DESCRIPTION:
URL:https://diversityins.com/event/lifesecure-training/
CATEGORIES:Agent
END:VEVENT
BEGIN:VEVENT
DTSTART;TZID=America/Detroit:20260319T090000
DTEND;TZID=America/Detroit:20260319T160000
DTSTAMP:20260424T070225
CREATED:20260224T143308Z
LAST-MODIFIED:20260224T143308Z
UID:3855-1773910800-1773936000@diversityins.com
SUMMARY:West Branch Walmart
DESCRIPTION:Have questions about Medicare or ACA plans? Visit our kiosk near the front entrance of Walmart during our scheduled hours. We’re happy to help!
URL:https://diversityins.com/event/west-branch-walmart-119/
CATEGORIES:Member
END:VEVENT
BEGIN:VEVENT
DTSTART;TZID=America/Detroit:20260319T090000
DTEND;TZID=America/Detroit:20260319T170000
DTSTAMP:20260424T070225
CREATED:20260224T144508Z
LAST-MODIFIED:20260224T144508Z
UID:3975-1773910800-1773939600@diversityins.com
SUMMARY:Country Club Hills Walmart
DESCRIPTION:Have questions about Medicare or ACA plans? Visit our kiosk near the front entrance of Walmart during our scheduled hours. We’re happy to help!
URL:https://diversityins.com/event/country-club-hills-walmart-101/
CATEGORIES:Member
END:VEVENT
BEGIN:VEVENT
DTSTART;TZID=America/Detroit:20260319T093000
DTEND;TZID=America/Detroit:20260319T143000
DTSTAMP:20260424T070225
CREATED:20260224T142825Z
LAST-MODIFIED:20260224T142825Z
UID:3829-1773912600-1773930600@diversityins.com
SUMMARY:Jackson Walmart
DESCRIPTION:Have questions about Medicare or ACA plans? Visit our kiosk near the front entrance of Walmart during our scheduled hours. We’re happy to help!
URL:https://diversityins.com/event/jackson-walmart-137/
CATEGORIES:Member
END:VEVENT
BEGIN:VEVENT
DTSTART;TZID=America/Detroit:20260319T093000
DTEND;TZID=America/Detroit:20260319T143000
DTSTAMP:20260424T070225
CREATED:20260224T143207Z
LAST-MODIFIED:20260224T143207Z
UID:3847-1773912600-1773930600@diversityins.com
SUMMARY:Monroe Walmart
DESCRIPTION:Have questions about Medicare or ACA plans? Visit our kiosk near the front entrance of Walmart during our scheduled hours. We’re happy to help!
URL:https://diversityins.com/event/monroe-walmart-131/
CATEGORIES:Member
END:VEVENT
BEGIN:VEVENT
DTSTART;TZID=America/Detroit:20260319T100000
DTEND;TZID=America/Detroit:20260319T150000
DTSTAMP:20260424T070225
CREATED:20260224T142150Z
LAST-MODIFIED:20260224T142150Z
UID:3779-1773914400-1773932400@diversityins.com
SUMMARY:Burton Walmart
DESCRIPTION:Have questions about Medicare or ACA plans? Visit our kiosk near the front entrance of Walmart during our scheduled hours. We’re happy to help!
URL:https://diversityins.com/event/burton-walmart-161/
CATEGORIES:Member
END:VEVENT
BEGIN:VEVENT
DTSTART;TZID=America/Detroit:20260319T100000
DTEND;TZID=America/Detroit:20260319T150000
DTSTAMP:20260424T070225
CREATED:20260224T142735Z
LAST-MODIFIED:20260224T142735Z
UID:3807-1773914400-1773932400@diversityins.com
SUMMARY:Southgate Walmart
DESCRIPTION:Have questions about Medicare or ACA plans? Visit our kiosk near the front entrance of Walmart during our scheduled hours. We’re happy to help!
URL:https://diversityins.com/event/southgate-walmart-141/
CATEGORIES:Member
END:VEVENT
BEGIN:VEVENT
DTSTART;TZID=America/Detroit:20260319T100000
DTEND;TZID=America/Detroit:20260319T150000
DTSTAMP:20260424T070225
CREATED:20260224T143507Z
LAST-MODIFIED:20260224T143507Z
UID:3874-1773914400-1773932400@diversityins.com
SUMMARY:Livonia Walmart
DESCRIPTION:Have questions about Medicare or ACA plans? Visit our kiosk near the front entrance of Walmart during our scheduled hours. We’re happy to help!
URL:https://diversityins.com/event/livonia-walmart-167/
CATEGORIES:Member
END:VEVENT
BEGIN:VEVENT
DTSTART;TZID=America/Detroit:20260319T100000
DTEND;TZID=America/Detroit:20260319T150000
DTSTAMP:20260424T070225
CREATED:20260224T143737Z
LAST-MODIFIED:20260224T143737Z
UID:3900-1773914400-1773932400@diversityins.com
SUMMARY:Flint Walmart
DESCRIPTION:Have questions about Medicare or ACA plans? Visit our kiosk near the front entrance of Walmart during our scheduled hours. We’re happy to help!
URL:https://diversityins.com/event/flint-walmart-156/
CATEGORIES:Member
END:VEVENT
BEGIN:VEVENT
DTSTART;TZID=America/Detroit:20260319T100000
DTEND;TZID=America/Detroit:20260319T150000
DTSTAMP:20260424T070225
CREATED:20260224T144006Z
LAST-MODIFIED:20260224T144006Z
UID:3922-1773914400-1773932400@diversityins.com
SUMMARY:Dearborn Walmart
DESCRIPTION:Have questions about Medicare or ACA plans? Visit our kiosk near the front entrance of Walmart during our scheduled hours. We’re happy to help!
URL:https://diversityins.com/event/dearborn-walmart-163/
CATEGORIES:Member
END:VEVENT
BEGIN:VEVENT
DTSTART;TZID=America/Detroit:20260319T100000
DTEND;TZID=America/Detroit:20260319T150000
DTSTAMP:20260424T070225
CREATED:20260224T144237Z
LAST-MODIFIED:20260224T144237Z
UID:3948-1773914400-1773932400@diversityins.com
SUMMARY:Taylor Walmart
DESCRIPTION:Have questions about Medicare or ACA plans? Visit our kiosk near the front entrance of Walmart during our scheduled hours. We’re happy to help!
URL:https://diversityins.com/event/taylor-walmart-168/
CATEGORIES:Member
END:VEVENT
BEGIN:VEVENT
DTSTART;TZID=America/Detroit:20260319T100000
DTEND;TZID=America/Detroit:20260319T150000
DTSTAMP:20260424T070225
CREATED:20260224T144909Z
LAST-MODIFIED:20260224T144909Z
UID:4001-1773914400-1773932400@diversityins.com
SUMMARY:Darien Walmart
DESCRIPTION:Have questions about Medicare or ACA plans? Visit our kiosk near the front entrance of Walmart during our scheduled hours. We’re happy to help!
URL:https://diversityins.com/event/darien-walmart-115/
CATEGORIES:Member
END:VEVENT
BEGIN:VEVENT
DTSTART;TZID=America/Detroit:20260320T090000
DTEND;TZID=America/Detroit:20260320T130000
DTSTAMP:20260424T070225
CREATED:20260224T144509Z
LAST-MODIFIED:20260224T144509Z
UID:3976-1773997200-1774011600@diversityins.com
SUMMARY:Country Club Hills Walmart
DESCRIPTION:Have questions about Medicare or ACA plans? Visit our kiosk near the front entrance of Walmart during our scheduled hours. We’re happy to help!
URL:https://diversityins.com/event/country-club-hills-walmart-102/
CATEGORIES:Member
END:VEVENT
BEGIN:VEVENT
DTSTART;TZID=America/Detroit:20260320T090000
DTEND;TZID=America/Detroit:20260320T150000
DTSTAMP:20260424T070225
CREATED:20260224T143308Z
LAST-MODIFIED:20260224T143308Z
UID:3856-1773997200-1774018800@diversityins.com
SUMMARY:West Branch Walmart
DESCRIPTION:Have questions about Medicare or ACA plans? Visit our kiosk near the front entrance of Walmart during our scheduled hours. We’re happy to help!
URL:https://diversityins.com/event/west-branch-walmart-120/
CATEGORIES:Member
END:VEVENT
BEGIN:VEVENT
DTSTART;TZID=America/Detroit:20260320T090000
DTEND;TZID=America/Detroit:20260320T160000
DTSTAMP:20260424T070225
CREATED:20260224T144936Z
LAST-MODIFIED:20260224T144936Z
UID:4002-1773997200-1774022400@diversityins.com
SUMMARY:Darien Walmart
DESCRIPTION:Have questions about Medicare or ACA plans? Visit our kiosk near the front entrance of Walmart during our scheduled hours. We’re happy to help!
URL:https://diversityins.com/event/darien-walmart-116/
CATEGORIES:Member
END:VEVENT
BEGIN:VEVENT
DTSTART;TZID=America/Detroit:20260320T100000
DTEND;TZID=America/Detroit:20260320T140000
DTSTAMP:20260424T070225
CREATED:20260224T144237Z
LAST-MODIFIED:20260224T144237Z
UID:3949-1774000800-1774015200@diversityins.com
SUMMARY:Taylor Walmart
DESCRIPTION:Have questions about Medicare or ACA plans? Visit our kiosk near the front entrance of Walmart during our scheduled hours. We’re happy to help!
URL:https://diversityins.com/event/taylor-walmart-169/
CATEGORIES:Member
END:VEVENT
BEGIN:VEVENT
DTSTART;TZID=America/Detroit:20260320T100000
DTEND;TZID=America/Detroit:20260320T150000
DTSTAMP:20260424T070225
CREATED:20260224T142151Z
LAST-MODIFIED:20260224T142151Z
UID:3780-1774000800-1774018800@diversityins.com
SUMMARY:Burton Walmart
DESCRIPTION:Have questions about Medicare or ACA plans? Visit our kiosk near the front entrance of Walmart during our scheduled hours. We’re happy to help!
URL:https://diversityins.com/event/burton-walmart-162/
CATEGORIES:Member
END:VEVENT
BEGIN:VEVENT
DTSTART;TZID=America/Detroit:20260320T100000
DTEND;TZID=America/Detroit:20260320T150000
DTSTAMP:20260424T070225
CREATED:20260224T142736Z
LAST-MODIFIED:20260224T142736Z
UID:3808-1774000800-1774018800@diversityins.com
SUMMARY:Southgate Walmart
DESCRIPTION:Have questions about Medicare or ACA plans? Visit our kiosk near the front entrance of Walmart during our scheduled hours. We’re happy to help!
URL:https://diversityins.com/event/southgate-walmart-142/
CATEGORIES:Member
END:VEVENT
BEGIN:VEVENT
DTSTART;TZID=America/Detroit:20260320T100000
DTEND;TZID=America/Detroit:20260320T150000
DTSTAMP:20260424T070225
CREATED:20260224T143507Z
LAST-MODIFIED:20260224T143507Z
UID:3875-1774000800-1774018800@diversityins.com
SUMMARY:Livonia Walmart
DESCRIPTION:Have questions about Medicare or ACA plans? Visit our kiosk near the front entrance of Walmart during our scheduled hours. We’re happy to help!
URL:https://diversityins.com/event/livonia-walmart-168/
CATEGORIES:Member
END:VEVENT
BEGIN:VEVENT
DTSTART;TZID=America/Detroit:20260320T100000
DTEND;TZID=America/Detroit:20260320T150000
DTSTAMP:20260424T070225
CREATED:20260224T143738Z
LAST-MODIFIED:20260224T143738Z
UID:3901-1774000800-1774018800@diversityins.com
SUMMARY:Flint Walmart
DESCRIPTION:Have questions about Medicare or ACA plans? Visit our kiosk near the front entrance of Walmart during our scheduled hours. We’re happy to help!
URL:https://diversityins.com/event/flint-walmart-157/
CATEGORIES:Member
END:VEVENT
END:VCALENDAR