BEGIN:VCALENDAR
VERSION:2.0
PRODID:-//Diversity Insurance Agency - ECPv6.15.20//NONSGML v1.0//EN
CALSCALE:GREGORIAN
METHOD:PUBLISH
X-WR-CALNAME:Diversity Insurance Agency
X-ORIGINAL-URL:https://diversityins.com
X-WR-CALDESC:Events for Diversity Insurance Agency
REFRESH-INTERVAL;VALUE=DURATION:PT1H
X-Robots-Tag:noindex
X-PUBLISHED-TTL:PT1H
BEGIN:VTIMEZONE
TZID:America/Detroit
BEGIN:DAYLIGHT
TZOFFSETFROM:-0500
TZOFFSETTO:-0400
TZNAME:EDT
DTSTART:20240310T070000
END:DAYLIGHT
BEGIN:STANDARD
TZOFFSETFROM:-0400
TZOFFSETTO:-0500
TZNAME:EST
DTSTART:20241103T060000
END:STANDARD
BEGIN:DAYLIGHT
TZOFFSETFROM:-0500
TZOFFSETTO:-0400
TZNAME:EDT
DTSTART:20250309T070000
END:DAYLIGHT
BEGIN:STANDARD
TZOFFSETFROM:-0400
TZOFFSETTO:-0500
TZNAME:EST
DTSTART:20251102T060000
END:STANDARD
BEGIN:DAYLIGHT
TZOFFSETFROM:-0500
TZOFFSETTO:-0400
TZNAME:EDT
DTSTART:20260308T070000
END:DAYLIGHT
BEGIN:STANDARD
TZOFFSETFROM:-0400
TZOFFSETTO:-0500
TZNAME:EST
DTSTART:20261101T060000
END:STANDARD
END:VTIMEZONE
BEGIN:VEVENT
DTSTART;TZID=America/Detroit:20251013T090000
DTEND;TZID=America/Detroit:20251013T170000
DTSTAMP:20260425T233315
CREATED:20251008T165402Z
LAST-MODIFIED:20251008T183225Z
UID:2551-1760346000-1760374800@diversityins.com
SUMMARY:Lapeer Walmart
DESCRIPTION:
URL:https://diversityins.com/event/lapeer-walmart-22/
CATEGORIES:Member
END:VEVENT
BEGIN:VEVENT
DTSTART;TZID=America/Detroit:20251013T090000
DTEND;TZID=America/Detroit:20251013T170000
DTSTAMP:20260425T233315
CREATED:20251008T164407Z
LAST-MODIFIED:20251008T181846Z
UID:2421-1760346000-1760374800@diversityins.com
SUMMARY:Hastings Walmart
DESCRIPTION:
URL:https://diversityins.com/event/hastings-walmart-22/
CATEGORIES:Member
END:VEVENT
BEGIN:VEVENT
DTSTART;TZID=America/Detroit:20251013T090000
DTEND;TZID=America/Detroit:20251013T160000
DTSTAMP:20260425T233315
CREATED:20251008T165803Z
LAST-MODIFIED:20251008T183826Z
UID:2613-1760346000-1760371200@diversityins.com
SUMMARY:Taylor Walmart
DESCRIPTION:
URL:https://diversityins.com/event/taylor-walmart-36/
CATEGORIES:Member
END:VEVENT
BEGIN:VEVENT
DTSTART;TZID=America/Detroit:20251013T090000
DTEND;TZID=America/Detroit:20251013T160000
DTSTAMP:20260425T233315
CREATED:20251008T165505Z
LAST-MODIFIED:20251008T183357Z
UID:2568-1760346000-1760371200@diversityins.com
SUMMARY:Dearborn Walmart
DESCRIPTION:
URL:https://diversityins.com/event/dearborn-walmart-29/
CATEGORIES:Member
END:VEVENT
BEGIN:VEVENT
DTSTART;TZID=America/Detroit:20251013T090000
DTEND;TZID=America/Detroit:20251013T160000
DTSTAMP:20260425T233315
CREATED:20251008T165029Z
LAST-MODIFIED:20251008T182756Z
UID:2505-1760346000-1760371200@diversityins.com
SUMMARY:Livonia Walmart
DESCRIPTION:
URL:https://diversityins.com/event/livonia-walmart-37/
CATEGORIES:Member
END:VEVENT
BEGIN:VEVENT
DTSTART;TZID=America/Detroit:20251013T090000
DTEND;TZID=America/Detroit:20251013T160000
DTSTAMP:20260425T233315
CREATED:20251008T164328Z
LAST-MODIFIED:20251008T181543Z
UID:2400-1760346000-1760371200@diversityins.com
SUMMARY:Southgate Walmart
DESCRIPTION:
URL:https://diversityins.com/event/southgate-walmart-29/
CATEGORIES:Member
END:VEVENT
BEGIN:VEVENT
DTSTART;TZID=America/Detroit:20251013T090000
DTEND;TZID=America/Detroit:20251013T160000
DTSTAMP:20260425T233315
CREATED:20251008T164225Z
LAST-MODIFIED:20251008T181222Z
UID:2379-1760346000-1760371200@diversityins.com
SUMMARY:Burton Walmart
DESCRIPTION:
URL:https://diversityins.com/event/burton-walmart-28/
CATEGORIES:Member
END:VEVENT
BEGIN:VEVENT
DTSTART;TZID=America/Detroit:20251013T090000
DTEND;TZID=America/Detroit:20251013T153000
DTSTAMP:20260425T233315
CREATED:20251008T164525Z
LAST-MODIFIED:20251008T182017Z
UID:2438-1760346000-1760369400@diversityins.com
SUMMARY:Jackson Walmart
DESCRIPTION:
URL:https://diversityins.com/event/jackson-walmart-31/
CATEGORIES:Member
END:VEVENT
BEGIN:VEVENT
DTSTART;TZID=America/Detroit:20251012T120000
DTEND;TZID=America/Detroit:20251012T200000
DTSTAMP:20260425T233315
CREATED:20251008T165802Z
LAST-MODIFIED:20251008T183826Z
UID:2612-1760270400-1760299200@diversityins.com
SUMMARY:Taylor Walmart
DESCRIPTION:
URL:https://diversityins.com/event/taylor-walmart-35/
CATEGORIES:Member
END:VEVENT
BEGIN:VEVENT
DTSTART;TZID=America/Detroit:20251012T110000
DTEND;TZID=America/Detroit:20251012T150000
DTSTAMP:20260425T233315
CREATED:20251008T165028Z
LAST-MODIFIED:20251008T182755Z
UID:2504-1760266800-1760281200@diversityins.com
SUMMARY:Livonia Walmart
DESCRIPTION:
URL:https://diversityins.com/event/livonia-walmart-36/
CATEGORIES:Member
END:VEVENT
BEGIN:VEVENT
DTSTART;TZID=America/Detroit:20251011T140000
DTEND;TZID=America/Detroit:20251011T210000
DTSTAMP:20260425T233315
CREATED:20251008T165801Z
LAST-MODIFIED:20251008T183825Z
UID:2611-1760191200-1760216400@diversityins.com
SUMMARY:Taylor Walmart
DESCRIPTION:
URL:https://diversityins.com/event/taylor-walmart-34/
CATEGORIES:Member
END:VEVENT
BEGIN:VEVENT
DTSTART;TZID=America/Detroit:20251011T110000
DTEND;TZID=America/Detroit:20251011T150000
DTSTAMP:20260425T233315
CREATED:20251008T165001Z
LAST-MODIFIED:20251008T182726Z
UID:2503-1760180400-1760194800@diversityins.com
SUMMARY:Livonia Walmart
DESCRIPTION:
URL:https://diversityins.com/event/livonia-walmart-35/
CATEGORIES:Member
END:VEVENT
BEGIN:VEVENT
DTSTART;TZID=America/Detroit:20251011T100000
DTEND;TZID=America/Detroit:20251011T183000
DTSTAMP:20260425T233315
CREATED:20251008T170156Z
LAST-MODIFIED:20251008T184625Z
UID:2659-1760176800-1760207400@diversityins.com
SUMMARY:Darien Walmart
DESCRIPTION:
URL:https://diversityins.com/event/darien-walmart-11/
CATEGORIES:Member
END:VEVENT
BEGIN:VEVENT
DTSTART;TZID=America/Detroit:20251011T100000
DTEND;TZID=America/Detroit:20251011T180000
DTSTAMP:20260425T233315
CREATED:20251008T170048Z
LAST-MODIFIED:20251008T184155Z
UID:2645-1760176800-1760205600@diversityins.com
SUMMARY:Joliet Walmart
DESCRIPTION:
URL:https://diversityins.com/event/joliet-walmart-21/
CATEGORIES:Member
END:VEVENT
BEGIN:VEVENT
DTSTART;TZID=America/Detroit:20251011T093000
DTEND;TZID=America/Detroit:20251011T160000
DTSTAMP:20260425T233315
CREATED:20251008T164631Z
LAST-MODIFIED:20251008T182219Z
UID:2458-1760175000-1760198400@diversityins.com
SUMMARY:Monroe Walmart
DESCRIPTION:
URL:https://diversityins.com/event/monroe-walmart-32/
CATEGORIES:Member
END:VEVENT
BEGIN:VEVENT
DTSTART;TZID=America/Detroit:20251011T080000
DTEND;TZID=America/Detroit:20251011T170000
DTSTAMP:20260425T233315
CREATED:20251008T164406Z
LAST-MODIFIED:20251008T181846Z
UID:2420-1760169600-1760202000@diversityins.com
SUMMARY:Hastings Walmart
DESCRIPTION:
URL:https://diversityins.com/event/hastings-walmart-21/
CATEGORIES:Member
END:VEVENT
BEGIN:VEVENT
DTSTART;TZID=America/Detroit:20251010T100000
DTEND;TZID=America/Detroit:20251010T160000
DTSTAMP:20260425T233315
CREATED:20251008T164829Z
LAST-MODIFIED:20251008T182447Z
UID:2481-1760090400-1760112000@diversityins.com
SUMMARY:West Branch Walmart
DESCRIPTION:
URL:https://diversityins.com/event/west-branch-walmart-31/
CATEGORIES:Member
END:VEVENT
BEGIN:VEVENT
DTSTART;TZID=America/Detroit:20251010T093000
DTEND;TZID=America/Detroit:20251010T160000
DTSTAMP:20260425T233315
CREATED:20251008T164630Z
LAST-MODIFIED:20251008T182218Z
UID:2457-1760088600-1760112000@diversityins.com
SUMMARY:Monroe Walmart
DESCRIPTION:
URL:https://diversityins.com/event/monroe-walmart-31/
CATEGORIES:Member
END:VEVENT
BEGIN:VEVENT
DTSTART;TZID=America/Detroit:20251010T090000
DTEND;TZID=America/Detroit:20251010T160000
DTSTAMP:20260425T233315
CREATED:20251008T165801Z
LAST-MODIFIED:20251008T183825Z
UID:2610-1760086800-1760112000@diversityins.com
SUMMARY:Taylor Walmart
DESCRIPTION:
URL:https://diversityins.com/event/taylor-walmart-33/
CATEGORIES:Member
END:VEVENT
BEGIN:VEVENT
DTSTART;TZID=America/Detroit:20251010T090000
DTEND;TZID=America/Detroit:20251010T160000
DTSTAMP:20260425T233315
CREATED:20251008T165701Z
LAST-MODIFIED:20251008T183624Z
UID:2589-1760086800-1760112000@diversityins.com
SUMMARY:Jonesville Walmart
DESCRIPTION:
URL:https://diversityins.com/event/jonesville-walmart-26/
CATEGORIES:Member
END:VEVENT
BEGIN:VEVENT
DTSTART;TZID=America/Detroit:20251010T090000
DTEND;TZID=America/Detroit:20251010T160000
DTSTAMP:20260425T233315
CREATED:20251008T165503Z
LAST-MODIFIED:20251008T183356Z
UID:2567-1760086800-1760112000@diversityins.com
SUMMARY:Dearborn Walmart
DESCRIPTION:
URL:https://diversityins.com/event/dearborn-walmart-28/
CATEGORIES:Member
END:VEVENT
BEGIN:VEVENT
DTSTART;TZID=America/Detroit:20251010T090000
DTEND;TZID=America/Detroit:20251010T160000
DTSTAMP:20260425T233315
CREATED:20251008T165232Z
LAST-MODIFIED:20251008T183029Z
UID:2531-1760086800-1760112000@diversityins.com
SUMMARY:Flint Walmart
DESCRIPTION:
URL:https://diversityins.com/event/flint-walmart-26/
CATEGORIES:Member
END:VEVENT
BEGIN:VEVENT
DTSTART;TZID=America/Detroit:20251010T090000
DTEND;TZID=America/Detroit:20251010T160000
DTSTAMP:20260425T233315
CREATED:20251008T165001Z
LAST-MODIFIED:20251008T182726Z
UID:2502-1760086800-1760112000@diversityins.com
SUMMARY:Livonia Walmart
DESCRIPTION:
URL:https://diversityins.com/event/livonia-walmart-34/
CATEGORIES:Member
END:VEVENT
BEGIN:VEVENT
DTSTART;TZID=America/Detroit:20251010T090000
DTEND;TZID=America/Detroit:20251010T160000
DTSTAMP:20260425T233315
CREATED:20251008T164328Z
LAST-MODIFIED:20251008T181542Z
UID:2399-1760086800-1760112000@diversityins.com
SUMMARY:Southgate Walmart
DESCRIPTION:
URL:https://diversityins.com/event/southgate-walmart-28/
CATEGORIES:Member
END:VEVENT
BEGIN:VEVENT
DTSTART;TZID=America/Detroit:20251010T090000
DTEND;TZID=America/Detroit:20251010T160000
DTSTAMP:20260425T233315
CREATED:20251008T164223Z
LAST-MODIFIED:20251008T181219Z
UID:2378-1760086800-1760112000@diversityins.com
SUMMARY:Burton Walmart
DESCRIPTION:
URL:https://diversityins.com/event/burton-walmart-27/
CATEGORIES:Member
END:VEVENT
BEGIN:VEVENT
DTSTART;TZID=America/Detroit:20251010T090000
DTEND;TZID=America/Detroit:20251010T153000
DTSTAMP:20260425T233315
CREATED:20251008T164525Z
LAST-MODIFIED:20251008T182016Z
UID:2437-1760086800-1760110200@diversityins.com
SUMMARY:Jackson Walmart
DESCRIPTION:
URL:https://diversityins.com/event/jackson-walmart-30/
CATEGORIES:Member
END:VEVENT
BEGIN:VEVENT
DTSTART;TZID=America/Detroit:20251010T080000
DTEND;TZID=America/Detroit:20251010T170000
DTSTAMP:20260425T233315
CREATED:20251008T164406Z
LAST-MODIFIED:20251008T181845Z
UID:2419-1760083200-1760115600@diversityins.com
SUMMARY:Hastings Walmart
DESCRIPTION:
URL:https://diversityins.com/event/hastings-walmart-20/
CATEGORIES:Member
END:VEVENT
BEGIN:VEVENT
DTSTART;TZID=America/Detroit:20251009T100000
DTEND;TZID=America/Detroit:20251009T180000
DTSTAMP:20260425T233315
CREATED:20251008T170047Z
LAST-MODIFIED:20251008T184155Z
UID:2644-1760004000-1760032800@diversityins.com
SUMMARY:Joliet Walmart
DESCRIPTION:
URL:https://diversityins.com/event/joliet-walmart-20/
CATEGORIES:Member
END:VEVENT
BEGIN:VEVENT
DTSTART;TZID=America/Detroit:20251009T100000
DTEND;TZID=America/Detroit:20251009T160000
DTSTAMP:20260425T233315
CREATED:20251008T164828Z
LAST-MODIFIED:20251008T182446Z
UID:2480-1760004000-1760025600@diversityins.com
SUMMARY:West Branch Walmart
DESCRIPTION:
URL:https://diversityins.com/event/west-branch-walmart-30/
CATEGORIES:Member
END:VEVENT
BEGIN:VEVENT
DTSTART;TZID=America/Detroit:20251009T093000
DTEND;TZID=America/Detroit:20251009T160000
DTSTAMP:20260425T233315
CREATED:20251008T164629Z
LAST-MODIFIED:20251008T182218Z
UID:2456-1760002200-1760025600@diversityins.com
SUMMARY:Monroe Walmart
DESCRIPTION:
URL:https://diversityins.com/event/monroe-walmart-30/
CATEGORIES:Member
END:VEVENT
END:VCALENDAR