BEGIN:VCALENDAR
VERSION:2.0
PRODID:-//Diversity Insurance Agency - ECPv6.15.20//NONSGML v1.0//EN
CALSCALE:GREGORIAN
METHOD:PUBLISH
X-WR-CALNAME:Diversity Insurance Agency
X-ORIGINAL-URL:https://diversityins.com
X-WR-CALDESC:Events for Diversity Insurance Agency
REFRESH-INTERVAL;VALUE=DURATION:PT1H
X-Robots-Tag:noindex
X-PUBLISHED-TTL:PT1H
BEGIN:VTIMEZONE
TZID:America/Detroit
BEGIN:DAYLIGHT
TZOFFSETFROM:-0500
TZOFFSETTO:-0400
TZNAME:EDT
DTSTART:20240310T070000
END:DAYLIGHT
BEGIN:STANDARD
TZOFFSETFROM:-0400
TZOFFSETTO:-0500
TZNAME:EST
DTSTART:20241103T060000
END:STANDARD
BEGIN:DAYLIGHT
TZOFFSETFROM:-0500
TZOFFSETTO:-0400
TZNAME:EDT
DTSTART:20250309T070000
END:DAYLIGHT
BEGIN:STANDARD
TZOFFSETFROM:-0400
TZOFFSETTO:-0500
TZNAME:EST
DTSTART:20251102T060000
END:STANDARD
BEGIN:DAYLIGHT
TZOFFSETFROM:-0500
TZOFFSETTO:-0400
TZNAME:EDT
DTSTART:20260308T070000
END:DAYLIGHT
BEGIN:STANDARD
TZOFFSETFROM:-0400
TZOFFSETTO:-0500
TZNAME:EST
DTSTART:20261101T060000
END:STANDARD
BEGIN:DAYLIGHT
TZOFFSETFROM:-0500
TZOFFSETTO:-0400
TZNAME:EDT
DTSTART:20270314T070000
END:DAYLIGHT
BEGIN:STANDARD
TZOFFSETFROM:-0400
TZOFFSETTO:-0500
TZNAME:EST
DTSTART:20271107T060000
END:STANDARD
END:VTIMEZONE
BEGIN:VEVENT
DTSTART;TZID=America/Detroit:20251212T090000
DTEND;TZID=America/Detroit:20251212T160000
DTSTAMP:20260425T101552
CREATED:20251201T151158Z
LAST-MODIFIED:20251201T151158Z
UID:3066-1765530000-1765555200@diversityins.com
SUMMARY:Taylor Walmart
DESCRIPTION:
URL:https://diversityins.com/event/taylor-walmart-92/
CATEGORIES:Member
END:VEVENT
BEGIN:VEVENT
DTSTART;TZID=America/Detroit:20260105T090000
DTEND;TZID=America/Detroit:20260105T163000
DTSTAMP:20260425T101552
CREATED:20260107T165442Z
LAST-MODIFIED:20260107T165511Z
UID:3136-1767603600-1767630600@diversityins.com
SUMMARY:Darien Walmart
DESCRIPTION:
URL:https://diversityins.com/event/darien-walmart-46/
CATEGORIES:Member
END:VEVENT
BEGIN:VEVENT
DTSTART;TZID=America/Detroit:20260105T093000
DTEND;TZID=America/Detroit:20260105T143000
DTSTAMP:20260425T101552
CREATED:20260107T170442Z
LAST-MODIFIED:20260107T170510Z
UID:3185-1767605400-1767623400@diversityins.com
SUMMARY:Jackson Walmart
DESCRIPTION:
URL:https://diversityins.com/event/jackson-walmart-78/
CATEGORIES:Member
END:VEVENT
BEGIN:VEVENT
DTSTART;TZID=America/Detroit:20260105T100000
DTEND;TZID=America/Detroit:20260105T150000
DTSTAMP:20260425T101552
CREATED:20260107T165034Z
LAST-MODIFIED:20260107T165034Z
UID:3104-1767607200-1767625200@diversityins.com
SUMMARY:Burton Walmart
DESCRIPTION:
URL:https://diversityins.com/event/burton-walmart-75/
CATEGORIES:Member
END:VEVENT
BEGIN:VEVENT
DTSTART;TZID=America/Detroit:20260105T100000
DTEND;TZID=America/Detroit:20260105T150000
DTSTAMP:20260425T101552
CREATED:20260107T165543Z
LAST-MODIFIED:20260107T165611Z
UID:3142-1767607200-1767625200@diversityins.com
SUMMARY:Dearborn Walmart
DESCRIPTION:
URL:https://diversityins.com/event/dearborn-walmart-79/
CATEGORIES:Member
END:VEVENT
BEGIN:VEVENT
DTSTART;TZID=America/Detroit:20260105T100000
DTEND;TZID=America/Detroit:20260105T150000
DTSTAMP:20260425T101552
CREATED:20260107T170041Z
LAST-MODIFIED:20260107T170110Z
UID:3165-1767607200-1767625200@diversityins.com
SUMMARY:Flint Walmart
DESCRIPTION:
URL:https://diversityins.com/event/flint-walmart-73/
CATEGORIES:Member
END:VEVENT
BEGIN:VEVENT
DTSTART;TZID=America/Detroit:20260105T100000
DTEND;TZID=America/Detroit:20260105T150000
DTSTAMP:20260425T101552
CREATED:20260107T170742Z
LAST-MODIFIED:20260107T170811Z
UID:3201-1767607200-1767625200@diversityins.com
SUMMARY:Livonia Walmart
DESCRIPTION:
URL:https://diversityins.com/event/livonia-walmart-93/
CATEGORIES:Member
END:VEVENT
BEGIN:VEVENT
DTSTART;TZID=America/Detroit:20260106T090000
DTEND;TZID=America/Detroit:20260106T163000
DTSTAMP:20260425T101552
CREATED:20260107T165442Z
LAST-MODIFIED:20260107T165511Z
UID:3137-1767690000-1767717000@diversityins.com
SUMMARY:Darien Walmart
DESCRIPTION:
URL:https://diversityins.com/event/darien-walmart-47/
CATEGORIES:Member
END:VEVENT
BEGIN:VEVENT
DTSTART;TZID=America/Detroit:20260106T090000
DTEND;TZID=America/Detroit:20260106T170000
DTSTAMP:20260425T101552
CREATED:20260107T165243Z
LAST-MODIFIED:20260107T165311Z
UID:3127-1767690000-1767718800@diversityins.com
SUMMARY:Country Club Hills Walmart
DESCRIPTION:
URL:https://diversityins.com/event/country-club-hills-walmart-29/
CATEGORIES:Member
END:VEVENT
BEGIN:VEVENT
DTSTART;TZID=America/Detroit:20260106T093000
DTEND;TZID=America/Detroit:20260106T143000
DTSTAMP:20260425T101552
CREATED:20260107T170442Z
LAST-MODIFIED:20260107T170511Z
UID:3186-1767691800-1767709800@diversityins.com
SUMMARY:Jackson Walmart
DESCRIPTION:
URL:https://diversityins.com/event/jackson-walmart-79/
CATEGORIES:Member
END:VEVENT
BEGIN:VEVENT
DTSTART;TZID=America/Detroit:20260106T100000
DTEND;TZID=America/Detroit:20260106T150000
DTSTAMP:20260425T101552
CREATED:20260107T165035Z
LAST-MODIFIED:20260107T165035Z
UID:3105-1767693600-1767711600@diversityins.com
SUMMARY:Burton Walmart
DESCRIPTION:
URL:https://diversityins.com/event/burton-walmart-76/
CATEGORIES:Member
END:VEVENT
BEGIN:VEVENT
DTSTART;TZID=America/Detroit:20260106T100000
DTEND;TZID=America/Detroit:20260106T150000
DTSTAMP:20260425T101552
CREATED:20260107T165543Z
LAST-MODIFIED:20260107T165612Z
UID:3143-1767693600-1767711600@diversityins.com
SUMMARY:Dearborn Walmart
DESCRIPTION:
URL:https://diversityins.com/event/dearborn-walmart-80/
CATEGORIES:Member
END:VEVENT
BEGIN:VEVENT
DTSTART;TZID=America/Detroit:20260106T100000
DTEND;TZID=America/Detroit:20260106T150000
DTSTAMP:20260425T101552
CREATED:20260107T170743Z
LAST-MODIFIED:20260107T170811Z
UID:3202-1767693600-1767711600@diversityins.com
SUMMARY:Livonia Walmart
DESCRIPTION:
URL:https://diversityins.com/event/livonia-walmart-94/
CATEGORIES:Member
END:VEVENT
BEGIN:VEVENT
DTSTART;TZID=America/Detroit:20260107T090000
DTEND;TZID=America/Detroit:20260107T170000
DTSTAMP:20260425T101552
CREATED:20260107T165243Z
LAST-MODIFIED:20260107T165312Z
UID:3128-1767776400-1767805200@diversityins.com
SUMMARY:Country Club Hills Walmart
DESCRIPTION:
URL:https://diversityins.com/event/country-club-hills-walmart-30/
CATEGORIES:Member
END:VEVENT
BEGIN:VEVENT
DTSTART;TZID=America/Detroit:20260107T093000
DTEND;TZID=America/Detroit:20260107T143000
DTSTAMP:20260425T101552
CREATED:20260107T170443Z
LAST-MODIFIED:20260107T170511Z
UID:3187-1767778200-1767796200@diversityins.com
SUMMARY:Jackson Walmart
DESCRIPTION:
URL:https://diversityins.com/event/jackson-walmart-80/
CATEGORIES:Member
END:VEVENT
BEGIN:VEVENT
DTSTART;TZID=America/Detroit:20260107T100000
DTEND;TZID=America/Detroit:20260107T150000
DTSTAMP:20260425T101552
CREATED:20260107T165035Z
LAST-MODIFIED:20260107T165035Z
UID:3106-1767780000-1767798000@diversityins.com
SUMMARY:Burton Walmart
DESCRIPTION:
URL:https://diversityins.com/event/burton-walmart-77/
CATEGORIES:Member
END:VEVENT
BEGIN:VEVENT
DTSTART;TZID=America/Detroit:20260107T100000
DTEND;TZID=America/Detroit:20260107T150000
DTSTAMP:20260425T101552
CREATED:20260107T165641Z
LAST-MODIFIED:20260107T165710Z
UID:3144-1767780000-1767798000@diversityins.com
SUMMARY:Dearborn Walmart
DESCRIPTION:
URL:https://diversityins.com/event/dearborn-walmart-81/
CATEGORIES:Member
END:VEVENT
BEGIN:VEVENT
DTSTART;TZID=America/Detroit:20260107T100000
DTEND;TZID=America/Detroit:20260107T150000
DTSTAMP:20260425T101552
CREATED:20260107T170042Z
LAST-MODIFIED:20260107T170111Z
UID:3166-1767780000-1767798000@diversityins.com
SUMMARY:Flint Walmart
DESCRIPTION:
URL:https://diversityins.com/event/flint-walmart-74/
CATEGORIES:Member
END:VEVENT
BEGIN:VEVENT
DTSTART;TZID=America/Detroit:20260107T100000
DTEND;TZID=America/Detroit:20260107T150000
DTSTAMP:20260425T101552
CREATED:20260107T170744Z
LAST-MODIFIED:20260107T170812Z
UID:3203-1767780000-1767798000@diversityins.com
SUMMARY:Livonia Walmart
DESCRIPTION:
URL:https://diversityins.com/event/livonia-walmart-95/
CATEGORIES:Member
END:VEVENT
BEGIN:VEVENT
DTSTART;TZID=America/Detroit:20260108T093000
DTEND;TZID=America/Detroit:20260108T143000
DTSTAMP:20260425T101553
CREATED:20260107T170444Z
LAST-MODIFIED:20260107T170512Z
UID:3188-1767864600-1767882600@diversityins.com
SUMMARY:Jackson Walmart
DESCRIPTION:
URL:https://diversityins.com/event/jackson-walmart-81/
CATEGORIES:Member
END:VEVENT
BEGIN:VEVENT
DTSTART;TZID=America/Detroit:20260108T100000
DTEND;TZID=America/Detroit:20260108T150000
DTSTAMP:20260425T101553
CREATED:20260107T165036Z
LAST-MODIFIED:20260107T165036Z
UID:3107-1767866400-1767884400@diversityins.com
SUMMARY:Burton Walmart
DESCRIPTION:
URL:https://diversityins.com/event/burton-walmart-78/
CATEGORIES:Member
END:VEVENT
BEGIN:VEVENT
DTSTART;TZID=America/Detroit:20260108T100000
DTEND;TZID=America/Detroit:20260108T150000
DTSTAMP:20260425T101553
CREATED:20260107T165641Z
LAST-MODIFIED:20260107T165710Z
UID:3145-1767866400-1767884400@diversityins.com
SUMMARY:Dearborn Walmart
DESCRIPTION:
URL:https://diversityins.com/event/dearborn-walmart-82/
CATEGORIES:Member
END:VEVENT
BEGIN:VEVENT
DTSTART;TZID=America/Detroit:20260108T100000
DTEND;TZID=America/Detroit:20260108T150000
DTSTAMP:20260425T101553
CREATED:20260107T170043Z
LAST-MODIFIED:20260107T170111Z
UID:3167-1767866400-1767884400@diversityins.com
SUMMARY:Flint Walmart
DESCRIPTION:
URL:https://diversityins.com/event/flint-walmart-75/
CATEGORIES:Member
END:VEVENT
BEGIN:VEVENT
DTSTART;TZID=America/Detroit:20260108T100000
DTEND;TZID=America/Detroit:20260108T150000
DTSTAMP:20260425T101553
CREATED:20260107T170841Z
LAST-MODIFIED:20260107T170910Z
UID:3204-1767866400-1767884400@diversityins.com
SUMMARY:Livonia Walmart
DESCRIPTION:
URL:https://diversityins.com/event/livonia-walmart-96/
CATEGORIES:Member
END:VEVENT
BEGIN:VEVENT
DTSTART;TZID=America/Detroit:20260109T090000
DTEND;TZID=America/Detroit:20260109T130000
DTSTAMP:20260425T101553
CREATED:20260107T165341Z
LAST-MODIFIED:20260107T165410Z
UID:3129-1767949200-1767963600@diversityins.com
SUMMARY:Country Club Hills Walmart
DESCRIPTION:
URL:https://diversityins.com/event/country-club-hills-walmart-31/
CATEGORIES:Member
END:VEVENT
BEGIN:VEVENT
DTSTART;TZID=America/Detroit:20260109T090000
DTEND;TZID=America/Detroit:20260109T163000
DTSTAMP:20260425T101553
CREATED:20260107T165443Z
LAST-MODIFIED:20260107T165512Z
UID:3138-1767949200-1767976200@diversityins.com
SUMMARY:Darien Walmart
DESCRIPTION:
URL:https://diversityins.com/event/darien-walmart-48/
CATEGORIES:Member
END:VEVENT
BEGIN:VEVENT
DTSTART;TZID=America/Detroit:20260109T100000
DTEND;TZID=America/Detroit:20260109T150000
DTSTAMP:20260425T101553
CREATED:20260107T165037Z
LAST-MODIFIED:20260107T165037Z
UID:3108-1767952800-1767970800@diversityins.com
SUMMARY:Burton Walmart
DESCRIPTION:
URL:https://diversityins.com/event/burton-walmart-79/
CATEGORIES:Member
END:VEVENT
BEGIN:VEVENT
DTSTART;TZID=America/Detroit:20260109T100000
DTEND;TZID=America/Detroit:20260109T150000
DTSTAMP:20260425T101553
CREATED:20260107T165642Z
LAST-MODIFIED:20260107T165711Z
UID:3146-1767952800-1767970800@diversityins.com
SUMMARY:Dearborn Walmart
DESCRIPTION:
URL:https://diversityins.com/event/dearborn-walmart-83/
CATEGORIES:Member
END:VEVENT
BEGIN:VEVENT
DTSTART;TZID=America/Detroit:20260109T100000
DTEND;TZID=America/Detroit:20260109T150000
DTSTAMP:20260425T101553
CREATED:20260107T170043Z
LAST-MODIFIED:20260107T170112Z
UID:3168-1767952800-1767970800@diversityins.com
SUMMARY:Flint Walmart
DESCRIPTION:
URL:https://diversityins.com/event/flint-walmart-76/
CATEGORIES:Member
END:VEVENT
BEGIN:VEVENT
DTSTART;TZID=America/Detroit:20260109T100000
DTEND;TZID=America/Detroit:20260109T150000
DTSTAMP:20260425T101553
CREATED:20260107T170842Z
LAST-MODIFIED:20260107T170911Z
UID:3205-1767952800-1767970800@diversityins.com
SUMMARY:Livonia Walmart
DESCRIPTION:
URL:https://diversityins.com/event/livonia-walmart-97/
CATEGORIES:Member
END:VEVENT
END:VCALENDAR