BEGIN:VCALENDAR
VERSION:2.0
PRODID:-//Diversity Insurance Agency - ECPv6.15.20//NONSGML v1.0//EN
CALSCALE:GREGORIAN
METHOD:PUBLISH
X-ORIGINAL-URL:https://diversityins.com
X-WR-CALDESC:Events for Diversity Insurance Agency
REFRESH-INTERVAL;VALUE=DURATION:PT1H
X-Robots-Tag:noindex
X-PUBLISHED-TTL:PT1H
BEGIN:VTIMEZONE
TZID:America/Detroit
BEGIN:DAYLIGHT
TZOFFSETFROM:-0500
TZOFFSETTO:-0400
TZNAME:EDT
DTSTART:20250309T070000
END:DAYLIGHT
BEGIN:STANDARD
TZOFFSETFROM:-0400
TZOFFSETTO:-0500
TZNAME:EST
DTSTART:20251102T060000
END:STANDARD
BEGIN:DAYLIGHT
TZOFFSETFROM:-0500
TZOFFSETTO:-0400
TZNAME:EDT
DTSTART:20260308T070000
END:DAYLIGHT
BEGIN:STANDARD
TZOFFSETFROM:-0400
TZOFFSETTO:-0500
TZNAME:EST
DTSTART:20261101T060000
END:STANDARD
BEGIN:DAYLIGHT
TZOFFSETFROM:-0500
TZOFFSETTO:-0400
TZNAME:EDT
DTSTART:20270314T070000
END:DAYLIGHT
BEGIN:STANDARD
TZOFFSETFROM:-0400
TZOFFSETTO:-0500
TZNAME:EST
DTSTART:20271107T060000
END:STANDARD
END:VTIMEZONE
BEGIN:VEVENT
DTSTART;TZID=America/Detroit:20260210T150000
DTEND;TZID=America/Detroit:20260210T150000
DTSTAMP:20260425T115838
CREATED:20260128T174501Z
LAST-MODIFIED:20260209T175152Z
UID:3518-1770735600-1770735600@diversityins.com
SUMMARY:Southgate Walmart
DESCRIPTION:Have questions about Medicare or ACA plans? Visit our kiosk near the front entrance of Walmart during our scheduled hours. We’re happy to help!
URL:https://diversityins.com/event/southgate-walmart-109/
CATEGORIES:Member
END:VEVENT
BEGIN:VEVENT
DTSTART;TZID=America/Detroit:20260211T090000
DTEND;TZID=America/Detroit:20260211T150000
DTSTAMP:20260425T115838
CREATED:20260128T175705Z
LAST-MODIFIED:20260209T183450Z
UID:3574-1770800400-1770822000@diversityins.com
SUMMARY:West Branch Walmart
DESCRIPTION:Have questions about Medicare or ACA plans? Visit our kiosk near the front entrance of Walmart during our scheduled hours. We’re happy to help!
URL:https://diversityins.com/event/west-branch-walmart-99/
CATEGORIES:Member
END:VEVENT
BEGIN:VEVENT
DTSTART;TZID=America/Detroit:20260211T090000
DTEND;TZID=America/Detroit:20260211T163000
DTSTAMP:20260425T115838
CREATED:20260128T181908Z
LAST-MODIFIED:20260209T200932Z
UID:3721-1770800400-1770827400@diversityins.com
SUMMARY:Darien Walmart
DESCRIPTION:Have questions about Medicare or ACA plans? Visit our kiosk near the front entrance of Walmart during our scheduled hours. We’re happy to help!
URL:https://diversityins.com/event/darien-walmart-83/
CATEGORIES:Member
END:VEVENT
BEGIN:VEVENT
DTSTART;TZID=America/Detroit:20260211T090000
DTEND;TZID=America/Detroit:20260211T170000
DTSTAMP:20260425T115838
CREATED:20260128T181651Z
LAST-MODIFIED:20260209T200348Z
UID:3697-1770800400-1770829200@diversityins.com
SUMMARY:Country Club Hills Walmart
DESCRIPTION:Have questions about Medicare or ACA plans? Visit our kiosk near the front entrance of Walmart during our scheduled hours. We’re happy to help!
URL:https://diversityins.com/event/country-club-hills-walmart-70/
CATEGORIES:Member
END:VEVENT
BEGIN:VEVENT
DTSTART;TZID=America/Detroit:20260211T093000
DTEND;TZID=America/Detroit:20260211T143000
DTSTAMP:20260425T115838
CREATED:20260128T175205Z
LAST-MODIFIED:20260209T175952Z
UID:3541-1770802200-1770820200@diversityins.com
SUMMARY:Jackson Walmart
DESCRIPTION:Have questions about Medicare or ACA plans? Visit our kiosk near the front entrance of Walmart during our scheduled hours. We’re happy to help!
URL:https://diversityins.com/event/jackson-walmart-116/
CATEGORIES:Member
END:VEVENT
BEGIN:VEVENT
DTSTART;TZID=America/Detroit:20260211T093000
DTEND;TZID=America/Detroit:20260211T143000
DTSTAMP:20260425T115838
CREATED:20260128T175402Z
LAST-MODIFIED:20260209T180637Z
UID:3557-1770802200-1770820200@diversityins.com
SUMMARY:Monroe Walmart
DESCRIPTION:Have questions about Medicare or ACA plans? Visit our kiosk near the front entrance of Walmart during our scheduled hours. We’re happy to help!
URL:https://diversityins.com/event/monroe-walmart-104/
CATEGORIES:Member
END:VEVENT
BEGIN:VEVENT
DTSTART;TZID=America/Detroit:20260211T100000
DTEND;TZID=America/Detroit:20260211T140000
DTSTAMP:20260425T115838
CREATED:20260128T181306Z
LAST-MODIFIED:20260209T195116Z
UID:3670-1770804000-1770818400@diversityins.com
SUMMARY:Taylor Walmart
DESCRIPTION:Have questions about Medicare or ACA plans? Visit our kiosk near the front entrance of Walmart during our scheduled hours. We’re happy to help!
URL:https://diversityins.com/event/taylor-walmart-134/
CATEGORIES:Member
END:VEVENT
BEGIN:VEVENT
DTSTART;TZID=America/Detroit:20260211T100000
DTEND;TZID=America/Detroit:20260211T150000
DTSTAMP:20260425T115838
CREATED:20260128T173928Z
LAST-MODIFIED:20260209T174749Z
UID:3495-1770804000-1770822000@diversityins.com
SUMMARY:Burton Walmart
DESCRIPTION:Have questions about Medicare or ACA plans? Visit our kiosk near the front entrance of Walmart during our scheduled hours. We’re happy to help!
URL:https://diversityins.com/event/burton-walmart-130/
CATEGORIES:Member
END:VEVENT
BEGIN:VEVENT
DTSTART;TZID=America/Detroit:20260211T100000
DTEND;TZID=America/Detroit:20260211T150000
DTSTAMP:20260425T115838
CREATED:20260128T180123Z
LAST-MODIFIED:20260209T184255Z
UID:3595-1770804000-1770822000@diversityins.com
SUMMARY:Livonia Walmart
DESCRIPTION:Have questions about Medicare or ACA plans? Visit our kiosk near the front entrance of Walmart during our scheduled hours. We’re happy to help!
URL:https://diversityins.com/event/livonia-walmart-137/
CATEGORIES:Member
END:VEVENT
BEGIN:VEVENT
DTSTART;TZID=America/Detroit:20260211T100000
DTEND;TZID=America/Detroit:20260211T150000
DTSTAMP:20260425T115838
CREATED:20260128T180351Z
LAST-MODIFIED:20260209T185409Z
UID:3619-1770804000-1770822000@diversityins.com
SUMMARY:Flint Walmart
DESCRIPTION:Have questions about Medicare or ACA plans? Visit our kiosk near the front entrance of Walmart during our scheduled hours. We’re happy to help!
URL:https://diversityins.com/event/flint-walmart-125/
CATEGORIES:Member
END:VEVENT
BEGIN:VEVENT
DTSTART;TZID=America/Detroit:20260211T100000
DTEND;TZID=America/Detroit:20260211T150000
DTSTAMP:20260425T115838
CREATED:20260128T180802Z
LAST-MODIFIED:20260209T194112Z
UID:3643-1770804000-1770822000@diversityins.com
SUMMARY:Dearborn Walmart
DESCRIPTION:Have questions about Medicare or ACA plans? Visit our kiosk near the front entrance of Walmart during our scheduled hours. We’re happy to help!
URL:https://diversityins.com/event/dearborn-walmart-134/
CATEGORIES:Member
END:VEVENT
BEGIN:VEVENT
DTSTART;TZID=America/Detroit:20260211T150000
DTEND;TZID=America/Detroit:20260211T150000
DTSTAMP:20260425T115838
CREATED:20260128T174502Z
LAST-MODIFIED:20260209T175152Z
UID:3519-1770822000-1770822000@diversityins.com
SUMMARY:Southgate Walmart
DESCRIPTION:Have questions about Medicare or ACA plans? Visit our kiosk near the front entrance of Walmart during our scheduled hours. We’re happy to help!
URL:https://diversityins.com/event/southgate-walmart-110/
CATEGORIES:Member
END:VEVENT
BEGIN:VEVENT
DTSTART;TZID=America/Detroit:20260212T090000
DTEND;TZID=America/Detroit:20260212T160000
DTSTAMP:20260425T115838
CREATED:20260128T175705Z
LAST-MODIFIED:20260209T183450Z
UID:3575-1770886800-1770912000@diversityins.com
SUMMARY:West Branch Walmart
DESCRIPTION:Have questions about Medicare or ACA plans? Visit our kiosk near the front entrance of Walmart during our scheduled hours. We’re happy to help!
URL:https://diversityins.com/event/west-branch-walmart-100/
CATEGORIES:Member
END:VEVENT
BEGIN:VEVENT
DTSTART;TZID=America/Detroit:20260212T090000
DTEND;TZID=America/Detroit:20260212T160000
DTSTAMP:20260425T115838
CREATED:20260128T181652Z
LAST-MODIFIED:20260209T200348Z
UID:3698-1770886800-1770912000@diversityins.com
SUMMARY:Country Club Hills Walmart
DESCRIPTION:Have questions about Medicare or ACA plans? Visit our kiosk near the front entrance of Walmart during our scheduled hours. We’re happy to help!
URL:https://diversityins.com/event/country-club-hills-walmart-71/
CATEGORIES:Member
END:VEVENT
BEGIN:VEVENT
DTSTART;TZID=America/Detroit:20260212T090000
DTEND;TZID=America/Detroit:20260212T160000
DTSTAMP:20260425T115838
CREATED:20260128T181935Z
LAST-MODIFIED:20260209T201131Z
UID:3722-1770886800-1770912000@diversityins.com
SUMMARY:Darien Walmart
DESCRIPTION:Have questions about Medicare or ACA plans? Visit our kiosk near the front entrance of Walmart during our scheduled hours. We’re happy to help!
URL:https://diversityins.com/event/darien-walmart-84/
CATEGORIES:Member
END:VEVENT
BEGIN:VEVENT
DTSTART;TZID=America/Detroit:20260212T093000
DTEND;TZID=America/Detroit:20260212T143000
DTSTAMP:20260425T115838
CREATED:20260128T175232Z
LAST-MODIFIED:20260209T180034Z
UID:3542-1770888600-1770906600@diversityins.com
SUMMARY:Jackson Walmart
DESCRIPTION:Have questions about Medicare or ACA plans? Visit our kiosk near the front entrance of Walmart during our scheduled hours. We’re happy to help!
URL:https://diversityins.com/event/jackson-walmart-117/
CATEGORIES:Member
END:VEVENT
BEGIN:VEVENT
DTSTART;TZID=America/Detroit:20260212T093000
DTEND;TZID=America/Detroit:20260212T143000
DTSTAMP:20260425T115838
CREATED:20260128T175403Z
LAST-MODIFIED:20260209T180637Z
UID:3558-1770888600-1770906600@diversityins.com
SUMMARY:Monroe Walmart
DESCRIPTION:Have questions about Medicare or ACA plans? Visit our kiosk near the front entrance of Walmart during our scheduled hours. We’re happy to help!
URL:https://diversityins.com/event/monroe-walmart-105/
CATEGORIES:Member
END:VEVENT
BEGIN:VEVENT
DTSTART;TZID=America/Detroit:20260212T100000
DTEND;TZID=America/Detroit:20260212T140000
DTSTAMP:20260425T115838
CREATED:20260128T181307Z
LAST-MODIFIED:20260209T195116Z
UID:3671-1770890400-1770904800@diversityins.com
SUMMARY:Taylor Walmart
DESCRIPTION:Have questions about Medicare or ACA plans? Visit our kiosk near the front entrance of Walmart during our scheduled hours. We’re happy to help!
URL:https://diversityins.com/event/taylor-walmart-135/
CATEGORIES:Member
END:VEVENT
BEGIN:VEVENT
DTSTART;TZID=America/Detroit:20260212T100000
DTEND;TZID=America/Detroit:20260212T150000
DTSTAMP:20260425T115838
CREATED:20260128T173928Z
LAST-MODIFIED:20260209T174749Z
UID:3496-1770890400-1770908400@diversityins.com
SUMMARY:Burton Walmart
DESCRIPTION:Have questions about Medicare or ACA plans? Visit our kiosk near the front entrance of Walmart during our scheduled hours. We’re happy to help!
URL:https://diversityins.com/event/burton-walmart-131/
CATEGORIES:Member
END:VEVENT
BEGIN:VEVENT
DTSTART;TZID=America/Detroit:20260212T100000
DTEND;TZID=America/Detroit:20260212T150000
DTSTAMP:20260425T115838
CREATED:20260128T180123Z
LAST-MODIFIED:20260209T184255Z
UID:3596-1770890400-1770908400@diversityins.com
SUMMARY:Livonia Walmart
DESCRIPTION:Have questions about Medicare or ACA plans? Visit our kiosk near the front entrance of Walmart during our scheduled hours. We’re happy to help!
URL:https://diversityins.com/event/livonia-walmart-138/
CATEGORIES:Member
END:VEVENT
BEGIN:VEVENT
DTSTART;TZID=America/Detroit:20260212T100000
DTEND;TZID=America/Detroit:20260212T150000
DTSTAMP:20260425T115838
CREATED:20260128T180352Z
LAST-MODIFIED:20260209T185410Z
UID:3620-1770890400-1770908400@diversityins.com
SUMMARY:Flint Walmart
DESCRIPTION:Have questions about Medicare or ACA plans? Visit our kiosk near the front entrance of Walmart during our scheduled hours. We’re happy to help!
URL:https://diversityins.com/event/flint-walmart-126/
CATEGORIES:Member
END:VEVENT
BEGIN:VEVENT
DTSTART;TZID=America/Detroit:20260212T100000
DTEND;TZID=America/Detroit:20260212T150000
DTSTAMP:20260425T115838
CREATED:20260128T180803Z
LAST-MODIFIED:20260209T194112Z
UID:3644-1770890400-1770908400@diversityins.com
SUMMARY:Dearborn Walmart
DESCRIPTION:Have questions about Medicare or ACA plans? Visit our kiosk near the front entrance of Walmart during our scheduled hours. We’re happy to help!
URL:https://diversityins.com/event/dearborn-walmart-135/
CATEGORIES:Member
END:VEVENT
BEGIN:VEVENT
DTSTART;TZID=America/Detroit:20260212T150000
DTEND;TZID=America/Detroit:20260212T150000
DTSTAMP:20260425T115838
CREATED:20260128T174503Z
LAST-MODIFIED:20260209T175153Z
UID:3520-1770908400-1770908400@diversityins.com
SUMMARY:Southgate Walmart
DESCRIPTION:Have questions about Medicare or ACA plans? Visit our kiosk near the front entrance of Walmart during our scheduled hours. We’re happy to help!
URL:https://diversityins.com/event/southgate-walmart-111/
CATEGORIES:Member
END:VEVENT
BEGIN:VEVENT
DTSTART;TZID=America/Detroit:20260213T080000
DTEND;TZID=America/Detroit:20260213T180000
DTSTAMP:20260425T115838
CREATED:20260128T181653Z
LAST-MODIFIED:20260209T200348Z
UID:3699-1770969600-1771005600@diversityins.com
SUMMARY:Country Club Hills Walmart
DESCRIPTION:Have questions about Medicare or ACA plans? Visit our kiosk near the front entrance of Walmart during our scheduled hours. We’re happy to help!
URL:https://diversityins.com/event/country-club-hills-walmart-72/
CATEGORIES:Member
END:VEVENT
BEGIN:VEVENT
DTSTART;TZID=America/Detroit:20260213T090000
DTEND;TZID=America/Detroit:20260213T160000
DTSTAMP:20260425T115838
CREATED:20260128T175706Z
LAST-MODIFIED:20260209T183451Z
UID:3576-1770973200-1770998400@diversityins.com
SUMMARY:West Branch Walmart
DESCRIPTION:Have questions about Medicare or ACA plans? Visit our kiosk near the front entrance of Walmart during our scheduled hours. We’re happy to help!
URL:https://diversityins.com/event/west-branch-walmart-101/
CATEGORIES:Member
END:VEVENT
BEGIN:VEVENT
DTSTART;TZID=America/Detroit:20260213T090000
DTEND;TZID=America/Detroit:20260213T163000
DTSTAMP:20260425T115838
CREATED:20260128T181936Z
LAST-MODIFIED:20260209T201132Z
UID:3723-1770973200-1771000200@diversityins.com
SUMMARY:Darien Walmart
DESCRIPTION:Have questions about Medicare or ACA plans? Visit our kiosk near the front entrance of Walmart during our scheduled hours. We’re happy to help!
URL:https://diversityins.com/event/darien-walmart-85/
CATEGORIES:Member
END:VEVENT
BEGIN:VEVENT
DTSTART;TZID=America/Detroit:20260213T100000
DTEND;TZID=America/Detroit:20260213T140000
DTSTAMP:20260425T115838
CREATED:20260128T181421Z
LAST-MODIFIED:20260209T195650Z
UID:3672-1770976800-1770991200@diversityins.com
SUMMARY:Taylor Walmart
DESCRIPTION:Have questions about Medicare or ACA plans? Visit our kiosk near the front entrance of Walmart during our scheduled hours. We’re happy to help!
URL:https://diversityins.com/event/taylor-walmart-136/
CATEGORIES:Member
END:VEVENT
BEGIN:VEVENT
DTSTART;TZID=America/Detroit:20260213T100000
DTEND;TZID=America/Detroit:20260213T150000
DTSTAMP:20260425T115838
CREATED:20260128T173956Z
LAST-MODIFIED:20260209T174818Z
UID:3497-1770976800-1770994800@diversityins.com
SUMMARY:Burton Walmart
DESCRIPTION:Have questions about Medicare or ACA plans? Visit our kiosk near the front entrance of Walmart during our scheduled hours. We’re happy to help!
URL:https://diversityins.com/event/burton-walmart-132/
CATEGORIES:Member
END:VEVENT
BEGIN:VEVENT
DTSTART;TZID=America/Detroit:20260213T100000
DTEND;TZID=America/Detroit:20260213T150000
DTSTAMP:20260425T115838
CREATED:20260128T180150Z
LAST-MODIFIED:20260209T184453Z
UID:3597-1770976800-1770994800@diversityins.com
SUMMARY:Livonia Walmart
DESCRIPTION:Have questions about Medicare or ACA plans? Visit our kiosk near the front entrance of Walmart during our scheduled hours. We’re happy to help!
URL:https://diversityins.com/event/livonia-walmart-139/
CATEGORIES:Member
END:VEVENT
BEGIN:VEVENT
DTSTART;TZID=America/Detroit:20260213T100000
DTEND;TZID=America/Detroit:20260213T150000
DTSTAMP:20260425T115838
CREATED:20260128T180352Z
LAST-MODIFIED:20260209T185410Z
UID:3621-1770976800-1770994800@diversityins.com
SUMMARY:Flint Walmart
DESCRIPTION:Have questions about Medicare or ACA plans? Visit our kiosk near the front entrance of Walmart during our scheduled hours. We’re happy to help!
URL:https://diversityins.com/event/flint-walmart-127/
CATEGORIES:Member
END:VEVENT
END:VCALENDAR