BEGIN:VCALENDAR
VERSION:2.0
PRODID:-//Diversity Insurance Agency - ECPv6.15.20//NONSGML v1.0//EN
CALSCALE:GREGORIAN
METHOD:PUBLISH
X-ORIGINAL-URL:https://diversityins.com
X-WR-CALDESC:Events for Diversity Insurance Agency
REFRESH-INTERVAL;VALUE=DURATION:PT1H
X-Robots-Tag:noindex
X-PUBLISHED-TTL:PT1H
BEGIN:VTIMEZONE
TZID:America/Detroit
BEGIN:DAYLIGHT
TZOFFSETFROM:-0500
TZOFFSETTO:-0400
TZNAME:EDT
DTSTART:20250309T070000
END:DAYLIGHT
BEGIN:STANDARD
TZOFFSETFROM:-0400
TZOFFSETTO:-0500
TZNAME:EST
DTSTART:20251102T060000
END:STANDARD
BEGIN:DAYLIGHT
TZOFFSETFROM:-0500
TZOFFSETTO:-0400
TZNAME:EDT
DTSTART:20260308T070000
END:DAYLIGHT
BEGIN:STANDARD
TZOFFSETFROM:-0400
TZOFFSETTO:-0500
TZNAME:EST
DTSTART:20261101T060000
END:STANDARD
BEGIN:DAYLIGHT
TZOFFSETFROM:-0500
TZOFFSETTO:-0400
TZNAME:EDT
DTSTART:20270314T070000
END:DAYLIGHT
BEGIN:STANDARD
TZOFFSETFROM:-0400
TZOFFSETTO:-0500
TZNAME:EST
DTSTART:20271107T060000
END:STANDARD
END:VTIMEZONE
BEGIN:VEVENT
DTSTART;TZID=America/Detroit:20260218T100000
DTEND;TZID=America/Detroit:20260218T150000
DTSTAMP:20260425T120008
CREATED:20260128T180153Z
LAST-MODIFIED:20260209T184455Z
UID:3601-1771408800-1771426800@diversityins.com
SUMMARY:Livonia Walmart
DESCRIPTION:Have questions about Medicare or ACA plans? Visit our kiosk near the front entrance of Walmart during our scheduled hours. We’re happy to help!
URL:https://diversityins.com/event/livonia-walmart-143/
CATEGORIES:Member
END:VEVENT
BEGIN:VEVENT
DTSTART;TZID=America/Detroit:20260218T100000
DTEND;TZID=America/Detroit:20260218T150000
DTSTAMP:20260425T120008
CREATED:20260128T180422Z
LAST-MODIFIED:20260209T185624Z
UID:3625-1771408800-1771426800@diversityins.com
SUMMARY:Flint Walmart
DESCRIPTION:Have questions about Medicare or ACA plans? Visit our kiosk near the front entrance of Walmart during our scheduled hours. We’re happy to help!
URL:https://diversityins.com/event/flint-walmart-131/
CATEGORIES:Member
END:VEVENT
BEGIN:VEVENT
DTSTART;TZID=America/Detroit:20260218T100000
DTEND;TZID=America/Detroit:20260218T150000
DTSTAMP:20260425T120008
CREATED:20260128T180833Z
LAST-MODIFIED:20260209T194310Z
UID:3649-1771408800-1771426800@diversityins.com
SUMMARY:Dearborn Walmart
DESCRIPTION:Have questions about Medicare or ACA plans? Visit our kiosk near the front entrance of Walmart during our scheduled hours. We’re happy to help!
URL:https://diversityins.com/event/dearborn-walmart-140/
CATEGORIES:Member
END:VEVENT
BEGIN:VEVENT
DTSTART;TZID=America/Detroit:20260218T150000
DTEND;TZID=America/Detroit:20260218T150000
DTSTAMP:20260425T120008
CREATED:20260128T174703Z
LAST-MODIFIED:20260209T175350Z
UID:3525-1771426800-1771426800@diversityins.com
SUMMARY:Southgate Walmart
DESCRIPTION:Have questions about Medicare or ACA plans? Visit our kiosk near the front entrance of Walmart during our scheduled hours. We’re happy to help!
URL:https://diversityins.com/event/southgate-walmart-116/
CATEGORIES:Member
END:VEVENT
BEGIN:VEVENT
DTSTART;TZID=America/Detroit:20260219T090000
DTEND;TZID=America/Detroit:20260219T160000
DTSTAMP:20260425T120008
CREATED:20260128T175734Z
LAST-MODIFIED:20260209T183650Z
UID:3580-1771491600-1771516800@diversityins.com
SUMMARY:West Branch Walmart
DESCRIPTION:Have questions about Medicare or ACA plans? Visit our kiosk near the front entrance of Walmart during our scheduled hours. We’re happy to help!
URL:https://diversityins.com/event/west-branch-walmart-105/
CATEGORIES:Member
END:VEVENT
BEGIN:VEVENT
DTSTART;TZID=America/Detroit:20260219T090000
DTEND;TZID=America/Detroit:20260219T170000
DTSTAMP:20260425T120008
CREATED:20260128T181723Z
LAST-MODIFIED:20260209T200549Z
UID:3704-1771491600-1771520400@diversityins.com
SUMMARY:Country Club Hills Walmart
DESCRIPTION:Have questions about Medicare or ACA plans? Visit our kiosk near the front entrance of Walmart during our scheduled hours. We’re happy to help!
URL:https://diversityins.com/event/country-club-hills-walmart-77/
CATEGORIES:Member
END:VEVENT
BEGIN:VEVENT
DTSTART;TZID=America/Detroit:20260219T093000
DTEND;TZID=America/Detroit:20260219T143000
DTSTAMP:20260425T120008
CREATED:20260128T175235Z
LAST-MODIFIED:20260209T180036Z
UID:3546-1771493400-1771511400@diversityins.com
SUMMARY:Jackson Walmart
DESCRIPTION:Have questions about Medicare or ACA plans? Visit our kiosk near the front entrance of Walmart during our scheduled hours. We’re happy to help!
URL:https://diversityins.com/event/jackson-walmart-121/
CATEGORIES:Member
END:VEVENT
BEGIN:VEVENT
DTSTART;TZID=America/Detroit:20260219T093000
DTEND;TZID=America/Detroit:20260219T143000
DTSTAMP:20260425T120008
CREATED:20260128T175432Z
LAST-MODIFIED:20260209T180836Z
UID:3562-1771493400-1771511400@diversityins.com
SUMMARY:Monroe Walmart
DESCRIPTION:Have questions about Medicare or ACA plans? Visit our kiosk near the front entrance of Walmart during our scheduled hours. We’re happy to help!
URL:https://diversityins.com/event/monroe-walmart-109/
CATEGORIES:Member
END:VEVENT
BEGIN:VEVENT
DTSTART;TZID=America/Detroit:20260219T100000
DTEND;TZID=America/Detroit:20260219T150000
DTSTAMP:20260425T120008
CREATED:20260128T174026Z
LAST-MODIFIED:20260209T174931Z
UID:3502-1771495200-1771513200@diversityins.com
SUMMARY:Burton Walmart
DESCRIPTION:Have questions about Medicare or ACA plans? Visit our kiosk near the front entrance of Walmart during our scheduled hours. We’re happy to help!
URL:https://diversityins.com/event/burton-walmart-137/
CATEGORIES:Member
END:VEVENT
BEGIN:VEVENT
DTSTART;TZID=America/Detroit:20260219T100000
DTEND;TZID=America/Detroit:20260219T150000
DTSTAMP:20260425T120008
CREATED:20260128T180220Z
LAST-MODIFIED:20260209T185112Z
UID:3602-1771495200-1771513200@diversityins.com
SUMMARY:Livonia Walmart
DESCRIPTION:Have questions about Medicare or ACA plans? Visit our kiosk near the front entrance of Walmart during our scheduled hours. We’re happy to help!
URL:https://diversityins.com/event/livonia-walmart-144/
CATEGORIES:Member
END:VEVENT
BEGIN:VEVENT
DTSTART;TZID=America/Detroit:20260219T100000
DTEND;TZID=America/Detroit:20260219T150000
DTSTAMP:20260425T120008
CREATED:20260128T180423Z
LAST-MODIFIED:20260209T185624Z
UID:3626-1771495200-1771513200@diversityins.com
SUMMARY:Flint Walmart
DESCRIPTION:Have questions about Medicare or ACA plans? Visit our kiosk near the front entrance of Walmart during our scheduled hours. We’re happy to help!
URL:https://diversityins.com/event/flint-walmart-132/
CATEGORIES:Member
END:VEVENT
BEGIN:VEVENT
DTSTART;TZID=America/Detroit:20260219T100000
DTEND;TZID=America/Detroit:20260219T150000
DTSTAMP:20260425T120008
CREATED:20260128T180834Z
LAST-MODIFIED:20260209T194310Z
UID:3650-1771495200-1771513200@diversityins.com
SUMMARY:Dearborn Walmart
DESCRIPTION:Have questions about Medicare or ACA plans? Visit our kiosk near the front entrance of Walmart during our scheduled hours. We’re happy to help!
URL:https://diversityins.com/event/dearborn-walmart-141/
CATEGORIES:Member
END:VEVENT
BEGIN:VEVENT
DTSTART;TZID=America/Detroit:20260219T100000
DTEND;TZID=America/Detroit:20260219T150000
DTSTAMP:20260425T120008
CREATED:20260128T181452Z
LAST-MODIFIED:20260209T195717Z
UID:3679-1771495200-1771513200@diversityins.com
SUMMARY:Taylor Walmart
DESCRIPTION:Have questions about Medicare or ACA plans? Visit our kiosk near the front entrance of Walmart during our scheduled hours. We’re happy to help!
URL:https://diversityins.com/event/taylor-walmart-143/
CATEGORIES:Member
END:VEVENT
BEGIN:VEVENT
DTSTART;TZID=America/Detroit:20260219T100000
DTEND;TZID=America/Detroit:20260219T150000
DTSTAMP:20260425T120008
CREATED:20260128T182007Z
LAST-MODIFIED:20260209T201331Z
UID:3728-1771495200-1771513200@diversityins.com
SUMMARY:Darien Walmart
DESCRIPTION:Have questions about Medicare or ACA plans? Visit our kiosk near the front entrance of Walmart during our scheduled hours. We’re happy to help!
URL:https://diversityins.com/event/darien-walmart-90/
CATEGORIES:Member
END:VEVENT
BEGIN:VEVENT
DTSTART;TZID=America/Detroit:20260219T150000
DTEND;TZID=America/Detroit:20260219T150000
DTSTAMP:20260425T120008
CREATED:20260128T174703Z
LAST-MODIFIED:20260209T175350Z
UID:3526-1771513200-1771513200@diversityins.com
SUMMARY:Southgate Walmart
DESCRIPTION:Have questions about Medicare or ACA plans? Visit our kiosk near the front entrance of Walmart during our scheduled hours. We’re happy to help!
URL:https://diversityins.com/event/southgate-walmart-117/
CATEGORIES:Member
END:VEVENT
BEGIN:VEVENT
DTSTART;TZID=America/Detroit:20260220T090000
DTEND;TZID=America/Detroit:20260220T130000
DTSTAMP:20260425T120008
CREATED:20260128T181724Z
LAST-MODIFIED:20260209T200550Z
UID:3705-1771578000-1771592400@diversityins.com
SUMMARY:Country Club Hills Walmart
DESCRIPTION:Have questions about Medicare or ACA plans? Visit our kiosk near the front entrance of Walmart during our scheduled hours. We’re happy to help!
URL:https://diversityins.com/event/country-club-hills-walmart-78/
CATEGORIES:Member
END:VEVENT
BEGIN:VEVENT
DTSTART;TZID=America/Detroit:20260220T090000
DTEND;TZID=America/Detroit:20260220T150000
DTSTAMP:20260425T120008
CREATED:20260128T175735Z
LAST-MODIFIED:20260209T183651Z
UID:3581-1771578000-1771599600@diversityins.com
SUMMARY:West Branch Walmart
DESCRIPTION:Have questions about Medicare or ACA plans? Visit our kiosk near the front entrance of Walmart during our scheduled hours. We’re happy to help!
URL:https://diversityins.com/event/west-branch-walmart-106/
CATEGORIES:Member
END:VEVENT
BEGIN:VEVENT
DTSTART;TZID=America/Detroit:20260220T090000
DTEND;TZID=America/Detroit:20260220T160000
DTSTAMP:20260425T120008
CREATED:20260128T182007Z
LAST-MODIFIED:20260209T201331Z
UID:3729-1771578000-1771603200@diversityins.com
SUMMARY:Darien Walmart
DESCRIPTION:Have questions about Medicare or ACA plans? Visit our kiosk near the front entrance of Walmart during our scheduled hours. We’re happy to help!
URL:https://diversityins.com/event/darien-walmart-91/
CATEGORIES:Member
END:VEVENT
BEGIN:VEVENT
DTSTART;TZID=America/Detroit:20260220T100000
DTEND;TZID=America/Detroit:20260220T140000
DTSTAMP:20260425T120008
CREATED:20260128T181453Z
LAST-MODIFIED:20260209T195718Z
UID:3680-1771581600-1771596000@diversityins.com
SUMMARY:Taylor Walmart
DESCRIPTION:Have questions about Medicare or ACA plans? Visit our kiosk near the front entrance of Walmart during our scheduled hours. We’re happy to help!
URL:https://diversityins.com/event/taylor-walmart-144/
CATEGORIES:Member
END:VEVENT
BEGIN:VEVENT
DTSTART;TZID=America/Detroit:20260220T100000
DTEND;TZID=America/Detroit:20260220T150000
DTSTAMP:20260425T120008
CREATED:20260128T174026Z
LAST-MODIFIED:20260209T174931Z
UID:3503-1771581600-1771599600@diversityins.com
SUMMARY:Burton Walmart
DESCRIPTION:Have questions about Medicare or ACA plans? Visit our kiosk near the front entrance of Walmart during our scheduled hours. We’re happy to help!
URL:https://diversityins.com/event/burton-walmart-138/
CATEGORIES:Member
END:VEVENT
BEGIN:VEVENT
DTSTART;TZID=America/Detroit:20260220T100000
DTEND;TZID=America/Detroit:20260220T150000
DTSTAMP:20260425T120008
CREATED:20260128T180221Z
LAST-MODIFIED:20260209T185113Z
UID:3603-1771581600-1771599600@diversityins.com
SUMMARY:Livonia Walmart
DESCRIPTION:Have questions about Medicare or ACA plans? Visit our kiosk near the front entrance of Walmart during our scheduled hours. We’re happy to help!
URL:https://diversityins.com/event/livonia-walmart-145/
CATEGORIES:Member
END:VEVENT
BEGIN:VEVENT
DTSTART;TZID=America/Detroit:20260220T100000
DTEND;TZID=America/Detroit:20260220T150000
DTSTAMP:20260425T120008
CREATED:20260128T180517Z
LAST-MODIFIED:20260209T185810Z
UID:3627-1771581600-1771599600@diversityins.com
SUMMARY:Flint Walmart
DESCRIPTION:Have questions about Medicare or ACA plans? Visit our kiosk near the front entrance of Walmart during our scheduled hours. We’re happy to help!
URL:https://diversityins.com/event/flint-walmart-133/
CATEGORIES:Member
END:VEVENT
BEGIN:VEVENT
DTSTART;TZID=America/Detroit:20260220T100000
DTEND;TZID=America/Detroit:20260220T150000
DTSTAMP:20260425T120008
CREATED:20260128T180835Z
LAST-MODIFIED:20260209T194310Z
UID:3651-1771581600-1771599600@diversityins.com
SUMMARY:Dearborn Walmart
DESCRIPTION:Have questions about Medicare or ACA plans? Visit our kiosk near the front entrance of Walmart during our scheduled hours. We’re happy to help!
URL:https://diversityins.com/event/dearborn-walmart-142/
CATEGORIES:Member
END:VEVENT
BEGIN:VEVENT
DTSTART;TZID=America/Detroit:20260220T150000
DTEND;TZID=America/Detroit:20260220T150000
DTSTAMP:20260425T120008
CREATED:20260128T174900Z
LAST-MODIFIED:20260209T175548Z
UID:3527-1771599600-1771599600@diversityins.com
SUMMARY:Southgate Walmart
DESCRIPTION:Have questions about Medicare or ACA plans? Visit our kiosk near the front entrance of Walmart during our scheduled hours. We’re happy to help!
URL:https://diversityins.com/event/southgate-walmart-118/
CATEGORIES:Member
END:VEVENT
BEGIN:VEVENT
DTSTART;TZID=America/Detroit:20260221T090000
DTEND;TZID=America/Detroit:20260221T160000
DTSTAMP:20260425T120008
CREATED:20260128T181453Z
LAST-MODIFIED:20260209T195718Z
UID:3681-1771664400-1771689600@diversityins.com
SUMMARY:Taylor Walmart
DESCRIPTION:Have questions about Medicare or ACA plans? Visit our kiosk near the front entrance of Walmart during our scheduled hours. We’re happy to help!
URL:https://diversityins.com/event/taylor-walmart-145/
CATEGORIES:Member
END:VEVENT
BEGIN:VEVENT
DTSTART;TZID=America/Detroit:20260221T090000
DTEND;TZID=America/Detroit:20260221T160000
DTSTAMP:20260425T120008
CREATED:20260128T181725Z
LAST-MODIFIED:20260209T200550Z
UID:3706-1771664400-1771689600@diversityins.com
SUMMARY:Country Club Hills Walmart
DESCRIPTION:Have questions about Medicare or ACA plans? Visit our kiosk near the front entrance of Walmart during our scheduled hours. We’re happy to help!
URL:https://diversityins.com/event/country-club-hills-walmart-79/
CATEGORIES:Member
END:VEVENT
BEGIN:VEVENT
DTSTART;TZID=America/Detroit:20260221T090000
DTEND;TZID=America/Detroit:20260221T173000
DTSTAMP:20260425T120008
CREATED:20260128T182008Z
LAST-MODIFIED:20260209T201332Z
UID:3730-1771664400-1771695000@diversityins.com
SUMMARY:Darien Walmart
DESCRIPTION:Have questions about Medicare or ACA plans? Visit our kiosk near the front entrance of Walmart during our scheduled hours. We’re happy to help!
URL:https://diversityins.com/event/darien-walmart-92/
CATEGORIES:Member
END:VEVENT
BEGIN:VEVENT
DTSTART;TZID=America/Detroit:20260221T100000
DTEND;TZID=America/Detroit:20260221T140000
DTSTAMP:20260425T120008
CREATED:20260128T174027Z
LAST-MODIFIED:20260209T174931Z
UID:3504-1771668000-1771682400@diversityins.com
SUMMARY:Burton Walmart
DESCRIPTION:Have questions about Medicare or ACA plans? Visit our kiosk near the front entrance of Walmart during our scheduled hours. We’re happy to help!
URL:https://diversityins.com/event/burton-walmart-139/
CATEGORIES:Member
END:VEVENT
BEGIN:VEVENT
DTSTART;TZID=America/Detroit:20260221T100000
DTEND;TZID=America/Detroit:20260221T140000
DTSTAMP:20260425T120008
CREATED:20260128T180221Z
LAST-MODIFIED:20260209T185113Z
UID:3604-1771668000-1771682400@diversityins.com
SUMMARY:Livonia Walmart
DESCRIPTION:Have questions about Medicare or ACA plans? Visit our kiosk near the front entrance of Walmart during our scheduled hours. We’re happy to help!
URL:https://diversityins.com/event/livonia-walmart-146/
CATEGORIES:Member
END:VEVENT
BEGIN:VEVENT
DTSTART;TZID=America/Detroit:20260221T100000
DTEND;TZID=America/Detroit:20260221T140000
DTSTAMP:20260425T120008
CREATED:20260128T180518Z
LAST-MODIFIED:20260209T185810Z
UID:3628-1771668000-1771682400@diversityins.com
SUMMARY:Flint Walmart
DESCRIPTION:Have questions about Medicare or ACA plans? Visit our kiosk near the front entrance of Walmart during our scheduled hours. We’re happy to help!
URL:https://diversityins.com/event/flint-walmart-134/
CATEGORIES:Member
END:VEVENT
END:VCALENDAR