BEGIN:VCALENDAR
VERSION:2.0
PRODID:-//Diversity Insurance Agency - ECPv6.15.20//NONSGML v1.0//EN
CALSCALE:GREGORIAN
METHOD:PUBLISH
X-WR-CALNAME:Diversity Insurance Agency
X-ORIGINAL-URL:https://diversityins.com
X-WR-CALDESC:Events for Diversity Insurance Agency
REFRESH-INTERVAL;VALUE=DURATION:PT1H
X-Robots-Tag:noindex
X-PUBLISHED-TTL:PT1H
BEGIN:VTIMEZONE
TZID:America/Detroit
BEGIN:DAYLIGHT
TZOFFSETFROM:-0500
TZOFFSETTO:-0400
TZNAME:EDT
DTSTART:20250309T070000
END:DAYLIGHT
BEGIN:STANDARD
TZOFFSETFROM:-0400
TZOFFSETTO:-0500
TZNAME:EST
DTSTART:20251102T060000
END:STANDARD
BEGIN:DAYLIGHT
TZOFFSETFROM:-0500
TZOFFSETTO:-0400
TZNAME:EDT
DTSTART:20260308T070000
END:DAYLIGHT
BEGIN:STANDARD
TZOFFSETFROM:-0400
TZOFFSETTO:-0500
TZNAME:EST
DTSTART:20261101T060000
END:STANDARD
BEGIN:DAYLIGHT
TZOFFSETFROM:-0500
TZOFFSETTO:-0400
TZNAME:EDT
DTSTART:20270314T070000
END:DAYLIGHT
BEGIN:STANDARD
TZOFFSETFROM:-0400
TZOFFSETTO:-0500
TZNAME:EST
DTSTART:20271107T060000
END:STANDARD
END:VTIMEZONE
BEGIN:VEVENT
DTSTART;TZID=America/Detroit:20260302T100000
DTEND;TZID=America/Detroit:20260302T150000
DTSTAMP:20260425T103127
CREATED:20260224T143608Z
LAST-MODIFIED:20260224T143608Z
UID:3885-1772445600-1772463600@diversityins.com
SUMMARY:Flint Walmart
DESCRIPTION:Have questions about Medicare or ACA plans? Visit our kiosk near the front entrance of Walmart during our scheduled hours. We’re happy to help!
URL:https://diversityins.com/event/flint-walmart-141/
CATEGORIES:Member
END:VEVENT
BEGIN:VEVENT
DTSTART;TZID=America/Detroit:20260302T100000
DTEND;TZID=America/Detroit:20260302T150000
DTSTAMP:20260425T103127
CREATED:20260224T143338Z
LAST-MODIFIED:20260224T143338Z
UID:3860-1772445600-1772463600@diversityins.com
SUMMARY:Livonia Walmart
DESCRIPTION:Have questions about Medicare or ACA plans? Visit our kiosk near the front entrance of Walmart during our scheduled hours. We’re happy to help!
URL:https://diversityins.com/event/livonia-walmart-153/
CATEGORIES:Member
END:VEVENT
BEGIN:VEVENT
DTSTART;TZID=America/Detroit:20260302T100000
DTEND;TZID=America/Detroit:20260302T150000
DTSTAMP:20260425T103127
CREATED:20260224T142535Z
LAST-MODIFIED:20260224T142535Z
UID:3791-1772445600-1772463600@diversityins.com
SUMMARY:Southgate Walmart
DESCRIPTION:Have questions about Medicare or ACA plans? Visit our kiosk near the front entrance of Walmart during our scheduled hours. We’re happy to help!
URL:https://diversityins.com/event/southgate-walmart-126/
CATEGORIES:Member
END:VEVENT
BEGIN:VEVENT
DTSTART;TZID=America/Detroit:20260302T100000
DTEND;TZID=America/Detroit:20260302T150000
DTSTAMP:20260425T103127
CREATED:20260224T141935Z
LAST-MODIFIED:20260224T141935Z
UID:3764-1772445600-1772463600@diversityins.com
SUMMARY:Burton Walmart
DESCRIPTION:Have questions about Medicare or ACA plans? Visit our kiosk near the front entrance of Walmart during our scheduled hours. We’re happy to help!
URL:https://diversityins.com/event/burton-walmart-146/
CATEGORIES:Member
END:VEVENT
BEGIN:VEVENT
DTSTART;TZID=America/Detroit:20260302T093000
DTEND;TZID=America/Detroit:20260302T143000
DTSTAMP:20260425T103127
CREATED:20260224T142848Z
LAST-MODIFIED:20260224T142848Z
UID:3836-1772443800-1772461800@diversityins.com
SUMMARY:Monroe Walmart
DESCRIPTION:Have questions about Medicare or ACA plans? Visit our kiosk near the front entrance of Walmart during our scheduled hours. We’re happy to help!
URL:https://diversityins.com/event/monroe-walmart-120/
CATEGORIES:Member
END:VEVENT
BEGIN:VEVENT
DTSTART;TZID=America/Detroit:20260302T093000
DTEND;TZID=America/Detroit:20260302T143000
DTSTAMP:20260425T103127
CREATED:20260224T142754Z
LAST-MODIFIED:20260224T142754Z
UID:3818-1772443800-1772461800@diversityins.com
SUMMARY:Jackson Walmart
DESCRIPTION:Have questions about Medicare or ACA plans? Visit our kiosk near the front entrance of Walmart during our scheduled hours. We’re happy to help!
URL:https://diversityins.com/event/jackson-walmart-126/
CATEGORIES:Member
END:VEVENT
BEGIN:VEVENT
DTSTART;TZID=America/Detroit:20260302T090000
DTEND;TZID=America/Detroit:20260302T190000
DTSTAMP:20260425T103127
CREATED:20260224T144338Z
LAST-MODIFIED:20260224T144338Z
UID:3960-1772442000-1772478000@diversityins.com
SUMMARY:Country Club Hills Walmart
DESCRIPTION:Have questions about Medicare or ACA plans? Visit our kiosk near the front entrance of Walmart during our scheduled hours. We’re happy to help!
URL:https://diversityins.com/event/country-club-hills-walmart-86/
CATEGORIES:Member
END:VEVENT
BEGIN:VEVENT
DTSTART;TZID=America/Detroit:20260302T090000
DTEND;TZID=America/Detroit:20260302T163000
DTSTAMP:20260425T103127
CREATED:20260224T144608Z
LAST-MODIFIED:20260224T144608Z
UID:3986-1772442000-1772469000@diversityins.com
SUMMARY:Darien Walmart
DESCRIPTION:Have questions about Medicare or ACA plans? Visit our kiosk near the front entrance of Walmart during our scheduled hours. We’re happy to help!
URL:https://diversityins.com/event/darien-walmart-100/
CATEGORIES:Member
END:VEVENT
BEGIN:VEVENT
DTSTART;TZID=America/Detroit:20260301T110000
DTEND;TZID=America/Detroit:20260301T150000
DTSTAMP:20260425T103127
CREATED:20260224T144107Z
LAST-MODIFIED:20260224T144107Z
UID:3933-1772362800-1772377200@diversityins.com
SUMMARY:Taylor Walmart
DESCRIPTION:Have questions about Medicare or ACA plans? Visit our kiosk near the front entrance of Walmart during our scheduled hours. We’re happy to help!
URL:https://diversityins.com/event/taylor-walmart-153/
CATEGORIES:Member
END:VEVENT
BEGIN:VEVENT
DTSTART;TZID=America/Detroit:20260228T140000
DTEND;TZID=America/Detroit:20260228T140000
DTSTAMP:20260425T103127
CREATED:20260128T175104Z
LAST-MODIFIED:20260209T175749Z
UID:3534-1772287200-1772287200@diversityins.com
SUMMARY:Southgate Walmart
DESCRIPTION:Have questions about Medicare or ACA plans? Visit our kiosk near the front entrance of Walmart during our scheduled hours. We’re happy to help!
URL:https://diversityins.com/event/southgate-walmart-125/
CATEGORIES:Member
END:VEVENT
BEGIN:VEVENT
DTSTART;TZID=America/Detroit:20260228T110000
DTEND;TZID=America/Detroit:20260228T150000
DTSTAMP:20260425T103127
CREATED:20260128T181552Z
LAST-MODIFIED:20260209T200119Z
UID:3688-1772276400-1772290800@diversityins.com
SUMMARY:Taylor Walmart
DESCRIPTION:Have questions about Medicare or ACA plans? Visit our kiosk near the front entrance of Walmart during our scheduled hours. We’re happy to help!
URL:https://diversityins.com/event/taylor-walmart-152/
CATEGORIES:Member
END:VEVENT
BEGIN:VEVENT
DTSTART;TZID=America/Detroit:20260228T100000
DTEND;TZID=America/Detroit:20260228T183000
DTSTAMP:20260425T103127
CREATED:20260128T182109Z
LAST-MODIFIED:20260209T202033Z
UID:3737-1772272800-1772303400@diversityins.com
SUMMARY:Darien Walmart
DESCRIPTION:Have questions about Medicare or ACA plans? Visit our kiosk near the front entrance of Walmart during our scheduled hours. We’re happy to help!
URL:https://diversityins.com/event/darien-walmart-99/
CATEGORIES:Member
END:VEVENT
BEGIN:VEVENT
DTSTART;TZID=America/Detroit:20260228T100000
DTEND;TZID=America/Detroit:20260228T140000
DTSTAMP:20260425T103127
CREATED:20260128T181034Z
LAST-MODIFIED:20260209T194712Z
UID:3658-1772272800-1772287200@diversityins.com
SUMMARY:Dearborn Walmart
DESCRIPTION:Have questions about Medicare or ACA plans? Visit our kiosk near the front entrance of Walmart during our scheduled hours. We’re happy to help!
URL:https://diversityins.com/event/dearborn-walmart-149/
CATEGORIES:Member
END:VEVENT
BEGIN:VEVENT
DTSTART;TZID=America/Detroit:20260228T100000
DTEND;TZID=America/Detroit:20260228T140000
DTSTAMP:20260425T103127
CREATED:20260128T180716Z
LAST-MODIFIED:20260209T190012Z
UID:3634-1772272800-1772287200@diversityins.com
SUMMARY:Flint Walmart
DESCRIPTION:Have questions about Medicare or ACA plans? Visit our kiosk near the front entrance of Walmart during our scheduled hours. We’re happy to help!
URL:https://diversityins.com/event/flint-walmart-140/
CATEGORIES:Member
END:VEVENT
BEGIN:VEVENT
DTSTART;TZID=America/Detroit:20260228T100000
DTEND;TZID=America/Detroit:20260228T140000
DTSTAMP:20260425T103127
CREATED:20260128T180252Z
LAST-MODIFIED:20260209T185141Z
UID:3610-1772272800-1772287200@diversityins.com
SUMMARY:Livonia Walmart
DESCRIPTION:Have questions about Medicare or ACA plans? Visit our kiosk near the front entrance of Walmart during our scheduled hours. We’re happy to help!
URL:https://diversityins.com/event/livonia-walmart-152/
CATEGORIES:Member
END:VEVENT
BEGIN:VEVENT
DTSTART;TZID=America/Detroit:20260228T100000
DTEND;TZID=America/Detroit:20260228T140000
DTSTAMP:20260425T103127
CREATED:20260128T174058Z
LAST-MODIFIED:20260209T175002Z
UID:3510-1772272800-1772287200@diversityins.com
SUMMARY:Burton Walmart
DESCRIPTION:Have questions about Medicare or ACA plans? Visit our kiosk near the front entrance of Walmart during our scheduled hours. We’re happy to help!
URL:https://diversityins.com/event/burton-walmart-145/
CATEGORIES:Member
END:VEVENT
BEGIN:VEVENT
DTSTART;TZID=America/Detroit:20260228T090000
DTEND;TZID=America/Detroit:20260228T160000
DTSTAMP:20260425T103127
CREATED:20260128T181835Z
LAST-MODIFIED:20260209T200729Z
UID:3712-1772269200-1772294400@diversityins.com
SUMMARY:Country Club Hills Walmart
DESCRIPTION:Have questions about Medicare or ACA plans? Visit our kiosk near the front entrance of Walmart during our scheduled hours. We’re happy to help!
URL:https://diversityins.com/event/country-club-hills-walmart-85/
CATEGORIES:Member
END:VEVENT
BEGIN:VEVENT
DTSTART;TZID=America/Detroit:20260227T150000
DTEND;TZID=America/Detroit:20260227T150000
DTSTAMP:20260425T103127
CREATED:20260128T175103Z
LAST-MODIFIED:20260209T175748Z
UID:3533-1772204400-1772204400@diversityins.com
SUMMARY:Southgate Walmart
DESCRIPTION:Have questions about Medicare or ACA plans? Visit our kiosk near the front entrance of Walmart during our scheduled hours. We’re happy to help!
URL:https://diversityins.com/event/southgate-walmart-124/
CATEGORIES:Member
END:VEVENT
BEGIN:VEVENT
DTSTART;TZID=America/Detroit:20260227T100000
DTEND;TZID=America/Detroit:20260227T150000
DTSTAMP:20260425T103127
CREATED:20260128T181033Z
LAST-MODIFIED:20260209T194711Z
UID:3657-1772186400-1772204400@diversityins.com
SUMMARY:Dearborn Walmart
DESCRIPTION:Have questions about Medicare or ACA plans? Visit our kiosk near the front entrance of Walmart during our scheduled hours. We’re happy to help!
URL:https://diversityins.com/event/dearborn-walmart-148/
CATEGORIES:Member
END:VEVENT
BEGIN:VEVENT
DTSTART;TZID=America/Detroit:20260227T100000
DTEND;TZID=America/Detroit:20260227T150000
DTSTAMP:20260425T103127
CREATED:20260128T180716Z
LAST-MODIFIED:20260209T190011Z
UID:3633-1772186400-1772204400@diversityins.com
SUMMARY:Flint Walmart
DESCRIPTION:Have questions about Medicare or ACA plans? Visit our kiosk near the front entrance of Walmart during our scheduled hours. We’re happy to help!
URL:https://diversityins.com/event/flint-walmart-139/
CATEGORIES:Member
END:VEVENT
BEGIN:VEVENT
DTSTART;TZID=America/Detroit:20260227T100000
DTEND;TZID=America/Detroit:20260227T150000
DTSTAMP:20260425T103127
CREATED:20260128T180252Z
LAST-MODIFIED:20260209T185140Z
UID:3609-1772186400-1772204400@diversityins.com
SUMMARY:Livonia Walmart
DESCRIPTION:Have questions about Medicare or ACA plans? Visit our kiosk near the front entrance of Walmart during our scheduled hours. We’re happy to help!
URL:https://diversityins.com/event/livonia-walmart-151/
CATEGORIES:Member
END:VEVENT
BEGIN:VEVENT
DTSTART;TZID=America/Detroit:20260227T100000
DTEND;TZID=America/Detroit:20260227T150000
DTSTAMP:20260425T103127
CREATED:20260128T174058Z
LAST-MODIFIED:20260209T175001Z
UID:3509-1772186400-1772204400@diversityins.com
SUMMARY:Burton Walmart
DESCRIPTION:Have questions about Medicare or ACA plans? Visit our kiosk near the front entrance of Walmart during our scheduled hours. We’re happy to help!
URL:https://diversityins.com/event/burton-walmart-144/
CATEGORIES:Member
END:VEVENT
BEGIN:VEVENT
DTSTART;TZID=America/Detroit:20260227T100000
DTEND;TZID=America/Detroit:20260227T140000
DTSTAMP:20260425T103127
CREATED:20260128T181552Z
LAST-MODIFIED:20260209T200119Z
UID:3687-1772186400-1772200800@diversityins.com
SUMMARY:Taylor Walmart
DESCRIPTION:Have questions about Medicare or ACA plans? Visit our kiosk near the front entrance of Walmart during our scheduled hours. We’re happy to help!
URL:https://diversityins.com/event/taylor-walmart-151/
CATEGORIES:Member
END:VEVENT
BEGIN:VEVENT
DTSTART;TZID=America/Detroit:20260227T090000
DTEND;TZID=America/Detroit:20260227T160000
DTSTAMP:20260425T103127
CREATED:20260128T182109Z
LAST-MODIFIED:20260209T202032Z
UID:3736-1772182800-1772208000@diversityins.com
SUMMARY:Darien Walmart
DESCRIPTION:Have questions about Medicare or ACA plans? Visit our kiosk near the front entrance of Walmart during our scheduled hours. We’re happy to help!
URL:https://diversityins.com/event/darien-walmart-98/
CATEGORIES:Member
END:VEVENT
BEGIN:VEVENT
DTSTART;TZID=America/Detroit:20260227T090000
DTEND;TZID=America/Detroit:20260227T160000
DTSTAMP:20260425T103127
CREATED:20260128T181808Z
LAST-MODIFIED:20260209T200702Z
UID:3711-1772182800-1772208000@diversityins.com
SUMMARY:Country Club Hills Walmart
DESCRIPTION:Have questions about Medicare or ACA plans? Visit our kiosk near the front entrance of Walmart during our scheduled hours. We’re happy to help!
URL:https://diversityins.com/event/country-club-hills-walmart-84/
CATEGORIES:Member
END:VEVENT
BEGIN:VEVENT
DTSTART;TZID=America/Detroit:20260227T090000
DTEND;TZID=America/Detroit:20260227T160000
DTSTAMP:20260425T103127
CREATED:20260128T175817Z
LAST-MODIFIED:20260209T183852Z
UID:3586-1772182800-1772208000@diversityins.com
SUMMARY:West Branch Walmart
DESCRIPTION:Have questions about Medicare or ACA plans? Visit our kiosk near the front entrance of Walmart during our scheduled hours. We’re happy to help!
URL:https://diversityins.com/event/west-branch-walmart-111/
CATEGORIES:Member
END:VEVENT
BEGIN:VEVENT
DTSTART;TZID=America/Detroit:20260226T150000
DTEND;TZID=America/Detroit:20260226T150000
DTSTAMP:20260425T103127
CREATED:20260128T175102Z
LAST-MODIFIED:20260209T175748Z
UID:3532-1772118000-1772118000@diversityins.com
SUMMARY:Southgate Walmart
DESCRIPTION:Have questions about Medicare or ACA plans? Visit our kiosk near the front entrance of Walmart during our scheduled hours. We’re happy to help!
URL:https://diversityins.com/event/southgate-walmart-123/
CATEGORIES:Member
END:VEVENT
BEGIN:VEVENT
DTSTART;TZID=America/Detroit:20260226T100000
DTEND;TZID=America/Detroit:20260226T150000
DTSTAMP:20260425T103127
CREATED:20260128T181524Z
LAST-MODIFIED:20260209T195919Z
UID:3686-1772100000-1772118000@diversityins.com
SUMMARY:Taylor Walmart
DESCRIPTION:Have questions about Medicare or ACA plans? Visit our kiosk near the front entrance of Walmart during our scheduled hours. We’re happy to help!
URL:https://diversityins.com/event/taylor-walmart-150/
CATEGORIES:Member
END:VEVENT
BEGIN:VEVENT
DTSTART;TZID=America/Detroit:20260226T100000
DTEND;TZID=America/Detroit:20260226T150000
DTSTAMP:20260425T103127
CREATED:20260128T181007Z
LAST-MODIFIED:20260209T194512Z
UID:3656-1772100000-1772118000@diversityins.com
SUMMARY:Dearborn Walmart
DESCRIPTION:Have questions about Medicare or ACA plans? Visit our kiosk near the front entrance of Walmart during our scheduled hours. We’re happy to help!
URL:https://diversityins.com/event/dearborn-walmart-147/
CATEGORIES:Member
END:VEVENT
BEGIN:VEVENT
DTSTART;TZID=America/Detroit:20260226T100000
DTEND;TZID=America/Detroit:20260226T150000
DTSTAMP:20260425T103127
CREATED:20260128T180715Z
LAST-MODIFIED:20260209T190010Z
UID:3632-1772100000-1772118000@diversityins.com
SUMMARY:Flint Walmart
DESCRIPTION:Have questions about Medicare or ACA plans? Visit our kiosk near the front entrance of Walmart during our scheduled hours. We’re happy to help!
URL:https://diversityins.com/event/flint-walmart-138/
CATEGORIES:Member
END:VEVENT
END:VCALENDAR