BEGIN:VCALENDAR
VERSION:2.0
PRODID:-//Diversity Insurance Agency - ECPv6.15.20//NONSGML v1.0//EN
CALSCALE:GREGORIAN
METHOD:PUBLISH
X-WR-CALNAME:Diversity Insurance Agency
X-ORIGINAL-URL:https://diversityins.com
X-WR-CALDESC:Events for Diversity Insurance Agency
REFRESH-INTERVAL;VALUE=DURATION:PT1H
X-Robots-Tag:noindex
X-PUBLISHED-TTL:PT1H
BEGIN:VTIMEZONE
TZID:America/Detroit
BEGIN:DAYLIGHT
TZOFFSETFROM:-0500
TZOFFSETTO:-0400
TZNAME:EDT
DTSTART:20250309T070000
END:DAYLIGHT
BEGIN:STANDARD
TZOFFSETFROM:-0400
TZOFFSETTO:-0500
TZNAME:EST
DTSTART:20251102T060000
END:STANDARD
BEGIN:DAYLIGHT
TZOFFSETFROM:-0500
TZOFFSETTO:-0400
TZNAME:EDT
DTSTART:20260308T070000
END:DAYLIGHT
BEGIN:STANDARD
TZOFFSETFROM:-0400
TZOFFSETTO:-0500
TZNAME:EST
DTSTART:20261101T060000
END:STANDARD
BEGIN:DAYLIGHT
TZOFFSETFROM:-0500
TZOFFSETTO:-0400
TZNAME:EDT
DTSTART:20270314T070000
END:DAYLIGHT
BEGIN:STANDARD
TZOFFSETFROM:-0400
TZOFFSETTO:-0500
TZNAME:EST
DTSTART:20271107T060000
END:STANDARD
END:VTIMEZONE
BEGIN:VEVENT
DTSTART;TZID=America/Detroit:20260309T100000
DTEND;TZID=America/Detroit:20260309T110000
DTSTAMP:20260425T231051
CREATED:20260303T140319Z
LAST-MODIFIED:20260303T141344Z
UID:4020-1773050400-1773054000@diversityins.com
SUMMARY:Zing Training
DESCRIPTION:
URL:https://diversityins.com/event/zing-training/
CATEGORIES:Agent
END:VEVENT
BEGIN:VEVENT
DTSTART;TZID=America/Detroit:20260309T100000
DTEND;TZID=America/Detroit:20260309T150000
DTSTAMP:20260425T231051
CREATED:20260224T141941Z
LAST-MODIFIED:20260224T141941Z
UID:3770-1773050400-1773068400@diversityins.com
SUMMARY:Burton Walmart
DESCRIPTION:Have questions about Medicare or ACA plans? Visit our kiosk near the front entrance of Walmart during our scheduled hours. We’re happy to help!
URL:https://diversityins.com/event/burton-walmart-152/
CATEGORIES:Member
END:VEVENT
BEGIN:VEVENT
DTSTART;TZID=America/Detroit:20260309T100000
DTEND;TZID=America/Detroit:20260309T150000
DTSTAMP:20260425T231051
CREATED:20260224T142655Z
LAST-MODIFIED:20260224T142655Z
UID:3798-1773050400-1773068400@diversityins.com
SUMMARY:Southgate Walmart
DESCRIPTION:Have questions about Medicare or ACA plans? Visit our kiosk near the front entrance of Walmart during our scheduled hours. We’re happy to help!
URL:https://diversityins.com/event/southgate-walmart-132/
CATEGORIES:Member
END:VEVENT
BEGIN:VEVENT
DTSTART;TZID=America/Detroit:20260309T100000
DTEND;TZID=America/Detroit:20260309T150000
DTSTAMP:20260425T231051
CREATED:20260224T143409Z
LAST-MODIFIED:20260224T143409Z
UID:3866-1773050400-1773068400@diversityins.com
SUMMARY:Livonia Walmart
DESCRIPTION:Have questions about Medicare or ACA plans? Visit our kiosk near the front entrance of Walmart during our scheduled hours. We’re happy to help!
URL:https://diversityins.com/event/livonia-walmart-159/
CATEGORIES:Member
END:VEVENT
BEGIN:VEVENT
DTSTART;TZID=America/Detroit:20260309T100000
DTEND;TZID=America/Detroit:20260309T150000
DTSTAMP:20260425T231051
CREATED:20260224T143638Z
LAST-MODIFIED:20260224T143638Z
UID:3891-1773050400-1773068400@diversityins.com
SUMMARY:Flint Walmart
DESCRIPTION:Have questions about Medicare or ACA plans? Visit our kiosk near the front entrance of Walmart during our scheduled hours. We’re happy to help!
URL:https://diversityins.com/event/flint-walmart-147/
CATEGORIES:Member
END:VEVENT
BEGIN:VEVENT
DTSTART;TZID=America/Detroit:20260309T100000
DTEND;TZID=America/Detroit:20260309T150000
DTSTAMP:20260425T231051
CREATED:20260224T143907Z
LAST-MODIFIED:20260224T143907Z
UID:3914-1773050400-1773068400@diversityins.com
SUMMARY:Dearborn Walmart
DESCRIPTION:Have questions about Medicare or ACA plans? Visit our kiosk near the front entrance of Walmart during our scheduled hours. We’re happy to help!
URL:https://diversityins.com/event/dearborn-walmart-155/
CATEGORIES:Member
END:VEVENT
BEGIN:VEVENT
DTSTART;TZID=America/Detroit:20260309T100000
DTEND;TZID=America/Detroit:20260309T150000
DTSTAMP:20260425T231051
CREATED:20260224T144137Z
LAST-MODIFIED:20260224T144137Z
UID:3940-1773050400-1773068400@diversityins.com
SUMMARY:Taylor Walmart
DESCRIPTION:Have questions about Medicare or ACA plans? Visit our kiosk near the front entrance of Walmart during our scheduled hours. We’re happy to help!
URL:https://diversityins.com/event/taylor-walmart-160/
CATEGORIES:Member
END:VEVENT
BEGIN:VEVENT
DTSTART;TZID=America/Detroit:20260310T090000
DTEND;TZID=America/Detroit:20260310T160000
DTSTAMP:20260425T231051
CREATED:20260224T143307Z
LAST-MODIFIED:20260224T143307Z
UID:3852-1773133200-1773158400@diversityins.com
SUMMARY:West Branch Walmart
DESCRIPTION:Have questions about Medicare or ACA plans? Visit our kiosk near the front entrance of Walmart during our scheduled hours. We’re happy to help!
URL:https://diversityins.com/event/west-branch-walmart-116/
CATEGORIES:Member
END:VEVENT
BEGIN:VEVENT
DTSTART;TZID=America/Detroit:20260310T090000
DTEND;TZID=America/Detroit:20260310T160000
DTSTAMP:20260425T231051
CREATED:20260224T144436Z
LAST-MODIFIED:20260224T144436Z
UID:3967-1773133200-1773158400@diversityins.com
SUMMARY:Country Club Hills Walmart
DESCRIPTION:Have questions about Medicare or ACA plans? Visit our kiosk near the front entrance of Walmart during our scheduled hours. We’re happy to help!
URL:https://diversityins.com/event/country-club-hills-walmart-93/
CATEGORIES:Member
END:VEVENT
BEGIN:VEVENT
DTSTART;TZID=America/Detroit:20260310T093000
DTEND;TZID=America/Detroit:20260310T143000
DTSTAMP:20260425T231051
CREATED:20260224T142805Z
LAST-MODIFIED:20260224T142805Z
UID:3823-1773135000-1773153000@diversityins.com
SUMMARY:Jackson Walmart
DESCRIPTION:Have questions about Medicare or ACA plans? Visit our kiosk near the front entrance of Walmart during our scheduled hours. We’re happy to help!
URL:https://diversityins.com/event/jackson-walmart-131/
CATEGORIES:Member
END:VEVENT
BEGIN:VEVENT
DTSTART;TZID=America/Detroit:20260310T093000
DTEND;TZID=America/Detroit:20260310T143000
DTSTAMP:20260425T231051
CREATED:20260224T143050Z
LAST-MODIFIED:20260224T143050Z
UID:3841-1773135000-1773153000@diversityins.com
SUMMARY:Monroe Walmart
DESCRIPTION:Have questions about Medicare or ACA plans? Visit our kiosk near the front entrance of Walmart during our scheduled hours. We’re happy to help!
URL:https://diversityins.com/event/monroe-walmart-125/
CATEGORIES:Member
END:VEVENT
BEGIN:VEVENT
DTSTART;TZID=America/Detroit:20260310T100000
DTEND;TZID=America/Detroit:20260310T150000
DTSTAMP:20260425T231051
CREATED:20260224T141942Z
LAST-MODIFIED:20260224T141942Z
UID:3771-1773136800-1773154800@diversityins.com
SUMMARY:Burton Walmart
DESCRIPTION:Have questions about Medicare or ACA plans? Visit our kiosk near the front entrance of Walmart during our scheduled hours. We’re happy to help!
URL:https://diversityins.com/event/burton-walmart-153/
CATEGORIES:Member
END:VEVENT
BEGIN:VEVENT
DTSTART;TZID=America/Detroit:20260310T100000
DTEND;TZID=America/Detroit:20260310T150000
DTSTAMP:20260425T231051
CREATED:20260224T142656Z
LAST-MODIFIED:20260224T142656Z
UID:3799-1773136800-1773154800@diversityins.com
SUMMARY:Southgate Walmart
DESCRIPTION:Have questions about Medicare or ACA plans? Visit our kiosk near the front entrance of Walmart during our scheduled hours. We’re happy to help!
URL:https://diversityins.com/event/southgate-walmart-133/
CATEGORIES:Member
END:VEVENT
BEGIN:VEVENT
DTSTART;TZID=America/Detroit:20260310T100000
DTEND;TZID=America/Detroit:20260310T150000
DTSTAMP:20260425T231051
CREATED:20260224T143436Z
LAST-MODIFIED:20260224T143436Z
UID:3867-1773136800-1773154800@diversityins.com
SUMMARY:Livonia Walmart
DESCRIPTION:Have questions about Medicare or ACA plans? Visit our kiosk near the front entrance of Walmart during our scheduled hours. We’re happy to help!
URL:https://diversityins.com/event/livonia-walmart-160/
CATEGORIES:Member
END:VEVENT
BEGIN:VEVENT
DTSTART;TZID=America/Detroit:20260310T100000
DTEND;TZID=America/Detroit:20260310T150000
DTSTAMP:20260425T231051
CREATED:20260224T143706Z
LAST-MODIFIED:20260224T143706Z
UID:3892-1773136800-1773154800@diversityins.com
SUMMARY:Flint Walmart
DESCRIPTION:Have questions about Medicare or ACA plans? Visit our kiosk near the front entrance of Walmart during our scheduled hours. We’re happy to help!
URL:https://diversityins.com/event/flint-walmart-148/
CATEGORIES:Member
END:VEVENT
BEGIN:VEVENT
DTSTART;TZID=America/Detroit:20260310T100000
DTEND;TZID=America/Detroit:20260310T150000
DTSTAMP:20260425T231051
CREATED:20260224T143908Z
LAST-MODIFIED:20260224T143908Z
UID:3915-1773136800-1773154800@diversityins.com
SUMMARY:Dearborn Walmart
DESCRIPTION:Have questions about Medicare or ACA plans? Visit our kiosk near the front entrance of Walmart during our scheduled hours. We’re happy to help!
URL:https://diversityins.com/event/dearborn-walmart-156/
CATEGORIES:Member
END:VEVENT
BEGIN:VEVENT
DTSTART;TZID=America/Detroit:20260310T100000
DTEND;TZID=America/Detroit:20260310T150000
DTSTAMP:20260425T231051
CREATED:20260224T144837Z
LAST-MODIFIED:20260224T144837Z
UID:3993-1773136800-1773154800@diversityins.com
SUMMARY:Darien Walmart
DESCRIPTION:Have questions about Medicare or ACA plans? Visit our kiosk near the front entrance of Walmart during our scheduled hours. We’re happy to help!
URL:https://diversityins.com/event/darien-walmart-107/
CATEGORIES:Member
END:VEVENT
BEGIN:VEVENT
DTSTART;TZID=America/Detroit:20260311T090000
DTEND;TZID=America/Detroit:20260311T150000
DTSTAMP:20260425T231051
CREATED:20260224T143307Z
LAST-MODIFIED:20260224T143307Z
UID:3853-1773219600-1773241200@diversityins.com
SUMMARY:West Branch Walmart
DESCRIPTION:Have questions about Medicare or ACA plans? Visit our kiosk near the front entrance of Walmart during our scheduled hours. We’re happy to help!
URL:https://diversityins.com/event/west-branch-walmart-117/
CATEGORIES:Member
END:VEVENT
BEGIN:VEVENT
DTSTART;TZID=America/Detroit:20260311T090000
DTEND;TZID=America/Detroit:20260311T163000
DTSTAMP:20260425T231051
CREATED:20260224T144837Z
LAST-MODIFIED:20260224T144837Z
UID:3994-1773219600-1773246600@diversityins.com
SUMMARY:Darien Walmart
DESCRIPTION:Have questions about Medicare or ACA plans? Visit our kiosk near the front entrance of Walmart during our scheduled hours. We’re happy to help!
URL:https://diversityins.com/event/darien-walmart-108/
CATEGORIES:Member
END:VEVENT
BEGIN:VEVENT
DTSTART;TZID=America/Detroit:20260311T090000
DTEND;TZID=America/Detroit:20260311T170000
DTSTAMP:20260425T231051
CREATED:20260224T144436Z
LAST-MODIFIED:20260224T144436Z
UID:3968-1773219600-1773248400@diversityins.com
SUMMARY:Country Club Hills Walmart
DESCRIPTION:Have questions about Medicare or ACA plans? Visit our kiosk near the front entrance of Walmart during our scheduled hours. We’re happy to help!
URL:https://diversityins.com/event/country-club-hills-walmart-94/
CATEGORIES:Member
END:VEVENT
BEGIN:VEVENT
DTSTART;TZID=America/Detroit:20260311T093000
DTEND;TZID=America/Detroit:20260311T143000
DTSTAMP:20260425T231051
CREATED:20260224T142805Z
LAST-MODIFIED:20260224T142805Z
UID:3824-1773221400-1773239400@diversityins.com
SUMMARY:Jackson Walmart
DESCRIPTION:Have questions about Medicare or ACA plans? Visit our kiosk near the front entrance of Walmart during our scheduled hours. We’re happy to help!
URL:https://diversityins.com/event/jackson-walmart-132/
CATEGORIES:Member
END:VEVENT
BEGIN:VEVENT
DTSTART;TZID=America/Detroit:20260311T093000
DTEND;TZID=America/Detroit:20260311T143000
DTSTAMP:20260425T231051
CREATED:20260224T143050Z
LAST-MODIFIED:20260224T143050Z
UID:3842-1773221400-1773239400@diversityins.com
SUMMARY:Monroe Walmart
DESCRIPTION:Have questions about Medicare or ACA plans? Visit our kiosk near the front entrance of Walmart during our scheduled hours. We’re happy to help!
URL:https://diversityins.com/event/monroe-walmart-126/
CATEGORIES:Member
END:VEVENT
BEGIN:VEVENT
DTSTART;TZID=America/Detroit:20260311T100000
DTEND;TZID=America/Detroit:20260311T140000
DTSTAMP:20260425T231051
CREATED:20260224T144138Z
LAST-MODIFIED:20260224T144138Z
UID:3941-1773223200-1773237600@diversityins.com
SUMMARY:Taylor Walmart
DESCRIPTION:Have questions about Medicare or ACA plans? Visit our kiosk near the front entrance of Walmart during our scheduled hours. We’re happy to help!
URL:https://diversityins.com/event/taylor-walmart-161/
CATEGORIES:Member
END:VEVENT
BEGIN:VEVENT
DTSTART;TZID=America/Detroit:20260311T100000
DTEND;TZID=America/Detroit:20260311T150000
DTSTAMP:20260425T231051
CREATED:20260224T141943Z
LAST-MODIFIED:20260224T141943Z
UID:3772-1773223200-1773241200@diversityins.com
SUMMARY:Burton Walmart
DESCRIPTION:Have questions about Medicare or ACA plans? Visit our kiosk near the front entrance of Walmart during our scheduled hours. We’re happy to help!
URL:https://diversityins.com/event/burton-walmart-154/
CATEGORIES:Member
END:VEVENT
BEGIN:VEVENT
DTSTART;TZID=America/Detroit:20260311T100000
DTEND;TZID=America/Detroit:20260311T150000
DTSTAMP:20260425T231051
CREATED:20260224T142656Z
LAST-MODIFIED:20260224T142656Z
UID:3800-1773223200-1773241200@diversityins.com
SUMMARY:Southgate Walmart
DESCRIPTION:Have questions about Medicare or ACA plans? Visit our kiosk near the front entrance of Walmart during our scheduled hours. We’re happy to help!
URL:https://diversityins.com/event/southgate-walmart-134/
CATEGORIES:Member
END:VEVENT
BEGIN:VEVENT
DTSTART;TZID=America/Detroit:20260311T100000
DTEND;TZID=America/Detroit:20260311T150000
DTSTAMP:20260425T231051
CREATED:20260224T143436Z
LAST-MODIFIED:20260224T143436Z
UID:3868-1773223200-1773241200@diversityins.com
SUMMARY:Livonia Walmart
DESCRIPTION:Have questions about Medicare or ACA plans? Visit our kiosk near the front entrance of Walmart during our scheduled hours. We’re happy to help!
URL:https://diversityins.com/event/livonia-walmart-161/
CATEGORIES:Member
END:VEVENT
BEGIN:VEVENT
DTSTART;TZID=America/Detroit:20260311T100000
DTEND;TZID=America/Detroit:20260311T150000
DTSTAMP:20260425T231051
CREATED:20260224T143707Z
LAST-MODIFIED:20260224T143707Z
UID:3893-1773223200-1773241200@diversityins.com
SUMMARY:Flint Walmart
DESCRIPTION:Have questions about Medicare or ACA plans? Visit our kiosk near the front entrance of Walmart during our scheduled hours. We’re happy to help!
URL:https://diversityins.com/event/flint-walmart-149/
CATEGORIES:Member
END:VEVENT
BEGIN:VEVENT
DTSTART;TZID=America/Detroit:20260311T140000
DTEND;TZID=America/Detroit:20260311T150000
DTSTAMP:20260425T231051
CREATED:20260303T140320Z
LAST-MODIFIED:20260303T141511Z
UID:4021-1773237600-1773241200@diversityins.com
SUMMARY:UH One Training
DESCRIPTION:
URL:https://diversityins.com/event/uh-one-training/
CATEGORIES:Agent
END:VEVENT
BEGIN:VEVENT
DTSTART;TZID=America/Detroit:20260312T090000
DTEND;TZID=America/Detroit:20260312T160000
DTSTAMP:20260425T231051
CREATED:20260224T144437Z
LAST-MODIFIED:20260224T144437Z
UID:3969-1773306000-1773331200@diversityins.com
SUMMARY:Country Club Hills Walmart
DESCRIPTION:Have questions about Medicare or ACA plans? Visit our kiosk near the front entrance of Walmart during our scheduled hours. We’re happy to help!
URL:https://diversityins.com/event/country-club-hills-walmart-95/
CATEGORIES:Member
END:VEVENT
BEGIN:VEVENT
DTSTART;TZID=America/Detroit:20260312T090000
DTEND;TZID=America/Detroit:20260312T160000
DTSTAMP:20260425T231051
CREATED:20260224T144838Z
LAST-MODIFIED:20260224T144838Z
UID:3995-1773306000-1773331200@diversityins.com
SUMMARY:Darien Walmart
DESCRIPTION:Have questions about Medicare or ACA plans? Visit our kiosk near the front entrance of Walmart during our scheduled hours. We’re happy to help!
URL:https://diversityins.com/event/darien-walmart-109/
CATEGORIES:Member
END:VEVENT
END:VCALENDAR