BEGIN:VCALENDAR
VERSION:2.0
PRODID:-//Diversity Insurance Agency - ECPv6.15.20//NONSGML v1.0//EN
CALSCALE:GREGORIAN
METHOD:PUBLISH
X-WR-CALNAME:Diversity Insurance Agency
X-ORIGINAL-URL:https://diversityins.com
X-WR-CALDESC:Events for Diversity Insurance Agency
REFRESH-INTERVAL;VALUE=DURATION:PT1H
X-Robots-Tag:noindex
X-PUBLISHED-TTL:PT1H
BEGIN:VTIMEZONE
TZID:America/Detroit
BEGIN:DAYLIGHT
TZOFFSETFROM:-0500
TZOFFSETTO:-0400
TZNAME:EDT
DTSTART:20240310T070000
END:DAYLIGHT
BEGIN:STANDARD
TZOFFSETFROM:-0400
TZOFFSETTO:-0500
TZNAME:EST
DTSTART:20241103T060000
END:STANDARD
BEGIN:DAYLIGHT
TZOFFSETFROM:-0500
TZOFFSETTO:-0400
TZNAME:EDT
DTSTART:20250309T070000
END:DAYLIGHT
BEGIN:STANDARD
TZOFFSETFROM:-0400
TZOFFSETTO:-0500
TZNAME:EST
DTSTART:20251102T060000
END:STANDARD
BEGIN:DAYLIGHT
TZOFFSETFROM:-0500
TZOFFSETTO:-0400
TZNAME:EDT
DTSTART:20260308T070000
END:DAYLIGHT
BEGIN:STANDARD
TZOFFSETFROM:-0400
TZOFFSETTO:-0500
TZNAME:EST
DTSTART:20261101T060000
END:STANDARD
END:VTIMEZONE
BEGIN:VEVENT
DTSTART;TZID=America/Detroit:20251208T100000
DTEND;TZID=America/Detroit:20251208T140000
DTSTAMP:20260425T121150
CREATED:20251201T150727Z
LAST-MODIFIED:20251201T150727Z
UID:3019-1765188000-1765202400@diversityins.com
SUMMARY:Livonia Walmart
DESCRIPTION:
URL:https://diversityins.com/event/livonia-walmart-88/
CATEGORIES:Member
END:VEVENT
BEGIN:VEVENT
DTSTART;TZID=America/Detroit:20251208T093000
DTEND;TZID=America/Detroit:20251208T143000
DTSTAMP:20260425T121150
CREATED:20251201T150527Z
LAST-MODIFIED:20251201T150527Z
UID:2999-1765186200-1765204200@diversityins.com
SUMMARY:Monroe Walmart
DESCRIPTION:
URL:https://diversityins.com/event/monroe-walmart-78/
CATEGORIES:Member
END:VEVENT
BEGIN:VEVENT
DTSTART;TZID=America/Detroit:20251208T093000
DTEND;TZID=America/Detroit:20251208T143000
DTSTAMP:20260425T121150
CREATED:20251201T150427Z
LAST-MODIFIED:20251201T150427Z
UID:2989-1765186200-1765204200@diversityins.com
SUMMARY:Jackson Walmart
DESCRIPTION:
URL:https://diversityins.com/event/jackson-walmart-74/
CATEGORIES:Member
END:VEVENT
BEGIN:VEVENT
DTSTART;TZID=America/Detroit:20251208T090000
DTEND;TZID=America/Detroit:20251208T173000
DTSTAMP:20260425T121150
CREATED:20251201T151358Z
LAST-MODIFIED:20251201T151358Z
UID:3085-1765184400-1765215000@diversityins.com
SUMMARY:Darien Walmart
DESCRIPTION:
URL:https://diversityins.com/event/darien-walmart-43/
CATEGORIES:Member
END:VEVENT
BEGIN:VEVENT
DTSTART;TZID=America/Detroit:20251208T090000
DTEND;TZID=America/Detroit:20251208T170000
DTSTAMP:20260425T121150
CREATED:20251201T150626Z
LAST-MODIFIED:20251201T150626Z
UID:3008-1765184400-1765213200@diversityins.com
SUMMARY:West Branch Walmart
DESCRIPTION:
URL:https://diversityins.com/event/west-branch-walmart-70/
CATEGORIES:Member
END:VEVENT
BEGIN:VEVENT
DTSTART;TZID=America/Detroit:20251208T090000
DTEND;TZID=America/Detroit:20251208T170000
DTSTAMP:20260425T121150
CREATED:20251201T150326Z
LAST-MODIFIED:20251201T150326Z
UID:2979-1765184400-1765213200@diversityins.com
SUMMARY:Hastings Walmart
DESCRIPTION:
URL:https://diversityins.com/event/hastings-walmart-52/
CATEGORIES:Member
END:VEVENT
BEGIN:VEVENT
DTSTART;TZID=America/Detroit:20251208T090000
DTEND;TZID=America/Detroit:20251208T160000
DTSTAMP:20260425T121150
CREATED:20251201T151129Z
LAST-MODIFIED:20251201T151129Z
UID:3062-1765184400-1765209600@diversityins.com
SUMMARY:Taylor Walmart
DESCRIPTION:
URL:https://diversityins.com/event/taylor-walmart-88/
CATEGORIES:Member
END:VEVENT
BEGIN:VEVENT
DTSTART;TZID=America/Detroit:20251208T090000
DTEND;TZID=America/Detroit:20251208T160000
DTSTAMP:20260425T121150
CREATED:20251201T151029Z
LAST-MODIFIED:20251201T151029Z
UID:3052-1765184400-1765209600@diversityins.com
SUMMARY:Jonesville Walmart
DESCRIPTION:
URL:https://diversityins.com/event/jonesville-walmart-70/
CATEGORIES:Member
END:VEVENT
BEGIN:VEVENT
DTSTART;TZID=America/Detroit:20251208T090000
DTEND;TZID=America/Detroit:20251208T160000
DTSTAMP:20260425T121150
CREATED:20251201T150928Z
LAST-MODIFIED:20251201T150928Z
UID:3041-1765184400-1765209600@diversityins.com
SUMMARY:Dearborn Walmart
DESCRIPTION:
URL:https://diversityins.com/event/dearborn-walmart-74/
CATEGORIES:Member
END:VEVENT
BEGIN:VEVENT
DTSTART;TZID=America/Detroit:20251208T090000
DTEND;TZID=America/Detroit:20251208T160000
DTSTAMP:20260425T121150
CREATED:20251201T150828Z
LAST-MODIFIED:20251201T150828Z
UID:3031-1765184400-1765209600@diversityins.com
SUMMARY:Flint Walmart
DESCRIPTION:
URL:https://diversityins.com/event/flint-walmart-70/
CATEGORIES:Member
END:VEVENT
BEGIN:VEVENT
DTSTART;TZID=America/Detroit:20251208T090000
DTEND;TZID=America/Detroit:20251208T160000
DTSTAMP:20260425T121150
CREATED:20251201T150127Z
LAST-MODIFIED:20251201T150127Z
UID:2961-1765184400-1765209600@diversityins.com
SUMMARY:Burton Walmart
DESCRIPTION:
URL:https://diversityins.com/event/burton-walmart-72/
CATEGORIES:Member
END:VEVENT
BEGIN:VEVENT
DTSTART;TZID=America/Detroit:20251207T120000
DTEND;TZID=America/Detroit:20251207T200000
DTSTAMP:20260425T121150
CREATED:20251201T151128Z
LAST-MODIFIED:20251201T151128Z
UID:3061-1765108800-1765137600@diversityins.com
SUMMARY:Taylor Walmart
DESCRIPTION:
URL:https://diversityins.com/event/taylor-walmart-87/
CATEGORIES:Member
END:VEVENT
BEGIN:VEVENT
DTSTART;TZID=America/Detroit:20251207T100000
DTEND;TZID=America/Detroit:20251207T150000
DTSTAMP:20260425T121150
CREATED:20251201T151357Z
LAST-MODIFIED:20251201T151357Z
UID:3084-1765101600-1765119600@diversityins.com
SUMMARY:Darien Walmart
DESCRIPTION:
URL:https://diversityins.com/event/darien-walmart-42/
CATEGORIES:Member
END:VEVENT
BEGIN:VEVENT
DTSTART;TZID=America/Detroit:20251207T100000
DTEND;TZID=America/Detroit:20251207T140000
DTSTAMP:20260425T121150
CREATED:20251201T150928Z
LAST-MODIFIED:20251201T150928Z
UID:3040-1765101600-1765116000@diversityins.com
SUMMARY:Dearborn Walmart
DESCRIPTION:
URL:https://diversityins.com/event/dearborn-walmart-73/
CATEGORIES:Member
END:VEVENT
BEGIN:VEVENT
DTSTART;TZID=America/Detroit:20251207T100000
DTEND;TZID=America/Detroit:20251207T140000
DTSTAMP:20260425T121150
CREATED:20251201T150828Z
LAST-MODIFIED:20251201T150828Z
UID:3030-1765101600-1765116000@diversityins.com
SUMMARY:Flint Walmart
DESCRIPTION:
URL:https://diversityins.com/event/flint-walmart-69/
CATEGORIES:Member
END:VEVENT
BEGIN:VEVENT
DTSTART;TZID=America/Detroit:20251207T100000
DTEND;TZID=America/Detroit:20251207T140000
DTSTAMP:20260425T121150
CREATED:20251201T150359Z
LAST-MODIFIED:20251201T150426Z
UID:2988-1765101600-1765116000@diversityins.com
SUMMARY:Jackson Walmart
DESCRIPTION:
URL:https://diversityins.com/event/jackson-walmart-73/
CATEGORIES:Member
END:VEVENT
BEGIN:VEVENT
DTSTART;TZID=America/Detroit:20251207T100000
DTEND;TZID=America/Detroit:20251207T140000
DTSTAMP:20260425T121150
CREATED:20251201T150227Z
LAST-MODIFIED:20251201T150227Z
UID:2970-1765101600-1765116000@diversityins.com
SUMMARY:Southgate Walmart
DESCRIPTION:
URL:https://diversityins.com/event/southgate-walmart-73/
CATEGORIES:Member
END:VEVENT
BEGIN:VEVENT
DTSTART;TZID=America/Detroit:20251207T100000
DTEND;TZID=America/Detroit:20251207T140000
DTSTAMP:20260425T121150
CREATED:20251201T150126Z
LAST-MODIFIED:20251201T150126Z
UID:2960-1765101600-1765116000@diversityins.com
SUMMARY:Burton Walmart
DESCRIPTION:
URL:https://diversityins.com/event/burton-walmart-71/
CATEGORIES:Member
END:VEVENT
BEGIN:VEVENT
DTSTART;TZID=America/Detroit:20251206T140000
DTEND;TZID=America/Detroit:20251206T210000
DTSTAMP:20260425T121150
CREATED:20251201T151127Z
LAST-MODIFIED:20251201T151127Z
UID:3060-1765029600-1765054800@diversityins.com
SUMMARY:Taylor Walmart
DESCRIPTION:
URL:https://diversityins.com/event/taylor-walmart-86/
CATEGORIES:Member
END:VEVENT
BEGIN:VEVENT
DTSTART;TZID=America/Detroit:20251206T100000
DTEND;TZID=America/Detroit:20251206T150000
DTSTAMP:20260425T121150
CREATED:20251201T151356Z
LAST-MODIFIED:20251201T151356Z
UID:3083-1765015200-1765033200@diversityins.com
SUMMARY:Darien Walmart
DESCRIPTION:
URL:https://diversityins.com/event/darien-walmart-41/
CATEGORIES:Member
END:VEVENT
BEGIN:VEVENT
DTSTART;TZID=America/Detroit:20251206T100000
DTEND;TZID=America/Detroit:20251206T150000
DTSTAMP:20260425T121150
CREATED:20251201T150358Z
LAST-MODIFIED:20251201T150358Z
UID:2987-1765015200-1765033200@diversityins.com
SUMMARY:Jackson Walmart
DESCRIPTION:
URL:https://diversityins.com/event/jackson-walmart-72/
CATEGORIES:Member
END:VEVENT
BEGIN:VEVENT
DTSTART;TZID=America/Detroit:20251206T100000
DTEND;TZID=America/Detroit:20251206T140000
DTSTAMP:20260425T121150
CREATED:20251201T151028Z
LAST-MODIFIED:20251201T151028Z
UID:3051-1765015200-1765029600@diversityins.com
SUMMARY:Jonesville Walmart
DESCRIPTION:
URL:https://diversityins.com/event/jonesville-walmart-69/
CATEGORIES:Member
END:VEVENT
BEGIN:VEVENT
DTSTART;TZID=America/Detroit:20251206T100000
DTEND;TZID=America/Detroit:20251206T140000
DTSTAMP:20260425T121150
CREATED:20251201T150927Z
LAST-MODIFIED:20251201T150927Z
UID:3039-1765015200-1765029600@diversityins.com
SUMMARY:Dearborn Walmart
DESCRIPTION:
URL:https://diversityins.com/event/dearborn-walmart-72/
CATEGORIES:Member
END:VEVENT
BEGIN:VEVENT
DTSTART;TZID=America/Detroit:20251206T100000
DTEND;TZID=America/Detroit:20251206T140000
DTSTAMP:20260425T121150
CREATED:20251201T150827Z
LAST-MODIFIED:20251201T150827Z
UID:3029-1765015200-1765029600@diversityins.com
SUMMARY:Flint Walmart
DESCRIPTION:
URL:https://diversityins.com/event/flint-walmart-68/
CATEGORIES:Member
END:VEVENT
BEGIN:VEVENT
DTSTART;TZID=America/Detroit:20251206T100000
DTEND;TZID=America/Detroit:20251206T140000
DTSTAMP:20260425T121150
CREATED:20251201T150726Z
LAST-MODIFIED:20251201T150726Z
UID:3018-1765015200-1765029600@diversityins.com
SUMMARY:Livonia Walmart
DESCRIPTION:
URL:https://diversityins.com/event/livonia-walmart-87/
CATEGORIES:Member
END:VEVENT
BEGIN:VEVENT
DTSTART;TZID=America/Detroit:20251206T100000
DTEND;TZID=America/Detroit:20251206T140000
DTSTAMP:20260425T121150
CREATED:20251201T150226Z
LAST-MODIFIED:20251201T150226Z
UID:2969-1765015200-1765029600@diversityins.com
SUMMARY:Southgate Walmart
DESCRIPTION:
URL:https://diversityins.com/event/southgate-walmart-72/
CATEGORIES:Member
END:VEVENT
BEGIN:VEVENT
DTSTART;TZID=America/Detroit:20251206T100000
DTEND;TZID=America/Detroit:20251206T140000
DTSTAMP:20260425T121150
CREATED:20251201T150125Z
LAST-MODIFIED:20251201T150125Z
UID:2959-1765015200-1765029600@diversityins.com
SUMMARY:Burton Walmart
DESCRIPTION:
URL:https://diversityins.com/event/burton-walmart-70/
CATEGORIES:Member
END:VEVENT
BEGIN:VEVENT
DTSTART;TZID=America/Detroit:20251206T093000
DTEND;TZID=America/Detroit:20251206T160000
DTSTAMP:20260425T121150
CREATED:20251201T150526Z
LAST-MODIFIED:20251201T150526Z
UID:2998-1765013400-1765036800@diversityins.com
SUMMARY:Monroe Walmart
DESCRIPTION:
URL:https://diversityins.com/event/monroe-walmart-77/
CATEGORIES:Member
END:VEVENT
BEGIN:VEVENT
DTSTART;TZID=America/Detroit:20251206T090000
DTEND;TZID=America/Detroit:20251206T190000
DTSTAMP:20260425T121150
CREATED:20251201T151227Z
LAST-MODIFIED:20251201T151227Z
UID:3069-1765011600-1765047600@diversityins.com
SUMMARY:Country Club Hills Walmart
DESCRIPTION:
URL:https://diversityins.com/event/country-club-hills-walmart-25/
CATEGORIES:Member
END:VEVENT
BEGIN:VEVENT
DTSTART;TZID=America/Detroit:20251206T080000
DTEND;TZID=America/Detroit:20251206T170000
DTSTAMP:20260425T121150
CREATED:20251201T150259Z
LAST-MODIFIED:20251201T150259Z
UID:2978-1765008000-1765040400@diversityins.com
SUMMARY:Hastings Walmart
DESCRIPTION:
URL:https://diversityins.com/event/hastings-walmart-51/
CATEGORIES:Member
END:VEVENT
END:VCALENDAR