BEGIN:VCALENDAR
VERSION:2.0
PRODID:-//Diversity Insurance Agency - ECPv6.15.20//NONSGML v1.0//EN
CALSCALE:GREGORIAN
METHOD:PUBLISH
X-WR-CALNAME:Diversity Insurance Agency
X-ORIGINAL-URL:https://diversityins.com
X-WR-CALDESC:Events for Diversity Insurance Agency
REFRESH-INTERVAL;VALUE=DURATION:PT1H
X-Robots-Tag:noindex
X-PUBLISHED-TTL:PT1H
BEGIN:VTIMEZONE
TZID:America/Detroit
BEGIN:DAYLIGHT
TZOFFSETFROM:-0500
TZOFFSETTO:-0400
TZNAME:EDT
DTSTART:20240310T070000
END:DAYLIGHT
BEGIN:STANDARD
TZOFFSETFROM:-0400
TZOFFSETTO:-0500
TZNAME:EST
DTSTART:20241103T060000
END:STANDARD
BEGIN:DAYLIGHT
TZOFFSETFROM:-0500
TZOFFSETTO:-0400
TZNAME:EDT
DTSTART:20250309T070000
END:DAYLIGHT
BEGIN:STANDARD
TZOFFSETFROM:-0400
TZOFFSETTO:-0500
TZNAME:EST
DTSTART:20251102T060000
END:STANDARD
BEGIN:DAYLIGHT
TZOFFSETFROM:-0500
TZOFFSETTO:-0400
TZNAME:EDT
DTSTART:20260308T070000
END:DAYLIGHT
BEGIN:STANDARD
TZOFFSETFROM:-0400
TZOFFSETTO:-0500
TZNAME:EST
DTSTART:20261101T060000
END:STANDARD
END:VTIMEZONE
BEGIN:VEVENT
DTSTART;TZID=America/Detroit:20251111T090000
DTEND;TZID=America/Detroit:20251111T160000
DTSTAMP:20260425T092533
CREATED:20251022T201050Z
LAST-MODIFIED:20251022T201050Z
UID:2853-1762851600-1762876800@diversityins.com
SUMMARY:Dearborn Walmart
DESCRIPTION:
URL:https://diversityins.com/event/dearborn-walmart-53/
CATEGORIES:Member
END:VEVENT
BEGIN:VEVENT
DTSTART;TZID=America/Detroit:20251111T090000
DTEND;TZID=America/Detroit:20251111T160000
DTSTAMP:20260425T092533
CREATED:20251022T200718Z
LAST-MODIFIED:20251022T200718Z
UID:2817-1762851600-1762876800@diversityins.com
SUMMARY:Flint Walmart
DESCRIPTION:
URL:https://diversityins.com/event/flint-walmart-49/
CATEGORIES:Member
END:VEVENT
BEGIN:VEVENT
DTSTART;TZID=America/Detroit:20251111T090000
DTEND;TZID=America/Detroit:20251111T160000
DTSTAMP:20260425T092533
CREATED:20251022T200450Z
LAST-MODIFIED:20251022T200450Z
UID:2796-1762851600-1762876800@diversityins.com
SUMMARY:Livonia Walmart
DESCRIPTION:
URL:https://diversityins.com/event/livonia-walmart-66/
CATEGORIES:Member
END:VEVENT
BEGIN:VEVENT
DTSTART;TZID=America/Detroit:20251111T090000
DTEND;TZID=America/Detroit:20251111T160000
DTSTAMP:20260425T092533
CREATED:20251022T162946Z
LAST-MODIFIED:20251022T195517Z
UID:2700-1762851600-1762876800@diversityins.com
SUMMARY:Southgate Walmart
DESCRIPTION:
URL:https://diversityins.com/event/southgate-walmart-53/
CATEGORIES:Member
END:VEVENT
BEGIN:VEVENT
DTSTART;TZID=America/Detroit:20251111T090000
DTEND;TZID=America/Detroit:20251111T160000
DTSTAMP:20260425T092533
CREATED:20251022T162537Z
LAST-MODIFIED:20251022T195248Z
UID:2679-1762851600-1762876800@diversityins.com
SUMMARY:Burton Walmart
DESCRIPTION:
URL:https://diversityins.com/event/burton-walmart-51/
CATEGORIES:Member
END:VEVENT
BEGIN:VEVENT
DTSTART;TZID=America/Detroit:20251111T090000
DTEND;TZID=America/Detroit:20251111T153000
DTSTAMP:20260425T092533
CREATED:20251022T195848Z
LAST-MODIFIED:20251022T195848Z
UID:2736-1762851600-1762875000@diversityins.com
SUMMARY:Jackson Walmart
DESCRIPTION:
URL:https://diversityins.com/event/jackson-walmart-53/
CATEGORIES:Member
END:VEVENT
BEGIN:VEVENT
DTSTART;TZID=America/Detroit:20251111T090000
DTEND;TZID=America/Detroit:20251111T140000
DTSTAMP:20260425T092533
CREATED:20251022T201250Z
LAST-MODIFIED:20251022T201250Z
UID:2874-1762851600-1762869600@diversityins.com
SUMMARY:Jonesville Walmart
DESCRIPTION:
URL:https://diversityins.com/event/jonesville-walmart-50/
CATEGORIES:Member
END:VEVENT
BEGIN:VEVENT
DTSTART;TZID=America/Detroit:20251110T100000
DTEND;TZID=America/Detroit:20251110T180000
DTSTAMP:20260425T092533
CREATED:20251022T202049Z
LAST-MODIFIED:20251022T202049Z
UID:2920-1762768800-1762797600@diversityins.com
SUMMARY:Joliet Walmart
DESCRIPTION:
URL:https://diversityins.com/event/joliet-walmart-38/
CATEGORIES:Member
END:VEVENT
BEGIN:VEVENT
DTSTART;TZID=America/Detroit:20251110T100000
DTEND;TZID=America/Detroit:20251110T160000
DTSTAMP:20260425T092533
CREATED:20251022T200249Z
LAST-MODIFIED:20251022T200249Z
UID:2776-1762768800-1762790400@diversityins.com
SUMMARY:West Branch Walmart
DESCRIPTION:
URL:https://diversityins.com/event/west-branch-walmart-52/
CATEGORIES:Member
END:VEVENT
BEGIN:VEVENT
DTSTART;TZID=America/Detroit:20251110T093000
DTEND;TZID=America/Detroit:20251110T160000
DTSTAMP:20260425T092533
CREATED:20251022T200049Z
LAST-MODIFIED:20251022T200049Z
UID:2756-1762767000-1762790400@diversityins.com
SUMMARY:Monroe Walmart
DESCRIPTION:
URL:https://diversityins.com/event/monroe-walmart-57/
CATEGORIES:Member
END:VEVENT
BEGIN:VEVENT
DTSTART;TZID=America/Detroit:20251110T090000
DTEND;TZID=America/Detroit:20251110T173000
DTSTAMP:20260425T092533
CREATED:20251022T202310Z
LAST-MODIFIED:20251022T202310Z
UID:2938-1762765200-1762795800@diversityins.com
SUMMARY:Darien Walmart
DESCRIPTION:
URL:https://diversityins.com/event/darien-walmart-25/
CATEGORIES:Member
END:VEVENT
BEGIN:VEVENT
DTSTART;TZID=America/Detroit:20251110T090000
DTEND;TZID=America/Detroit:20251110T170000
DTSTAMP:20260425T092533
CREATED:20251022T200851Z
LAST-MODIFIED:20251022T200851Z
UID:2835-1762765200-1762794000@diversityins.com
SUMMARY:Lapeer Walmart
DESCRIPTION:
URL:https://diversityins.com/event/lapeer-walmart-38/
CATEGORIES:Member
END:VEVENT
BEGIN:VEVENT
DTSTART;TZID=America/Detroit:20251110T090000
DTEND;TZID=America/Detroit:20251110T170000
DTSTAMP:20260425T092533
CREATED:20251022T163305Z
LAST-MODIFIED:20251022T195650Z
UID:2718-1762765200-1762794000@diversityins.com
SUMMARY:Hastings Walmart
DESCRIPTION:
URL:https://diversityins.com/event/hastings-walmart-38/
CATEGORIES:Member
END:VEVENT
BEGIN:VEVENT
DTSTART;TZID=America/Detroit:20251110T090000
DTEND;TZID=America/Detroit:20251110T160000
DTSTAMP:20260425T092533
CREATED:20251022T201518Z
LAST-MODIFIED:20251022T201518Z
UID:2895-1762765200-1762790400@diversityins.com
SUMMARY:Taylor Walmart
DESCRIPTION:
URL:https://diversityins.com/event/taylor-walmart-63/
CATEGORIES:Member
END:VEVENT
BEGIN:VEVENT
DTSTART;TZID=America/Detroit:20251110T090000
DTEND;TZID=America/Detroit:20251110T160000
DTSTAMP:20260425T092533
CREATED:20251022T201250Z
LAST-MODIFIED:20251022T201250Z
UID:2873-1762765200-1762790400@diversityins.com
SUMMARY:Jonesville Walmart
DESCRIPTION:
URL:https://diversityins.com/event/jonesville-walmart-49/
CATEGORIES:Member
END:VEVENT
BEGIN:VEVENT
DTSTART;TZID=America/Detroit:20251110T090000
DTEND;TZID=America/Detroit:20251110T160000
DTSTAMP:20260425T092533
CREATED:20251022T201049Z
LAST-MODIFIED:20251022T201049Z
UID:2852-1762765200-1762790400@diversityins.com
SUMMARY:Dearborn Walmart
DESCRIPTION:
URL:https://diversityins.com/event/dearborn-walmart-52/
CATEGORIES:Member
END:VEVENT
BEGIN:VEVENT
DTSTART;TZID=America/Detroit:20251110T090000
DTEND;TZID=America/Detroit:20251110T160000
DTSTAMP:20260425T092533
CREATED:20251022T200450Z
LAST-MODIFIED:20251022T200450Z
UID:2795-1762765200-1762790400@diversityins.com
SUMMARY:Livonia Walmart
DESCRIPTION:
URL:https://diversityins.com/event/livonia-walmart-65/
CATEGORIES:Member
END:VEVENT
BEGIN:VEVENT
DTSTART;TZID=America/Detroit:20251110T090000
DTEND;TZID=America/Detroit:20251110T160000
DTSTAMP:20260425T092533
CREATED:20251022T162919Z
LAST-MODIFIED:20251022T195450Z
UID:2699-1762765200-1762790400@diversityins.com
SUMMARY:Southgate Walmart
DESCRIPTION:
URL:https://diversityins.com/event/southgate-walmart-52/
CATEGORIES:Member
END:VEVENT
BEGIN:VEVENT
DTSTART;TZID=America/Detroit:20251110T090000
DTEND;TZID=America/Detroit:20251110T160000
DTSTAMP:20260425T092533
CREATED:20251022T162536Z
LAST-MODIFIED:20251022T195248Z
UID:2678-1762765200-1762790400@diversityins.com
SUMMARY:Burton Walmart
DESCRIPTION:
URL:https://diversityins.com/event/burton-walmart-50/
CATEGORIES:Member
END:VEVENT
BEGIN:VEVENT
DTSTART;TZID=America/Detroit:20251110T090000
DTEND;TZID=America/Detroit:20251110T153000
DTSTAMP:20260425T092533
CREATED:20251022T195848Z
LAST-MODIFIED:20251022T195848Z
UID:2735-1762765200-1762788600@diversityins.com
SUMMARY:Jackson Walmart
DESCRIPTION:
URL:https://diversityins.com/event/jackson-walmart-52/
CATEGORIES:Member
END:VEVENT
BEGIN:VEVENT
DTSTART;TZID=America/Detroit:20251109T120000
DTEND;TZID=America/Detroit:20251109T200000
DTSTAMP:20260425T092533
CREATED:20251022T201518Z
LAST-MODIFIED:20251022T201518Z
UID:2894-1762689600-1762718400@diversityins.com
SUMMARY:Taylor Walmart
DESCRIPTION:
URL:https://diversityins.com/event/taylor-walmart-62/
CATEGORIES:Member
END:VEVENT
BEGIN:VEVENT
DTSTART;TZID=America/Detroit:20251108T140000
DTEND;TZID=America/Detroit:20251108T210000
DTSTAMP:20260425T092533
CREATED:20251022T201450Z
LAST-MODIFIED:20251022T201450Z
UID:2893-1762610400-1762635600@diversityins.com
SUMMARY:Taylor Walmart
DESCRIPTION:
URL:https://diversityins.com/event/taylor-walmart-61/
CATEGORIES:Member
END:VEVENT
BEGIN:VEVENT
DTSTART;TZID=America/Detroit:20251108T110000
DTEND;TZID=America/Detroit:20251108T150000
DTSTAMP:20260425T092533
CREATED:20251022T200449Z
LAST-MODIFIED:20251022T200449Z
UID:2794-1762599600-1762614000@diversityins.com
SUMMARY:Livonia Walmart
DESCRIPTION:
URL:https://diversityins.com/event/livonia-walmart-64/
CATEGORIES:Member
END:VEVENT
BEGIN:VEVENT
DTSTART;TZID=America/Detroit:20251108T100000
DTEND;TZID=America/Detroit:20251108T150000
DTSTAMP:20260425T092533
CREATED:20251022T202310Z
LAST-MODIFIED:20251022T202310Z
UID:2937-1762596000-1762614000@diversityins.com
SUMMARY:Darien Walmart
DESCRIPTION:
URL:https://diversityins.com/event/darien-walmart-24/
CATEGORIES:Member
END:VEVENT
BEGIN:VEVENT
DTSTART;TZID=America/Detroit:20251108T100000
DTEND;TZID=America/Detroit:20251108T150000
DTSTAMP:20260425T092533
CREATED:20251022T163902Z
LAST-MODIFIED:20251022T195819Z
UID:2733-1762596000-1762614000@diversityins.com
SUMMARY:Jackson Walmart
DESCRIPTION:
URL:https://diversityins.com/event/jackson-walmart-51/
CATEGORIES:Member
END:VEVENT
BEGIN:VEVENT
DTSTART;TZID=America/Detroit:20251108T100000
DTEND;TZID=America/Detroit:20251108T140000
DTSTAMP:20260425T092533
CREATED:20251022T201249Z
LAST-MODIFIED:20251022T201249Z
UID:2872-1762596000-1762610400@diversityins.com
SUMMARY:Jonesville Walmart
DESCRIPTION:
URL:https://diversityins.com/event/jonesville-walmart-48/
CATEGORIES:Member
END:VEVENT
BEGIN:VEVENT
DTSTART;TZID=America/Detroit:20251108T100000
DTEND;TZID=America/Detroit:20251108T140000
DTSTAMP:20260425T092533
CREATED:20251022T201049Z
LAST-MODIFIED:20251022T201049Z
UID:2851-1762596000-1762610400@diversityins.com
SUMMARY:Dearborn Walmart
DESCRIPTION:
URL:https://diversityins.com/event/dearborn-walmart-51/
CATEGORIES:Member
END:VEVENT
BEGIN:VEVENT
DTSTART;TZID=America/Detroit:20251108T100000
DTEND;TZID=America/Detroit:20251108T140000
DTSTAMP:20260425T092533
CREATED:20251022T200717Z
LAST-MODIFIED:20251022T200717Z
UID:2816-1762596000-1762610400@diversityins.com
SUMMARY:Flint Walmart
DESCRIPTION:
URL:https://diversityins.com/event/flint-walmart-48/
CATEGORIES:Member
END:VEVENT
BEGIN:VEVENT
DTSTART;TZID=America/Detroit:20251108T100000
DTEND;TZID=America/Detroit:20251108T140000
DTSTAMP:20260425T092533
CREATED:20251022T162918Z
LAST-MODIFIED:20251022T195449Z
UID:2698-1762596000-1762610400@diversityins.com
SUMMARY:Southgate Walmart
DESCRIPTION:
URL:https://diversityins.com/event/southgate-walmart-51/
CATEGORIES:Member
END:VEVENT
BEGIN:VEVENT
DTSTART;TZID=America/Detroit:20251108T100000
DTEND;TZID=America/Detroit:20251108T140000
DTSTAMP:20260425T092533
CREATED:20251022T162536Z
LAST-MODIFIED:20251022T195247Z
UID:2677-1762596000-1762610400@diversityins.com
SUMMARY:Burton Walmart
DESCRIPTION:
URL:https://diversityins.com/event/burton-walmart-49/
CATEGORIES:Member
END:VEVENT
END:VCALENDAR