BEGIN:VCALENDAR
VERSION:2.0
PRODID:-//Diversity Insurance Agency - ECPv6.15.20//NONSGML v1.0//EN
CALSCALE:GREGORIAN
METHOD:PUBLISH
X-WR-CALNAME:Diversity Insurance Agency
X-ORIGINAL-URL:https://diversityins.com
X-WR-CALDESC:Events for Diversity Insurance Agency
REFRESH-INTERVAL;VALUE=DURATION:PT1H
X-Robots-Tag:noindex
X-PUBLISHED-TTL:PT1H
BEGIN:VTIMEZONE
TZID:America/Detroit
BEGIN:DAYLIGHT
TZOFFSETFROM:-0500
TZOFFSETTO:-0400
TZNAME:EDT
DTSTART:20240310T070000
END:DAYLIGHT
BEGIN:STANDARD
TZOFFSETFROM:-0400
TZOFFSETTO:-0500
TZNAME:EST
DTSTART:20241103T060000
END:STANDARD
BEGIN:DAYLIGHT
TZOFFSETFROM:-0500
TZOFFSETTO:-0400
TZNAME:EDT
DTSTART:20250309T070000
END:DAYLIGHT
BEGIN:STANDARD
TZOFFSETFROM:-0400
TZOFFSETTO:-0500
TZNAME:EST
DTSTART:20251102T060000
END:STANDARD
BEGIN:DAYLIGHT
TZOFFSETFROM:-0500
TZOFFSETTO:-0400
TZNAME:EDT
DTSTART:20260308T070000
END:DAYLIGHT
BEGIN:STANDARD
TZOFFSETFROM:-0400
TZOFFSETTO:-0500
TZNAME:EST
DTSTART:20261101T060000
END:STANDARD
END:VTIMEZONE
BEGIN:VEVENT
DTSTART;TZID=America/Detroit:20251027T090000
DTEND;TZID=America/Detroit:20251027T160000
DTSTAMP:20260425T121302
CREATED:20251008T165905Z
LAST-MODIFIED:20251008T183957Z
UID:2627-1761555600-1761580800@diversityins.com
SUMMARY:Taylor Walmart
DESCRIPTION:
URL:https://diversityins.com/event/taylor-walmart-50/
CATEGORIES:Member
END:VEVENT
BEGIN:VEVENT
DTSTART;TZID=America/Detroit:20251027T090000
DTEND;TZID=America/Detroit:20251027T160000
DTSTAMP:20260425T121302
CREATED:20251008T165631Z
LAST-MODIFIED:20251008T183524Z
UID:2579-1761555600-1761580800@diversityins.com
SUMMARY:Dearborn Walmart
DESCRIPTION:
URL:https://diversityins.com/event/dearborn-walmart-40/
CATEGORIES:Member
END:VEVENT
BEGIN:VEVENT
DTSTART;TZID=America/Detroit:20251027T090000
DTEND;TZID=America/Detroit:20251027T160000
DTSTAMP:20260425T121302
CREATED:20251008T165128Z
LAST-MODIFIED:20251008T182924Z
UID:2519-1761555600-1761580800@diversityins.com
SUMMARY:Livonia Walmart
DESCRIPTION:
URL:https://diversityins.com/event/livonia-walmart-51/
CATEGORIES:Member
END:VEVENT
BEGIN:VEVENT
DTSTART;TZID=America/Detroit:20251027T090000
DTEND;TZID=America/Detroit:20251027T160000
DTSTAMP:20260425T121302
CREATED:20251008T164457Z
LAST-MODIFIED:20251008T181946Z
UID:2429-1761555600-1761580800@diversityins.com
SUMMARY:Hastings Walmart
DESCRIPTION:
URL:https://diversityins.com/event/hastings-walmart-30/
CATEGORIES:Member
END:VEVENT
BEGIN:VEVENT
DTSTART;TZID=America/Detroit:20251027T090000
DTEND;TZID=America/Detroit:20251027T160000
DTSTAMP:20260425T121302
CREATED:20251008T164347Z
LAST-MODIFIED:20251008T181745Z
UID:2411-1761555600-1761580800@diversityins.com
SUMMARY:Southgate Walmart
DESCRIPTION:
URL:https://diversityins.com/event/southgate-walmart-40/
CATEGORIES:Member
END:VEVENT
BEGIN:VEVENT
DTSTART;TZID=America/Detroit:20251027T090000
DTEND;TZID=America/Detroit:20251027T160000
DTSTAMP:20260425T121302
CREATED:20251008T164256Z
LAST-MODIFIED:20251008T181323Z
UID:2389-1761555600-1761580800@diversityins.com
SUMMARY:Burton Walmart
DESCRIPTION:
URL:https://diversityins.com/event/burton-walmart-38/
CATEGORIES:Member
END:VEVENT
BEGIN:VEVENT
DTSTART;TZID=America/Detroit:20251027T090000
DTEND;TZID=America/Detroit:20251027T153000
DTSTAMP:20260425T121302
CREATED:20251008T164603Z
LAST-MODIFIED:20251008T182117Z
UID:2448-1761555600-1761579000@diversityins.com
SUMMARY:Jackson Walmart
DESCRIPTION:
URL:https://diversityins.com/event/jackson-walmart-41/
CATEGORIES:Member
END:VEVENT
BEGIN:VEVENT
DTSTART;TZID=America/Detroit:20251026T120000
DTEND;TZID=America/Detroit:20251026T200000
DTSTAMP:20260425T121302
CREATED:20251008T165904Z
LAST-MODIFIED:20251008T183956Z
UID:2626-1761480000-1761508800@diversityins.com
SUMMARY:Taylor Walmart
DESCRIPTION:
URL:https://diversityins.com/event/taylor-walmart-49/
CATEGORIES:Member
END:VEVENT
BEGIN:VEVENT
DTSTART;TZID=America/Detroit:20251026T110000
DTEND;TZID=America/Detroit:20251026T150000
DTSTAMP:20260425T121302
CREATED:20251008T165101Z
LAST-MODIFIED:20251008T182856Z
UID:2518-1761476400-1761490800@diversityins.com
SUMMARY:Livonia Walmart
DESCRIPTION:
URL:https://diversityins.com/event/livonia-walmart-50/
CATEGORIES:Member
END:VEVENT
BEGIN:VEVENT
DTSTART;TZID=America/Detroit:20251025T140000
DTEND;TZID=America/Detroit:20251025T210000
DTSTAMP:20260425T121302
CREATED:20251008T165902Z
LAST-MODIFIED:20251008T183956Z
UID:2625-1761400800-1761426000@diversityins.com
SUMMARY:Taylor Walmart
DESCRIPTION:
URL:https://diversityins.com/event/taylor-walmart-48/
CATEGORIES:Member
END:VEVENT
BEGIN:VEVENT
DTSTART;TZID=America/Detroit:20251025T100000
DTEND;TZID=America/Detroit:20251025T183000
DTSTAMP:20260425T121302
CREATED:20251008T170159Z
LAST-MODIFIED:20251008T184627Z
UID:2663-1761386400-1761417000@diversityins.com
SUMMARY:Darien Walmart
DESCRIPTION:
URL:https://diversityins.com/event/darien-walmart-15/
CATEGORIES:Member
END:VEVENT
BEGIN:VEVENT
DTSTART;TZID=America/Detroit:20251025T100000
DTEND;TZID=America/Detroit:20251025T180000
DTSTAMP:20260425T121302
CREATED:20251008T170119Z
LAST-MODIFIED:20251008T184226Z
UID:2653-1761386400-1761415200@diversityins.com
SUMMARY:Joliet Walmart
DESCRIPTION:
URL:https://diversityins.com/event/joliet-walmart-29/
CATEGORIES:Member
END:VEVENT
BEGIN:VEVENT
DTSTART;TZID=America/Detroit:20251025T100000
DTEND;TZID=America/Detroit:20251025T140000
DTSTAMP:20260425T121302
CREATED:20251008T165603Z
LAST-MODIFIED:20251008T183457Z
UID:2578-1761386400-1761400800@diversityins.com
SUMMARY:Dearborn Walmart
DESCRIPTION:
URL:https://diversityins.com/event/dearborn-walmart-39/
CATEGORIES:Member
END:VEVENT
BEGIN:VEVENT
DTSTART;TZID=America/Detroit:20251025T100000
DTEND;TZID=America/Detroit:20251025T140000
DTSTAMP:20260425T121302
CREATED:20251008T165302Z
LAST-MODIFIED:20251008T183125Z
UID:2541-1761386400-1761400800@diversityins.com
SUMMARY:Flint Walmart
DESCRIPTION:
URL:https://diversityins.com/event/flint-walmart-36/
CATEGORIES:Member
END:VEVENT
BEGIN:VEVENT
DTSTART;TZID=America/Detroit:20251025T100000
DTEND;TZID=America/Detroit:20251025T140000
DTSTAMP:20260425T121302
CREATED:20251008T165100Z
LAST-MODIFIED:20251008T182856Z
UID:2517-1761386400-1761400800@diversityins.com
SUMMARY:Livonia Walmart
DESCRIPTION:
URL:https://diversityins.com/event/livonia-walmart-49/
CATEGORIES:Member
END:VEVENT
BEGIN:VEVENT
DTSTART;TZID=America/Detroit:20251025T093000
DTEND;TZID=America/Detroit:20251025T160000
DTSTAMP:20260425T121302
CREATED:20251008T164729Z
LAST-MODIFIED:20251008T182346Z
UID:2470-1761384600-1761408000@diversityins.com
SUMMARY:Monroe Walmart
DESCRIPTION:
URL:https://diversityins.com/event/monroe-walmart-44/
CATEGORIES:Member
END:VEVENT
BEGIN:VEVENT
DTSTART;TZID=America/Detroit:20251025T080000
DTEND;TZID=America/Detroit:20251025T170000
DTSTAMP:20260425T121302
CREATED:20251008T164430Z
LAST-MODIFIED:20251008T181917Z
UID:2428-1761379200-1761411600@diversityins.com
SUMMARY:Hastings Walmart
DESCRIPTION:
URL:https://diversityins.com/event/hastings-walmart-29/
CATEGORIES:Member
END:VEVENT
BEGIN:VEVENT
DTSTART;TZID=America/Detroit:20251024T140000
DTEND;TZID=America/Detroit:20251024T170000
DTSTAMP:20260425T121302
CREATED:20251008T165059Z
LAST-MODIFIED:20251008T182855Z
UID:2515-1761314400-1761325200@diversityins.com
SUMMARY:Livonia Walmart
DESCRIPTION:
URL:https://diversityins.com/event/livonia-walmart-47/
CATEGORIES:Member
END:VEVENT
BEGIN:VEVENT
DTSTART;TZID=America/Detroit:20251024T100000
DTEND;TZID=America/Detroit:20251024T180000
DTSTAMP:20260425T121302
CREATED:20251008T170118Z
LAST-MODIFIED:20251008T184226Z
UID:2652-1761300000-1761328800@diversityins.com
SUMMARY:Joliet Walmart
DESCRIPTION:
URL:https://diversityins.com/event/joliet-walmart-28/
CATEGORIES:Member
END:VEVENT
BEGIN:VEVENT
DTSTART;TZID=America/Detroit:20251024T100000
DTEND;TZID=America/Detroit:20251024T160000
DTSTAMP:20260425T121302
CREATED:20251008T164859Z
LAST-MODIFIED:20251008T182547Z
UID:2491-1761300000-1761321600@diversityins.com
SUMMARY:West Branch Walmart
DESCRIPTION:
URL:https://diversityins.com/event/west-branch-walmart-41/
CATEGORIES:Member
END:VEVENT
BEGIN:VEVENT
DTSTART;TZID=America/Detroit:20251024T100000
DTEND;TZID=America/Detroit:20251024T140000
DTSTAMP:20260425T121302
CREATED:20251008T165059Z
LAST-MODIFIED:20251008T182856Z
UID:2516-1761300000-1761314400@diversityins.com
SUMMARY:Livonia Walmart
DESCRIPTION:
URL:https://diversityins.com/event/livonia-walmart-48/
CATEGORIES:Member
END:VEVENT
BEGIN:VEVENT
DTSTART;TZID=America/Detroit:20251024T093000
DTEND;TZID=America/Detroit:20251024T160000
DTSTAMP:20260425T121302
CREATED:20251008T164728Z
LAST-MODIFIED:20251008T182345Z
UID:2469-1761298200-1761321600@diversityins.com
SUMMARY:Monroe Walmart
DESCRIPTION:
URL:https://diversityins.com/event/monroe-walmart-43/
CATEGORIES:Member
END:VEVENT
BEGIN:VEVENT
DTSTART;TZID=America/Detroit:20251024T090000
DTEND;TZID=America/Detroit:20251024T160000
DTSTAMP:20260425T121302
CREATED:20251008T165901Z
LAST-MODIFIED:20251008T183955Z
UID:2624-1761296400-1761321600@diversityins.com
SUMMARY:Taylor Walmart
DESCRIPTION:
URL:https://diversityins.com/event/taylor-walmart-47/
CATEGORIES:Member
END:VEVENT
BEGIN:VEVENT
DTSTART;TZID=America/Detroit:20251024T090000
DTEND;TZID=America/Detroit:20251024T160000
DTSTAMP:20260425T121302
CREATED:20251008T165737Z
LAST-MODIFIED:20251008T183725Z
UID:2600-1761296400-1761321600@diversityins.com
SUMMARY:Jonesville Walmart
DESCRIPTION:
URL:https://diversityins.com/event/jonesville-walmart-37/
CATEGORIES:Member
END:VEVENT
BEGIN:VEVENT
DTSTART;TZID=America/Detroit:20251024T090000
DTEND;TZID=America/Detroit:20251024T160000
DTSTAMP:20260425T121302
CREATED:20251008T165603Z
LAST-MODIFIED:20251008T183456Z
UID:2577-1761296400-1761321600@diversityins.com
SUMMARY:Dearborn Walmart
DESCRIPTION:
URL:https://diversityins.com/event/dearborn-walmart-38/
CATEGORIES:Member
END:VEVENT
BEGIN:VEVENT
DTSTART;TZID=America/Detroit:20251024T090000
DTEND;TZID=America/Detroit:20251024T160000
DTSTAMP:20260425T121302
CREATED:20251008T165302Z
LAST-MODIFIED:20251008T183125Z
UID:2540-1761296400-1761321600@diversityins.com
SUMMARY:Flint Walmart
DESCRIPTION:
URL:https://diversityins.com/event/flint-walmart-35/
CATEGORIES:Member
END:VEVENT
BEGIN:VEVENT
DTSTART;TZID=America/Detroit:20251024T090000
DTEND;TZID=America/Detroit:20251024T160000
DTSTAMP:20260425T121302
CREATED:20251008T164347Z
LAST-MODIFIED:20251008T181745Z
UID:2410-1761296400-1761321600@diversityins.com
SUMMARY:Southgate Walmart
DESCRIPTION:
URL:https://diversityins.com/event/southgate-walmart-39/
CATEGORIES:Member
END:VEVENT
BEGIN:VEVENT
DTSTART;TZID=America/Detroit:20251024T090000
DTEND;TZID=America/Detroit:20251024T160000
DTSTAMP:20260425T121302
CREATED:20251008T164252Z
LAST-MODIFIED:20251008T181254Z
UID:2388-1761296400-1761321600@diversityins.com
SUMMARY:Burton Walmart
DESCRIPTION:
URL:https://diversityins.com/event/burton-walmart-37/
CATEGORIES:Member
END:VEVENT
BEGIN:VEVENT
DTSTART;TZID=America/Detroit:20251024T090000
DTEND;TZID=America/Detroit:20251024T153000
DTSTAMP:20260425T121302
CREATED:20251008T164602Z
LAST-MODIFIED:20251008T182116Z
UID:2447-1761296400-1761319800@diversityins.com
SUMMARY:Jackson Walmart
DESCRIPTION:
URL:https://diversityins.com/event/jackson-walmart-40/
CATEGORIES:Member
END:VEVENT
BEGIN:VEVENT
DTSTART;TZID=America/Detroit:20251024T080000
DTEND;TZID=America/Detroit:20251024T180000
DTSTAMP:20260425T121302
CREATED:20251008T170018Z
LAST-MODIFIED:20251008T184125Z
UID:2641-1761292800-1761328800@diversityins.com
SUMMARY:Country Club Hills Walmart
DESCRIPTION:
URL:https://diversityins.com/event/country-club-hills-walmart-19/
CATEGORIES:Member
END:VEVENT
END:VCALENDAR