BEGIN:VCALENDAR
VERSION:2.0
PRODID:-//Diversity Insurance Agency - ECPv6.15.20//NONSGML v1.0//EN
CALSCALE:GREGORIAN
METHOD:PUBLISH
X-WR-CALNAME:Diversity Insurance Agency
X-ORIGINAL-URL:https://diversityins.com
X-WR-CALDESC:Events for Diversity Insurance Agency
REFRESH-INTERVAL;VALUE=DURATION:PT1H
X-Robots-Tag:noindex
X-PUBLISHED-TTL:PT1H
BEGIN:VTIMEZONE
TZID:America/Detroit
BEGIN:DAYLIGHT
TZOFFSETFROM:-0500
TZOFFSETTO:-0400
TZNAME:EDT
DTSTART:20250309T070000
END:DAYLIGHT
BEGIN:STANDARD
TZOFFSETFROM:-0400
TZOFFSETTO:-0500
TZNAME:EST
DTSTART:20251102T060000
END:STANDARD
BEGIN:DAYLIGHT
TZOFFSETFROM:-0500
TZOFFSETTO:-0400
TZNAME:EDT
DTSTART:20260308T070000
END:DAYLIGHT
BEGIN:STANDARD
TZOFFSETFROM:-0400
TZOFFSETTO:-0500
TZNAME:EST
DTSTART:20261101T060000
END:STANDARD
BEGIN:DAYLIGHT
TZOFFSETFROM:-0500
TZOFFSETTO:-0400
TZNAME:EDT
DTSTART:20270314T070000
END:DAYLIGHT
BEGIN:STANDARD
TZOFFSETFROM:-0400
TZOFFSETTO:-0500
TZNAME:EST
DTSTART:20271107T060000
END:STANDARD
END:VTIMEZONE
BEGIN:VEVENT
DTSTART;TZID=America/Detroit:20260201T110000
DTEND;TZID=America/Detroit:20260201T150000
DTSTAMP:20260424T065740
CREATED:20260128T181035Z
LAST-MODIFIED:20260209T194712Z
UID:3659-1769943600-1769958000@diversityins.com
SUMMARY:Taylor Walmart
DESCRIPTION:Have questions about Medicare or ACA plans? Visit our kiosk near the front entrance of Walmart during our scheduled hours. We’re happy to help!
URL:https://diversityins.com/event/taylor-walmart-123/
CATEGORIES:Member
END:VEVENT
BEGIN:VEVENT
DTSTART;TZID=America/Detroit:20260202T090000
DTEND;TZID=America/Detroit:20260202T160000
DTSTAMP:20260424T065740
CREATED:20260128T175502Z
LAST-MODIFIED:20260209T181038Z
UID:3567-1770022800-1770048000@diversityins.com
SUMMARY:West Branch Walmart
DESCRIPTION:Have questions about Medicare or ACA plans? Visit our kiosk near the front entrance of Walmart during our scheduled hours. We’re happy to help!
URL:https://diversityins.com/event/west-branch-walmart-86/
CATEGORIES:Member
END:VEVENT
BEGIN:VEVENT
DTSTART;TZID=America/Detroit:20260202T090000
DTEND;TZID=America/Detroit:20260202T163000
DTSTAMP:20260424T065740
CREATED:20260128T181836Z
LAST-MODIFIED:20260209T200729Z
UID:3713-1770022800-1770049800@diversityins.com
SUMMARY:Darien Walmart
DESCRIPTION:Have questions about Medicare or ACA plans? Visit our kiosk near the front entrance of Walmart during our scheduled hours. We’re happy to help!
URL:https://diversityins.com/event/darien-walmart-75/
CATEGORIES:Member
END:VEVENT
BEGIN:VEVENT
DTSTART;TZID=America/Detroit:20260202T090000
DTEND;TZID=America/Detroit:20260202T190000
DTSTAMP:20260424T065740
CREATED:20260128T181553Z
LAST-MODIFIED:20260209T200120Z
UID:3689-1770022800-1770058800@diversityins.com
SUMMARY:Country Club Hills Walmart
DESCRIPTION:Have questions about Medicare or ACA plans? Visit our kiosk near the front entrance of Walmart during our scheduled hours. We’re happy to help!
URL:https://diversityins.com/event/country-club-hills-walmart-62/
CATEGORIES:Member
END:VEVENT
BEGIN:VEVENT
DTSTART;TZID=America/Detroit:20260202T093000
DTEND;TZID=America/Detroit:20260202T143000
DTSTAMP:20260424T065740
CREATED:20260128T175105Z
LAST-MODIFIED:20260209T175749Z
UID:3535-1770024600-1770042600@diversityins.com
SUMMARY:Jackson Walmart
DESCRIPTION:Have questions about Medicare or ACA plans? Visit our kiosk near the front entrance of Walmart during our scheduled hours. We’re happy to help!
URL:https://diversityins.com/event/jackson-walmart-110/
CATEGORIES:Member
END:VEVENT
BEGIN:VEVENT
DTSTART;TZID=America/Detroit:20260202T093000
DTEND;TZID=America/Detroit:20260202T143000
DTSTAMP:20260424T065740
CREATED:20260128T175305Z
LAST-MODIFIED:20260209T180237Z
UID:3551-1770024600-1770042600@diversityins.com
SUMMARY:Monroe Walmart
DESCRIPTION:Have questions about Medicare or ACA plans? Visit our kiosk near the front entrance of Walmart during our scheduled hours. We’re happy to help!
URL:https://diversityins.com/event/monroe-walmart-98/
CATEGORIES:Member
END:VEVENT
BEGIN:VEVENT
DTSTART;TZID=America/Detroit:20260202T100000
DTEND;TZID=America/Detroit:20260202T150000
DTSTAMP:20260424T065740
CREATED:20260128T173920Z
LAST-MODIFIED:20260209T174740Z
UID:3487-1770026400-1770044400@diversityins.com
SUMMARY:Burton Walmart
DESCRIPTION:Have questions about Medicare or ACA plans? Visit our kiosk near the front entrance of Walmart during our scheduled hours. We’re happy to help!
URL:https://diversityins.com/event/burton-walmart-122/
CATEGORIES:Member
END:VEVENT
BEGIN:VEVENT
DTSTART;TZID=America/Detroit:20260202T100000
DTEND;TZID=America/Detroit:20260202T150000
DTSTAMP:20260424T065740
CREATED:20260128T175954Z
LAST-MODIFIED:20260209T184051Z
UID:3587-1770026400-1770044400@diversityins.com
SUMMARY:Livonia Walmart
DESCRIPTION:Have questions about Medicare or ACA plans? Visit our kiosk near the front entrance of Walmart during our scheduled hours. We’re happy to help!
URL:https://diversityins.com/event/livonia-walmart-119/
CATEGORIES:Member
END:VEVENT
BEGIN:VEVENT
DTSTART;TZID=America/Detroit:20260202T100000
DTEND;TZID=America/Detroit:20260202T150000
DTSTAMP:20260424T065740
CREATED:20260128T180253Z
LAST-MODIFIED:20260209T185141Z
UID:3611-1770026400-1770044400@diversityins.com
SUMMARY:Flint Walmart
DESCRIPTION:Have questions about Medicare or ACA plans? Visit our kiosk near the front entrance of Walmart during our scheduled hours. We’re happy to help!
URL:https://diversityins.com/event/flint-walmart-117/
CATEGORIES:Member
END:VEVENT
BEGIN:VEVENT
DTSTART;TZID=America/Detroit:20260202T100000
DTEND;TZID=America/Detroit:20260202T150000
DTSTAMP:20260424T065740
CREATED:20260128T180717Z
LAST-MODIFIED:20260209T190012Z
UID:3635-1770026400-1770044400@diversityins.com
SUMMARY:Dearborn Walmart
DESCRIPTION:Have questions about Medicare or ACA plans? Visit our kiosk near the front entrance of Walmart during our scheduled hours. We’re happy to help!
URL:https://diversityins.com/event/dearborn-walmart-126/
CATEGORIES:Member
END:VEVENT
BEGIN:VEVENT
DTSTART;TZID=America/Detroit:20260202T100000
DTEND;TZID=America/Detroit:20260202T150000
DTSTAMP:20260424T065740
CREATED:20260128T181036Z
LAST-MODIFIED:20260209T194712Z
UID:3660-1770026400-1770044400@diversityins.com
SUMMARY:Taylor Walmart
DESCRIPTION:Have questions about Medicare or ACA plans? Visit our kiosk near the front entrance of Walmart during our scheduled hours. We’re happy to help!
URL:https://diversityins.com/event/taylor-walmart-124/
CATEGORIES:Member
END:VEVENT
BEGIN:VEVENT
DTSTART;TZID=America/Detroit:20260202T150000
DTEND;TZID=America/Detroit:20260202T150000
DTSTAMP:20260424T065740
CREATED:20260128T174059Z
LAST-MODIFIED:20260209T175002Z
UID:3511-1770044400-1770044400@diversityins.com
SUMMARY:Southgate Walmart
DESCRIPTION:Have questions about Medicare or ACA plans? Visit our kiosk near the front entrance of Walmart during our scheduled hours. We’re happy to help!
URL:https://diversityins.com/event/southgate-walmart-102/
CATEGORIES:Member
END:VEVENT
BEGIN:VEVENT
DTSTART;TZID=America/Detroit:20260203T090000
DTEND;TZID=America/Detroit:20260203T160000
DTSTAMP:20260424T065740
CREATED:20260128T175503Z
LAST-MODIFIED:20260209T181038Z
UID:3568-1770109200-1770134400@diversityins.com
SUMMARY:West Branch Walmart
DESCRIPTION:Have questions about Medicare or ACA plans? Visit our kiosk near the front entrance of Walmart during our scheduled hours. We’re happy to help!
URL:https://diversityins.com/event/west-branch-walmart-93/
CATEGORIES:Member
END:VEVENT
BEGIN:VEVENT
DTSTART;TZID=America/Detroit:20260203T090000
DTEND;TZID=America/Detroit:20260203T163000
DTSTAMP:20260424T065740
CREATED:20260128T181837Z
LAST-MODIFIED:20260209T200730Z
UID:3714-1770109200-1770136200@diversityins.com
SUMMARY:Darien Walmart
DESCRIPTION:Have questions about Medicare or ACA plans? Visit our kiosk near the front entrance of Walmart during our scheduled hours. We’re happy to help!
URL:https://diversityins.com/event/darien-walmart-76/
CATEGORIES:Member
END:VEVENT
BEGIN:VEVENT
DTSTART;TZID=America/Detroit:20260203T090000
DTEND;TZID=America/Detroit:20260203T170000
DTSTAMP:20260424T065740
CREATED:20260128T181554Z
LAST-MODIFIED:20260209T200120Z
UID:3690-1770109200-1770138000@diversityins.com
SUMMARY:Country Club Hills Walmart
DESCRIPTION:Have questions about Medicare or ACA plans? Visit our kiosk near the front entrance of Walmart during our scheduled hours. We’re happy to help!
URL:https://diversityins.com/event/country-club-hills-walmart-63/
CATEGORIES:Member
END:VEVENT
BEGIN:VEVENT
DTSTART;TZID=America/Detroit:20260203T093000
DTEND;TZID=America/Detroit:20260203T143000
DTSTAMP:20260424T065740
CREATED:20260128T175105Z
LAST-MODIFIED:20260209T175750Z
UID:3536-1770111000-1770129000@diversityins.com
SUMMARY:Jackson Walmart
DESCRIPTION:Have questions about Medicare or ACA plans? Visit our kiosk near the front entrance of Walmart during our scheduled hours. We’re happy to help!
URL:https://diversityins.com/event/jackson-walmart-111/
CATEGORIES:Member
END:VEVENT
BEGIN:VEVENT
DTSTART;TZID=America/Detroit:20260203T093000
DTEND;TZID=America/Detroit:20260203T143000
DTSTAMP:20260424T065740
CREATED:20260128T175332Z
LAST-MODIFIED:20260209T180437Z
UID:3552-1770111000-1770129000@diversityins.com
SUMMARY:Monroe Walmart
DESCRIPTION:Have questions about Medicare or ACA plans? Visit our kiosk near the front entrance of Walmart during our scheduled hours. We’re happy to help!
URL:https://diversityins.com/event/monroe-walmart-99/
CATEGORIES:Member
END:VEVENT
BEGIN:VEVENT
DTSTART;TZID=America/Detroit:20260203T100000
DTEND;TZID=America/Detroit:20260203T150000
DTSTAMP:20260424T065740
CREATED:20260128T173921Z
LAST-MODIFIED:20260209T174740Z
UID:3488-1770112800-1770130800@diversityins.com
SUMMARY:Burton Walmart
DESCRIPTION:Have questions about Medicare or ACA plans? Visit our kiosk near the front entrance of Walmart during our scheduled hours. We’re happy to help!
URL:https://diversityins.com/event/burton-walmart-123/
CATEGORIES:Member
END:VEVENT
BEGIN:VEVENT
DTSTART;TZID=America/Detroit:20260203T100000
DTEND;TZID=America/Detroit:20260203T150000
DTSTAMP:20260424T065740
CREATED:20260128T175955Z
LAST-MODIFIED:20260209T184052Z
UID:3588-1770112800-1770130800@diversityins.com
SUMMARY:Livonia Walmart
DESCRIPTION:Have questions about Medicare or ACA plans? Visit our kiosk near the front entrance of Walmart during our scheduled hours. We’re happy to help!
URL:https://diversityins.com/event/livonia-walmart-130/
CATEGORIES:Member
END:VEVENT
BEGIN:VEVENT
DTSTART;TZID=America/Detroit:20260203T100000
DTEND;TZID=America/Detroit:20260203T150000
DTSTAMP:20260424T065740
CREATED:20260128T180320Z
LAST-MODIFIED:20260209T185340Z
UID:3612-1770112800-1770130800@diversityins.com
SUMMARY:Flint Walmart
DESCRIPTION:Have questions about Medicare or ACA plans? Visit our kiosk near the front entrance of Walmart during our scheduled hours. We’re happy to help!
URL:https://diversityins.com/event/flint-walmart-118/
CATEGORIES:Member
END:VEVENT
BEGIN:VEVENT
DTSTART;TZID=America/Detroit:20260203T100000
DTEND;TZID=America/Detroit:20260203T150000
DTSTAMP:20260424T065740
CREATED:20260128T180718Z
LAST-MODIFIED:20260209T190013Z
UID:3636-1770112800-1770130800@diversityins.com
SUMMARY:Dearborn Walmart
DESCRIPTION:Have questions about Medicare or ACA plans? Visit our kiosk near the front entrance of Walmart during our scheduled hours. We’re happy to help!
URL:https://diversityins.com/event/dearborn-walmart-127/
CATEGORIES:Member
END:VEVENT
BEGIN:VEVENT
DTSTART;TZID=America/Detroit:20260203T100000
DTEND;TZID=America/Detroit:20260203T150000
DTSTAMP:20260424T065740
CREATED:20260128T181036Z
LAST-MODIFIED:20260209T194713Z
UID:3661-1770112800-1770130800@diversityins.com
SUMMARY:Taylor Walmart
DESCRIPTION:Have questions about Medicare or ACA plans? Visit our kiosk near the front entrance of Walmart during our scheduled hours. We’re happy to help!
URL:https://diversityins.com/event/taylor-walmart-125/
CATEGORIES:Member
END:VEVENT
BEGIN:VEVENT
DTSTART;TZID=America/Detroit:20260203T150000
DTEND;TZID=America/Detroit:20260203T150000
DTSTAMP:20260424T065740
CREATED:20260128T174257Z
LAST-MODIFIED:20260209T175119Z
UID:3512-1770130800-1770130800@diversityins.com
SUMMARY:Southgate Walmart
DESCRIPTION:Have questions about Medicare or ACA plans? Visit our kiosk near the front entrance of Walmart during our scheduled hours. We’re happy to help!
URL:https://diversityins.com/event/southgate-walmart-103/
CATEGORIES:Member
END:VEVENT
BEGIN:VEVENT
DTSTART;TZID=America/Detroit:20260204T090000
DTEND;TZID=America/Detroit:20260204T160000
DTSTAMP:20260424T065740
CREATED:20260128T175504Z
LAST-MODIFIED:20260209T181039Z
UID:3569-1770195600-1770220800@diversityins.com
SUMMARY:West Branch Walmart
DESCRIPTION:Have questions about Medicare or ACA plans? Visit our kiosk near the front entrance of Walmart during our scheduled hours. We’re happy to help!
URL:https://diversityins.com/event/west-branch-walmart-94/
CATEGORIES:Member
END:VEVENT
BEGIN:VEVENT
DTSTART;TZID=America/Detroit:20260204T090000
DTEND;TZID=America/Detroit:20260204T170000
DTSTAMP:20260424T065740
CREATED:20260128T181554Z
LAST-MODIFIED:20260209T200121Z
UID:3691-1770195600-1770224400@diversityins.com
SUMMARY:Country Club Hills Walmart
DESCRIPTION:Have questions about Medicare or ACA plans? Visit our kiosk near the front entrance of Walmart during our scheduled hours. We’re happy to help!
URL:https://diversityins.com/event/country-club-hills-walmart-64/
CATEGORIES:Member
END:VEVENT
BEGIN:VEVENT
DTSTART;TZID=America/Detroit:20260204T090000
DTEND;TZID=America/Detroit:20260204T173000
DTSTAMP:20260424T065740
CREATED:20260128T181837Z
LAST-MODIFIED:20260209T200730Z
UID:3715-1770195600-1770226200@diversityins.com
SUMMARY:Darien Walmart
DESCRIPTION:Have questions about Medicare or ACA plans? Visit our kiosk near the front entrance of Walmart during our scheduled hours. We’re happy to help!
URL:https://diversityins.com/event/darien-walmart-77/
CATEGORIES:Member
END:VEVENT
BEGIN:VEVENT
DTSTART;TZID=America/Detroit:20260204T093000
DTEND;TZID=America/Detroit:20260204T143000
DTSTAMP:20260424T065740
CREATED:20260128T175202Z
LAST-MODIFIED:20260209T175949Z
UID:3537-1770197400-1770215400@diversityins.com
SUMMARY:Jackson Walmart
DESCRIPTION:Have questions about Medicare or ACA plans? Visit our kiosk near the front entrance of Walmart during our scheduled hours. We’re happy to help!
URL:https://diversityins.com/event/jackson-walmart-112/
CATEGORIES:Member
END:VEVENT
BEGIN:VEVENT
DTSTART;TZID=America/Detroit:20260204T093000
DTEND;TZID=America/Detroit:20260204T143000
DTSTAMP:20260424T065740
CREATED:20260128T175333Z
LAST-MODIFIED:20260209T180437Z
UID:3553-1770197400-1770215400@diversityins.com
SUMMARY:Monroe Walmart
DESCRIPTION:Have questions about Medicare or ACA plans? Visit our kiosk near the front entrance of Walmart during our scheduled hours. We’re happy to help!
URL:https://diversityins.com/event/monroe-walmart-100/
CATEGORIES:Member
END:VEVENT
BEGIN:VEVENT
DTSTART;TZID=America/Detroit:20260204T100000
DTEND;TZID=America/Detroit:20260204T140000
DTSTAMP:20260424T065740
CREATED:20260128T180749Z
LAST-MODIFIED:20260209T190211Z
UID:3637-1770199200-1770213600@diversityins.com
SUMMARY:Dearborn Walmart
DESCRIPTION:Have questions about Medicare or ACA plans? Visit our kiosk near the front entrance of Walmart during our scheduled hours. We’re happy to help!
URL:https://diversityins.com/event/dearborn-walmart-128/
CATEGORIES:Member
END:VEVENT
BEGIN:VEVENT
DTSTART;TZID=America/Detroit:20260204T100000
DTEND;TZID=America/Detroit:20260204T140000
DTSTAMP:20260424T065740
CREATED:20260128T181103Z
LAST-MODIFIED:20260209T194914Z
UID:3662-1770199200-1770213600@diversityins.com
SUMMARY:Taylor Walmart
DESCRIPTION:Have questions about Medicare or ACA plans? Visit our kiosk near the front entrance of Walmart during our scheduled hours. We’re happy to help!
URL:https://diversityins.com/event/taylor-walmart-126/
CATEGORIES:Member
END:VEVENT
END:VCALENDAR