BEGIN:VCALENDAR
VERSION:2.0
PRODID:-//Diversity Insurance Agency - ECPv6.15.20//NONSGML v1.0//EN
CALSCALE:GREGORIAN
METHOD:PUBLISH
X-ORIGINAL-URL:https://diversityins.com
X-WR-CALDESC:Events for Diversity Insurance Agency
REFRESH-INTERVAL;VALUE=DURATION:PT1H
X-Robots-Tag:noindex
X-PUBLISHED-TTL:PT1H
BEGIN:VTIMEZONE
TZID:America/Detroit
BEGIN:DAYLIGHT
TZOFFSETFROM:-0500
TZOFFSETTO:-0400
TZNAME:EDT
DTSTART:20210314T070000
END:DAYLIGHT
BEGIN:STANDARD
TZOFFSETFROM:-0400
TZOFFSETTO:-0500
TZNAME:EST
DTSTART:20211107T060000
END:STANDARD
BEGIN:DAYLIGHT
TZOFFSETFROM:-0500
TZOFFSETTO:-0400
TZNAME:EDT
DTSTART:20220313T070000
END:DAYLIGHT
BEGIN:STANDARD
TZOFFSETFROM:-0400
TZOFFSETTO:-0500
TZNAME:EST
DTSTART:20221106T060000
END:STANDARD
BEGIN:DAYLIGHT
TZOFFSETFROM:-0500
TZOFFSETTO:-0400
TZNAME:EDT
DTSTART:20230312T070000
END:DAYLIGHT
BEGIN:STANDARD
TZOFFSETFROM:-0400
TZOFFSETTO:-0500
TZNAME:EST
DTSTART:20231105T060000
END:STANDARD
END:VTIMEZONE
BEGIN:VEVENT
DTSTART;TZID=America/Detroit:20220428T100000
DTEND;TZID=America/Detroit:20220428T160000
DTSTAMP:20260425T072848
CREATED:20220423T004035Z
LAST-MODIFIED:20220423T005125Z
UID:1458-1651140000-1651161600@diversityins.com
SUMMARY:More from your Medicare
DESCRIPTION:
URL:https://diversityins.com/event/more-from-your-medicare-52/
LOCATION:CVS – West McNichols\, 10011 West McNichols Road\, Detroit\, MI\, United States
CATEGORIES:Member
END:VEVENT
BEGIN:VEVENT
DTSTART;TZID=America/Detroit:20220427T100000
DTEND;TZID=America/Detroit:20220427T160000
DTSTAMP:20260425T072848
CREATED:20220423T014153Z
LAST-MODIFIED:20220423T014204Z
UID:1494-1651053600-1651075200@diversityins.com
SUMMARY:More from your Medicare
DESCRIPTION:
URL:https://diversityins.com/event/more-from-your-medicare-63/
LOCATION:CVS – West McNichols\, 10011 West McNichols Road\, Detroit\, MI\, United States
CATEGORIES:Member
END:VEVENT
BEGIN:VEVENT
DTSTART;TZID=America/Detroit:20220421T100000
DTEND;TZID=America/Detroit:20220421T160000
DTSTAMP:20260425T072848
CREATED:20220423T003652Z
LAST-MODIFIED:20220423T005105Z
UID:1451-1650535200-1650556800@diversityins.com
SUMMARY:More from your Medicare
DESCRIPTION:
URL:https://diversityins.com/event/more-from-your-medicare-48/
LOCATION:CVS – West McNichols\, 10011 West McNichols Road\, Detroit\, MI\, United States
CATEGORIES:Member
END:VEVENT
BEGIN:VEVENT
DTSTART;TZID=America/Detroit:20220413T100000
DTEND;TZID=America/Detroit:20220413T160000
DTSTAMP:20260425T072848
CREATED:20220422T215239Z
LAST-MODIFIED:20220422T215239Z
UID:1415-1649844000-1649865600@diversityins.com
SUMMARY:More from your Medicare
DESCRIPTION:
URL:https://diversityins.com/event/more-from-your-medicare-30/
LOCATION:CVS – West McNichols\, 10011 West McNichols Road\, Detroit\, MI\, United States
CATEGORIES:Member
END:VEVENT
BEGIN:VEVENT
DTSTART;TZID=America/Detroit:20220401T100000
DTEND;TZID=America/Detroit:20220401T160000
DTSTAMP:20260425T072848
CREATED:20220422T212839Z
LAST-MODIFIED:20220422T212839Z
UID:1365-1648807200-1648828800@diversityins.com
SUMMARY:More from your Medicare
DESCRIPTION:
URL:https://diversityins.com/event/more-from-your-medicare-5/
LOCATION:CVS – West McNichols\, 10011 West McNichols Road\, Detroit\, MI\, United States
CATEGORIES:Member
END:VEVENT
END:VCALENDAR