BEGIN:VCALENDAR
VERSION:2.0
PRODID:-//Diversity Insurance Agency - ECPv6.15.20//NONSGML v1.0//EN
CALSCALE:GREGORIAN
METHOD:PUBLISH
X-ORIGINAL-URL:https://diversityins.com
X-WR-CALDESC:Events for Diversity Insurance Agency
REFRESH-INTERVAL;VALUE=DURATION:PT1H
X-Robots-Tag:noindex
X-PUBLISHED-TTL:PT1H
BEGIN:VTIMEZONE
TZID:America/Detroit
BEGIN:DAYLIGHT
TZOFFSETFROM:-0500
TZOFFSETTO:-0400
TZNAME:EDT
DTSTART:20210314T070000
END:DAYLIGHT
BEGIN:STANDARD
TZOFFSETFROM:-0400
TZOFFSETTO:-0500
TZNAME:EST
DTSTART:20211107T060000
END:STANDARD
BEGIN:DAYLIGHT
TZOFFSETFROM:-0500
TZOFFSETTO:-0400
TZNAME:EDT
DTSTART:20220313T070000
END:DAYLIGHT
BEGIN:STANDARD
TZOFFSETFROM:-0400
TZOFFSETTO:-0500
TZNAME:EST
DTSTART:20221106T060000
END:STANDARD
BEGIN:DAYLIGHT
TZOFFSETFROM:-0500
TZOFFSETTO:-0400
TZNAME:EDT
DTSTART:20230312T070000
END:DAYLIGHT
BEGIN:STANDARD
TZOFFSETFROM:-0400
TZOFFSETTO:-0500
TZNAME:EST
DTSTART:20231105T060000
END:STANDARD
END:VTIMEZONE
BEGIN:VEVENT
DTSTART;TZID=America/Detroit:20220427T100000
DTEND;TZID=America/Detroit:20220427T140000
DTSTAMP:20260425T120823
CREATED:20220423T014555Z
LAST-MODIFIED:20220423T014555Z
UID:1509-1651053600-1651068000@diversityins.com
SUMMARY:More from your Medicare
DESCRIPTION:
URL:https://diversityins.com/event/more-from-your-medicare-70/
LOCATION:OSH – Woodward\, 14507 Woodward Ave\, Highland Park\, MI\, United States
CATEGORIES:Member
END:VEVENT
BEGIN:VEVENT
DTSTART;TZID=America/Detroit:20220413T100000
DTEND;TZID=America/Detroit:20220413T140000
DTSTAMP:20260425T120823
CREATED:20220422T215511Z
LAST-MODIFIED:20220422T215511Z
UID:1421-1649844000-1649858400@diversityins.com
SUMMARY:More from your Medicare
DESCRIPTION:
URL:https://diversityins.com/event/more-from-your-medicare-33/
LOCATION:OSH – Woodward\, 14507 Woodward Ave\, Highland Park\, MI\, United States
CATEGORIES:Member
END:VEVENT
BEGIN:VEVENT
DTSTART;TZID=America/Detroit:20220406T100000
DTEND;TZID=America/Detroit:20220406T140000
DTSTAMP:20260425T120823
CREATED:20220422T214414Z
LAST-MODIFIED:20220422T214414Z
UID:1389-1649239200-1649253600@diversityins.com
SUMMARY:More from your Medicare
DESCRIPTION:
URL:https://diversityins.com/event/more-from-your-medicare-17/
LOCATION:OSH – Woodward\, 14507 Woodward Ave\, Highland Park\, MI\, United States
CATEGORIES:Member
END:VEVENT
END:VCALENDAR